Workbook

Sheet CU 
A1: ='[2]danfoss,sagi'!$A$5 -> DATE :28.9.26
A8: ='[2]CU '!A8 -> ITEM CODE | B8: ='[2]CU '!B8 -> MODEL CONDENSER | C8: ='[2]CU '!C8 -> BRAND | D8: ='[2]CU '!D8 -> H/P | E8: ='[2]CU '!E8 -> DIMENSION LxWxH | F8: ='[2]CU '!F8 -> FAN SETS | G8: ='[2]CU '!G8 -> RECEIVER TANK | H8: ='[2]CU '!H8 -> Compressor to match | I8: ='[2]CU '!$I8 -> roll | J8: ='[2]CU '!Q8 -> (RM) condenser only | K8: ='[2]CU '!U8 -> (RM) c/w set axial fan sets | L8: ='[2]CU '!Y8 -> (RM) HEAVY DUTY FAN | M8: PIC
A9: ='[2]CU '!A9 -> CU001 | B9: ='[2]CU '!B9 -> CU - 15 QC | C9: 9FPI INLET GROOVE FIN CONDENSER COIL COMPLETE SET C/W AXIAL FAN SETS, RECEIVER TANK & IRON BASE | D9: ='[2]CU '!D9 -> 1.5hp | E9: ='[2]CU '!E9 -> 440x170x425 | F9: ='[2]CU '!F9 -> 1 x 14 | G9: ='[2]CU '!G9 -> CR-101-3 ,RT-2 | H9: ='[2]CU '!H9 -> 0 | I9: ='[2]CU '!$I9 -> 3*16 | J9: ='[2]CU '!Q9 -> 399.6538 | K9: ='[2]CU '!U9 -> 794.64232 | L9: ='[2]CU '!Y9 -> ~
A10: ='[2]CU '!A10 -> CU002 | B10: ='[2]CU '!B10 -> CU - 22 QC | D10: ='[2]CU '!D10 -> 2hp | E10: ='[2]CU '!E10 -> 450*180*470 | F10: ='[2]CU '!F10 -> 1 x 14 | G10: ='[2]CU '!G10 -> CR-102 ,RT-2 | H10: ='[2]CU '!H10 -> MT22 | I10: ='[2]CU '!$I10 -> 4*16 | J10: ='[2]CU '!Q10 -> 580.38896 | K10: ='[2]CU '!U10 -> 975.37748 | L10: ='[2]CU '!Y10 -> ~
A11: ='[2]CU '!A11 -> CU003 | B11: ='[2]CU '!B11 -> CU - 32 QC | D11: ='[2]CU '!D11 -> 2.5hp | E11: ='[2]CU '!E11 -> 450*180*470 | F11: ='[2]CU '!F11 -> 1 x 14 | G11: ='[2]CU '!G11 -> CR-102 ,RT-3 | H11: ='[2]CU '!H11 -> MT32 | I11: ='[2]CU '!$I11 -> 4*18 | J11: ='[2]CU '!Q11 -> 646.57367 | K11: ='[2]CU '!U11 -> 1041.5622 | L11: ='[2]CU '!Y11 -> ~
A12: ='[2]CU '!A12 -> CU004 | B12: ='[2]CU '!B12 -> CU - 36 QC | D12: ='[2]CU '!D12 -> 3hp | E12: ='[2]CU '!E12 -> 500*200*520 | F12: ='[2]CU '!F12 -> 1 x 16 | G12: ='[2]CU '!G12 -> CR-102 ,RT-3 | H12: ='[2]CU '!H12 -> MT36 | I12: ='[2]CU '!$I12 -> 4*20 | J12: ='[2]CU '!Q12 -> 780.21586 | K12: ='[2]CU '!U12 -> 1222.0838 | L12: ='[2]CU '!Y12 -> ~
A13: ='[2]CU '!A13 -> CU005 | B13: ='[2]CU '!B13 -> CU - 40 QC | D13: ='[2]CU '!D13 -> 3.5hp | E13: ='[2]CU '!E13 -> 550*200*520 | F13: ='[2]CU '!F13 -> 1 x 16 | G13: ='[2]CU '!G13 -> CR103,RT-4 | H13: ='[2]CU '!H13 -> MT40 | I13: ='[2]CU '!$I13 -> 5*20 | J13: ='[2]CU '!Q13 -> 977.4972 | K13: ='[2]CU '!U13 -> 1366.3699 | L13: ='[2]CU '!Y13 -> ~
A14: ='[2]CU '!A14 -> CU006 | B14: ='[2]CU '!B14 -> CU - 50 QC | D14: ='[2]CU '!D14 -> 4hp | E14: ='[2]CU '!E14 -> 660*200*570 | F14: ='[2]CU '!F14 -> 1 x 18 | G14: ='[2]CU '!G14 -> CR103,RT-4 | H14: ='[2]CU '!H14 -> 4FES-3(Y) | I14: ='[2]CU '!$I14 -> 5*20 | J14: ='[2]CU '!Q14 -> 1192.5975 | K14: ='[2]CU '!U14 -> 1667.4758 | L14: ='[2]CU '!Y14 -> 1822.2009
A15: ='[2]CU '!A15 -> CU007 | B15: ='[2]CU '!B15 -> CU - 64 QC | D15: ='[2]CU '!D15 -> 5hp | E15: ='[2]CU '!E15 -> 960*200*520 | F15: ='[2]CU '!F15 -> 2 x 16 | G15: ='[2]CU '!G15 -> CR-104 ,RT-6 | H15: ='[2]CU '!H15 -> 4EES-4(Y) | I15: ='[2]CU '!$I15 -> 4*20 | J15: ='[2]CU '!Q15 -> 1548.9767 | K15: ='[2]CU '!U15 -> 2368.7597 | L15: ='[2]CU '!Y15 -> ~
A16: ='[2]CU '!A16 -> CU008 | B16: ='[2]CU '!B16 -> CU - 64B QC | D16: ='[2]CU '!D16 -> 5hp | E16: ='[2]CU '!E16 -> 710*220*660 | F16: ='[2]CU '!F16 -> 1 x 20 | G16: ='[2]CU '!G16 -> CR-104 ,RT-6 | H16: ='[2]CU '!H16 -> 4EES-4(Y) | I16: ='[2]CU '!$I16 -> 4*26 | J16: ='[2]CU '!Q16 -> 1400.0611 | K16: ='[2]CU '!U16 -> 2046.7373 | L16: ='[2]CU '!Y16 -> 2141.1992
A17: ='[2]CU '!A17 -> CU009 | B17: ='[2]CU '!B17 -> CU - 72 QC | D17: ='[2]CU '!D17 -> 6hp | E17: ='[2]CU '!E17 -> 960*220*520 | F17: ='[2]CU '!F17 -> 2 x 16 | G17: ='[2]CU '!G17 -> CR-104 ,RT-6 | H17: ='[2]CU '!H17 -> 4DES-5(Y) | I17: ='[2]CU '!$I17 -> 5*20 | J17: ='[2]CU '!Q17 -> 1711.8929 | K17: ='[2]CU '!U17 -> 2531.6759 | L17: ='[2]CU '!Y17 -> ~
A18: ='[2]CU '!A18 -> CU010 | B18: ='[2]CU '!B18 -> CU - 72B QC | D18: ='[2]CU '!D18 -> 6hp | E18: ='[2]CU '!E18 -> 710*240*660 | F18: ='[2]CU '!F18 -> 1 x 20 | G18: ='[2]CU '!G18 -> CR-104 ,RT-6 | H18: ='[2]CU '!H18 -> 4DES-5(Y) | I18: ='[2]CU '!$I18 -> 5*26 | J18: ='[2]CU '!Q18 -> 1639.3443 | K18: ='[2]CU '!U18 -> 2286.0204 | L18: ='[2]CU '!Y18 -> 2380.4824
A19: ='[2]CU '!A19 -> CU011 | B19: ='[2]CU '!B19 -> CU - 72BP QC | D19: ='[2]CU '!D19 -> 6hp | E19: ='[2]CU '!E19 -> 710*240*660 | F19: ='[2]CU '!F19 -> 1 x 20 | G19: ='[2]CU '!G19 -> CR-104 ,RT-6 | H19: ='[2]CU '!H19 -> 4DES-5(Y) | I19: ='[2]CU '!$I19 -> 5*26 | J19: ='[2]CU '!Q19 -> 1639.3443 | K19: ='[2]CU '!U19 -> 2286.0204 | L19: ='[2]CU '!Y19 -> 2380.4824
A20: ='[2]CU '!A20 -> CU012 | B20: ='[2]CU '!B20 -> CU - 90 QC | D20: ='[2]CU '!D20 -> 7.5hp | E20: ='[2]CU '!E20 -> 1060*220*570 | F20: ='[2]CU '!F20 -> 2 x 18 | G20: ='[2]CU '!G20 -> CR-104 ,RT-8 | H20: ='[2]CU '!H20 -> 4CES-6(Y) | I20: ='[2]CU '!$I20 -> 5*22 | J20: ='[2]CU '!Q20 -> 2000.8146 | K20: ='[2]CU '!U20 -> 2889.3299 | L20: ='[2]CU '!Y20 -> 3092.7898
A21: ='[2]CU '!A21 -> CU013 | B21: ='[2]CU '!B21 -> CU - 100 QC | D21: ='[2]CU '!D21 -> 8.5hp | E21: ='[2]CU '!E21 -> 1060*240*670 | F21: ='[2]CU '!F21 -> 2 x 18 | G21: ='[2]CU '!G21 -> CR-104 ,RT-8 | H21: ='[2]CU '!H21 -> 4VES-7(Y) | I21: ='[2]CU '!$I21 -> 5*26 | J21: ='[2]CU '!Q21 -> 2297.373 | K21: ='[2]CU '!U21 -> 3185.8883 | L21: ='[2]CU '!Y21 -> 3389.3482
... A33: ='[2]CU '!A33 -> CU023 | B33: ='[2]CU '!B33 -> CU - 500 QC | D33: ='[2]CU '!D33 -> 50hp | E33: ='[2]CU '!E33 -> 1630*350*1930 | F33: ='[2]CU '!F33 -> 4 x 26 | G33: ='[2]CU '!G33 -> HT- 50L | H33: ='[2]CU '!H33 -> 6FE50Y | I33: ='[2]CU '!$I33 -> 6*76 | J33: ='[2]CU '!Q33 -> 14649.73 | K33: ='[2]CU '!U33 -> 17858.432 | L33: ='[2]CU '!Y33 -> 19226.816
A34: ='[2]CU '!A34 -> CU20.25 | B34: ='[2]CU '!B34 -> 16" * 18" | C34: IRON BASE | D34: ='[2]CU '!D34 -> 1/2hp | E34: ='[2]CU '!E34 -> CS030-CS060 | F34: ='[2]CU '!F34 -> 0 | J34: ='[2]CU '!Q34 -> 27.868852
A35: ='[2]CU '!A35 -> CU20.26 | B35: ='[2]CU '!B35 -> 20" * 17" | D35: ='[2]CU '!D35 -> 3/4hp-1.5hp | E35: ='[2]CU '!E35 -> CS075-CS125 | F35: ='[2]CU '!F35 -> 0 | J35: ='[2]CU '!Q35 -> 40.983607
A36: ='[2]CU '!A36 -> CU21 | B36: ='[2]CU '!B36 -> 530W*430L | D36: ='[2]CU '!D36 -> 3/4hp | E36: ='[2]CU '!E36 -> CS075 | F36: ='[2]CU '!F36 -> 50 | J36: ='[2]CU '!Q36 -> 57.377049
A37: ='[2]CU '!A37 -> CU23 | B37: ='[2]CU '!B37 -> 600W*550L | D37: ='[2]CU '!D37 -> 2hp | E37: ='[2]CU '!E37 -> CU-22 | F37: ='[2]CU '!F37 -> 58 | J37: ='[2]CU '!Q37 -> 73.770492
A38: ='[2]CU '!A38 -> CU27 | B38: ='[2]CU '!B38 -> 650*W900L | D38: ='[2]CU '!D38 -> CS150 | E38: ='[2]CU '!E38 -> CS150-CS200 | F38: ='[2]CU '!F38 -> 19 | J38: ='[2]CU '!Q38 -> 139.34426
A39: ='[2]CU '!A39 -> CU024 | B39: ='[2]CU '!B39 -> CUB15-32 | C39: IRON BRACKET | D39: ='[2]CU '!D39 -> CU15-32QC | E39: ='[2]CU '!E39 -> 30" W * 21.5"L | F39: ='[2]CU '!F39 -> 0 | J39: ='[2]CU '!Q39 -> 81.147541
A40: ='[2]CU '!A40 -> CU025 | B40: ='[2]CU '!B40 -> CUB36 | D40: ='[2]CU '!D40 -> CU36QC | E40: ='[2]CU '!E40 -> 30" W * 23.5"L | F40: ='[2]CU '!F40 -> 0 | J40: ='[2]CU '!Q40 -> 103.27869
A41: ='[2]CU '!A41 -> CU026 | B41: ='[2]CU '!B41 -> CUB40 | D41: ='[2]CU '!D41 -> CU40QC | E41: ='[2]CU '!E41 -> 30" W * 26"L | F41: ='[2]CU '!F41 -> 0 | J41: ='[2]CU '!Q41 -> 103.27869
A42: ='[2]CU '!A42 -> CU027 | B42: ='[2]CU '!B42 -> CUB50 | D42: ='[2]CU '!D42 -> CU50QC | E42: ='[2]CU '!E42 -> 33" W* 28.5"L | F42: ='[2]CU '!F42 -> 0 | J42: ='[2]CU '!Q42 -> 162.29508
A43: ='[2]CU '!A43 -> CU028 | B43: ='[2]CU '!B43 -> CUB64B-72B | D43: ='[2]CU '!D43 -> CU64B-72BQC | E43: ='[2]CU '!E43 -> 33" W* 30"L | F43: ='[2]CU '!F43 -> 0 | J43: ='[2]CU '!Q43 -> 162.29508
A44: ='[2]CU '!A44 -> CU029 | B44: ='[2]CU '!B44 -> CUB64-72 | D44: ='[2]CU '!D44 -> CU64-72QC | E44: ='[2]CU '!E44 -> 34" W* 41"L | F44: ='[2]CU '!F44 -> 0 | J44: ='[2]CU '!Q44 -> 221.31148
A45: ='[2]CU '!A45 -> CU030 | B45: ='[2]CU '!B45 -> CUB80-100 | D45: ='[2]CU '!D45 -> CU80-100QC | E45: ='[2]CU '!E45 -> 34" W* 44"L | F45: ='[2]CU '!F45 -> 0 | J45: ='[2]CU '!Q45 -> 236.06557
A46: ='[2]CU '!A46 -> CU031 | B46: ='[2]CU '!B46 -> CUB125-160 | D46: ='[2]CU '!D46 -> CU125-160QC | E46: ='[2]CU '!E46 -> 35" W* 56.5"L | F46: ='[2]CU '!F46 -> 0 | J46: ='[2]CU '!Q46 -> 339.34426
A47: ='[2]CU '!A47 -> CU032 | B47: ='[2]CU '!B47 -> CUB200 | D47: ='[2]CU '!D47 -> CU200QC | E47: ='[2]CU '!E47 -> 42"W * 64"L | F47: ='[2]CU '!F47 -> 0 | J47: ='[2]CU '!Q47 -> 575.40984
A48: ='[2]CU '!A48 -> CU033 | B48: ='[2]CU '!B48 -> CUB250 | D48: ='[2]CU '!D48 -> CU250QC | E48: ='[2]CU '!E48 -> 45"W * 85"L | F48: ='[2]CU '!F48 -> 0 | J48: ='[2]CU '!Q48 -> 649.18033
A49: ='[2]CU '!A49 -> CU034 | B49: ='[2]CU '!B49 -> CUB300-400 | D49: ='[2]CU '!D49 -> CU300-400QC | E49: ='[2]CU '!E49 -> 50"W * 64"L | F49: ='[2]CU '!F49 -> 0 | J49: ='[2]CU '!Q49 -> 634.42623
A50: ='[2]CU '!A50 -> CU035 | B50: ='[2]CU '!B50 -> HTB3-5 | D50: ='[2]CU '!D50 -> HTC3-5 | E50: ='[2]CU '!E50 -> 36L*20W | F50: ='[2]CU '!F50 -> 0 | J50: ='[2]CU '!Q50 -> 190.45154
A51: ='[2]CU '!A51 -> CU036 | B51: ='[2]CU '!B51 -> HTB8-10 | D51: ='[2]CU '!D51 -> HTC8-10 | E51: ='[2]CU '!E51 -> 55L*26W | F51: ='[2]CU '!F51 -> 0 | J51: ='[2]CU '!Q51 -> 238.06442
... A62: ='[2]CU '!A62 -> CU046.04 | B62: ='[2]CU '!B62 -> HT-100L | D62: ='[2]CU '!D62 -> 100HP | E62: ='[2]CU '!E62 -> 1372mm*325mm | F62: ='[2]CU '!F62 -> 100l(2 1/8*1 3/8) | J62: ='[2]CU '!Q62 -> 2506.6548
A63: ='[2]CU '!A65 -> CU047 | B63: ='[2]CU '!B65 -> CR-101-2 receiver flare type | C63: Airmender receiver tank flare type | D63: ='[2]CU '!D65 -> 1hp | E63: ='[2]CU '!E65 -> 3.35"(a) x 7.87"(b) | F63: ='[2]CU '!F65 -> 1L | J63: ='[2]CU '!Q65 -> 119.32992
A64: ='[2]CU '!A66 -> CU048 | B64: ='[2]CU '!B66 -> CR-101-3 receiver flare type | D64: ='[2]CU '!D66 -> 1.5hp | E64: ='[2]CU '!E66 -> 3.35"(a) x 7.87"(b) | F64: ='[2]CU '!F66 -> 1L | J64: ='[2]CU '!Q66 -> 119.32992
A65: ='[2]CU '!A67 -> CU049 | B65: ='[2]CU '!B67 -> CR-102 receiver flare type | D65: ='[2]CU '!D67 -> 2hp-3hp | E65: ='[2]CU '!E67 -> 5"(a) x 10.24"(b) | F65: ='[2]CU '!F67 -> 3L | J65: ='[2]CU '!Q67 -> 129.82418
A66: ='[2]CU '!A68 -> CU050 | B66: ='[2]CU '!B68 -> CR-103 receiver flare type | D66: ='[2]CU '!D68 -> 3.5hp-4hp | E66: ='[2]CU '!E68 -> 5"(a) x 11.81"(b) | F66: ='[2]CU '!F68 -> 4L | J66: ='[2]CU '!Q68 -> 133.71721
A67: ='[2]CU '!A69 -> CU051 | B67: ='[2]CU '!B69 -> CR-104 receiver flare type | D67: ='[2]CU '!D69 -> 5hp-7.5hp | E67: ='[2]CU '!E69 -> 6"(a) x 13.78"(b) | F67: ='[2]CU '!F69 -> 6L | J67: ='[2]CU '!Q69 -> 188.72746
...

Sheet ZIEHL
A6: ITEM CODE | B6: GUARANTEE GENUINE GERMANY FAN SETS | C6: PH & Voltage | D6: BRAND | E6: 1Pallet quantity | F6: =[2]ZIEHL!K8 -> RM | G6: PICTURE
A7: =[2]ZIEHL!A9 -> ZI 001.1 | B7: =[2]ZIEHL!B9 -> (16") FN040-VDK Ziehhlabegg fan (1PH) | C7: =[2]ZIEHL!C9 -> 1PH (230V) | D7: Ziehhlabegg | E7: 28 | F7: =[2]ZIEHL!K9 -> 504.77778
A8: =[2]ZIEHL!A10 -> ZI001 | B8: =[2]ZIEHL!B10 -> (16") FN040-VDK Ziehhlabegg fan (3ph) | C8: =[2]ZIEHL!C10 -> 3PH (415V) | E8: 28 | F8: =[2]ZIEHL!K10 -> ~
A9: =[2]ZIEHL!A11 -> ZI002 | B9: =[2]ZIEHL!B11 -> (20") FN050-VDK Ziehhlabegg fan | C9: =[2]ZIEHL!C11 -> 3PH (415V) | E9: 28 | F9: =[2]ZIEHL!K11 -> ~
A10: =[2]ZIEHL!A12 -> ZI003 | B10: =[2]ZIEHL!B12 -> (26") FN063-VDK Ziehhlabegg fan | C10: =[2]ZIEHL!C12 -> 3PH (415V) | E10: 6 | F10: =[2]ZIEHL!K12 -> ~
A11: =[2]ZIEHL!A13 -> ZI005 | B11: =[2]ZIEHL!B13 -> (32") FN080-sDQ Ziehhlabegg fan (6poles) | C11: =[2]ZIEHL!C13 -> 3PH (415V) | E11: 6 | F11: =[2]ZIEHL!K13 -> ~
A12: =[2]ZIEHL!A14 -> ZI 8 | B12: =[2]ZIEHL!B14 -> (26") FB063-VDK Ziehhlabegg fan | C12: =[2]ZIEHL!C14 -> 3PH (415V) | F12: =[2]ZIEHL!K14 -> 1464.9428
A13: =[2]ZIEHL!A15 -> ZI005.1 | B13: =[2]ZIEHL!B15 -> 12" EBM FAN SET (1PH) | C13: =[2]ZIEHL!C15 -> 1PH (230V) | D13: EBM | F13: =[2]ZIEHL!K15 -> ~
A14: =[2]ZIEHL!A16 -> ZI005.2 | B14: =[2]ZIEHL!B16 -> 14" EBM FAN SET (1PH) | C14: =[2]ZIEHL!C16 -> 1PH (230V) | F14: =[2]ZIEHL!K16 -> ~
A15: =[2]ZIEHL!A17 -> ZI005.3 | B15: =[2]ZIEHL!B17 -> 14" EBM FAN SET (3PH) | C15: =[2]ZIEHL!C17 -> 3PH (415V) | F15: =[2]ZIEHL!K17 -> 365.84666
A16: =[2]ZIEHL!A18 -> ZI006 | B16: =[2]ZIEHL!B18 -> 16" EBM FAN SET (1PH) | C16: =[2]ZIEHL!C18 -> 1PH (230V) | E16: 45 | F16: =[2]ZIEHL!K18 -> 474.16762
A17: =[2]ZIEHL!A19 -> ZI007 | B17: =[2]ZIEHL!B19 -> 16" EBM FAN SET (3PH) | C17: =[2]ZIEHL!C19 -> 3PH (415V) | E17: 46 | F17: =[2]ZIEHL!K19 -> ~
A18: =[2]ZIEHL!A20 -> ZI007.1 | B18: =[2]ZIEHL!B20 -> 18" EBM FAN SET (3PH) | C18: =[2]ZIEHL!C20 -> 3PH (415V) | F18: =[2]ZIEHL!K20 -> ~
A19: =[2]ZIEHL!A21 -> ZI008 | B19: =[2]ZIEHL!B21 -> 20" EBM FAN SET (3PH) | C19: =[2]ZIEHL!C21 -> 3PH (415V) | E19: 47 | F19: =[2]ZIEHL!K21 -> ~
A20: =[2]ZIEHL!A22 -> ZI009 | B20: =[2]ZIEHL!B22 -> 26" EBM FAN SET (3PH) | C20: =[2]ZIEHL!C22 -> 3PH (415V) | E20: 48 | F20: =[2]ZIEHL!K22 -> 1936.8353
A21: =[2]ZIEHL!A23 -> ZI010 | B21: =[2]ZIEHL!B23 -> 32" EBM FAN SET (3PH) c/w end plate(800mm) | C21: =[2]ZIEHL!C23 -> 3PH (415V) | F21: =[2]ZIEHL!K23 -> 2786.5437
A22: =[2]ZIEHL!A24 -> ZI010.1 | B22: =[2]ZIEHL!B24 -> 36" EBM FAN SET (3PH) c/w end plate(910mm) | C22: =[2]ZIEHL!C24 -> 3PH (415V) | F22: =[2]ZIEHL!K24 -> ~
A23: =[2]ZIEHL!A25 -> ZI011 | B23: =[2]ZIEHL!B25 -> 10watts ebm fan motor (M4Q045CA03A4/C01) | C23: =[2]ZIEHL!C25 -> 0 | F23: =[2]ZIEHL!K25 -> ~
A24: =[2]ZIEHL!A26 -> ZI012 | B24: =[2]ZIEHL!B26 -> 18watts ebm fan motor (M4Q045DA13A4/C01) | C24: =[2]ZIEHL!C26 -> 0 | F24: =[2]ZIEHL!K26 -> ~
A25: PRICE VALID : Ex-factory at K.L price

Sheet Weiguang
A1: ='CU '!A1 -> DATE :28.9.26
A8: =[2]Weiguang!A8 -> ITEM | B8: =[2]Weiguang!B8 -> MODEL | C8: DECRIPTION | D8: =[2]Weiguang!D8 -> WATTS | E8: =[2]Weiguang!I8 -> RM | F8: PICTURE
A9: =[2]Weiguang!A9 -> WEI001 | B9: =[2]Weiguang!B9 -> YWF4E-200-G (8") (1PH) (230V) | C9: WEIGUANG AXIAL FAN SETS 1PH & 3PH (230V , 380V ~ 415V) | D9: =[2]Weiguang!D9 -> 40 | E9: =[2]Weiguang!I9 -> 130.66166
A10: =[2]Weiguang!A10 -> WEI002 | B10: =[2]Weiguang!B10 -> YWF4E-250-G (10") (1PH) (230V) | D10: =[2]Weiguang!D10 -> 50 | E10: =[2]Weiguang!I10 -> 134.22516
A11: =[2]Weiguang!A11 -> WEI002.1 | B11: =[2]Weiguang!B11 -> YWF2E-250-G (10") (1PH) (230V) 2500rpm | D11: =[2]Weiguang!D11 -> 50 | E11: =[2]Weiguang!I11 -> 140.93642
A12: =[2]Weiguang!A12 -> WEI003 | B12: =[2]Weiguang!B12 -> YWF4E-250B (10") (1PH) (230V) | D12: =[2]Weiguang!D12 -> 50 | E12: =[2]Weiguang!I12 -> 134.22516
A13: =[2]Weiguang!A13 -> WEI004 | B13: =[2]Weiguang!B13 -> YWF4E-300-G (12") (1PH) (230V) | D13: =[2]Weiguang!D13 -> 85 | E13: =[2]Weiguang!I13 -> 138.97649
A14: =[2]Weiguang!A14 -> WEI004.1 | B14: =[2]Weiguang!B14 -> YWF4D-300-G (12") (3PH) (415V) | D14: =[2]Weiguang!D14 -> 85 | E14: =[2]Weiguang!I14 -> 138.97649
A15: =[2]Weiguang!A15 -> WEI005 | B15: =[2]Weiguang!B15 -> YWF4E-300B (12") (1PH) (230V) | D15: =[2]Weiguang!D15 -> 85 | E15: =[2]Weiguang!I15 -> 138.97649
A16: =[2]Weiguang!A16 -> WEI005.1 | B16: =[2]Weiguang!B16 -> YWF2E-300-S (12") (1PH) (230V)7 BLADE C/W 2M WIRE | D16: =[2]Weiguang!D16 -> 85 | E16: =[2]Weiguang!I16 -> 150.95722
A17: =[2]Weiguang!A17 -> WEI005.2 | B17: =[2]Weiguang!B17 -> YWF2D-300-S (12") (3PH) (415V)7 BLADE C/W 2M WIRE | D17: =[2]Weiguang!D17 -> 85 | E17: =[2]Weiguang!I17 -> 150.95722
A18: =[2]Weiguang!A18 -> WEI005.3 | B18: =[2]Weiguang!B18 -> YWF2D-300-B (12") (3PH) (415V)7 BLADE | D18: =[2]Weiguang!D18 -> 85 | E18: =[2]Weiguang!I18 -> 150.95722
A19: =[2]Weiguang!A19 -> WEI005.4 | B19: =[2]Weiguang!B19 -> YWF2E-300-B (12") (1PH) (230V)7 BLADE C/W 2M WIRE | D19: =[2]Weiguang!D19 -> 85 | E19: =[2]Weiguang!I19 -> 150.95722
A20: =[2]Weiguang!A20 -> WEI005.5 | B20: =[2]Weiguang!B20 -> YWF2D-300-B (12") (3PH) (415V)7 BLADE C/W 2M WIRE | D20: =[2]Weiguang!D20 -> 0 | E20: =[2]Weiguang!I20 -> 150.95722
A21: =[2]Weiguang!A21 -> WEI006 | B21: =[2]Weiguang!B21 -> YWF4E-330-G (13") (1PH) (230V) | D21: =[2]Weiguang!D21 -> 95 | E21: =[2]Weiguang!I21 -> 162.73316
... A35: =[2]Weiguang!A35 -> WEI021 | B35: =[2]Weiguang!B35 -> YWF4D-630-G (26") (3PH) (415V) | D35: =[2]Weiguang!D35 -> 800 | E35: =[2]Weiguang!I35 -> 479.88464
A36: =[2]Weiguang!A37 -> WEI022 | B36: =[2]Weiguang!B37 -> YWF6D-710-G (28") (3PH) (415V) | D36: =[2]Weiguang!D37 -> 900 | E36: =[2]Weiguang!I37 -> 1069.0499
A37: =[2]Weiguang!A38 -> WEI023 | B37: =[2]Weiguang!B38 -> YWF6D-800-G (32") (3PH) (415V) | D37: =[2]Weiguang!D38 -> 1200 | E37: =[2]Weiguang!I38 -> 1334.9836
A38: =[2]Weiguang!A39 -> WEI023.01 | B38: =[2]Weiguang!B39 -> YWF4D-350-G (14") (3PH ) (415V) cw 1.5M WIRE | D38: =[2]Weiguang!D39 -> 140 | E38: =[2]Weiguang!I39 -> 187.67766
A39: =[2]Weiguang!A40 -> WEI023.02 | B39: =[2]Weiguang!B40 -> YWF4D-350-G (14") (1PH ) (415V) cw 1.5M WIRE | D39: =[2]Weiguang!D40 -> 0 | E39: =[2]Weiguang!I40 -> 187.67766
A40: =[2]Weiguang!A41 -> WEI023.1 | B40: =[2]Weiguang!B41 -> YWF4D-400-G (16") (3PH) (415V) C/W 1.5M WIRE | D40: =[2]Weiguang!D41 -> 180 | E40: =[2]Weiguang!I41 -> 207.87082
A41: =[2]Weiguang!A42 -> WEI023.2 | B41: =[2]Weiguang!B42 -> YWF4D-450-G (18") (3PH) (415V) C/W 1.5M WIRE | D41: =[2]Weiguang!D42 -> 250 | E41: =[2]Weiguang!I42 -> 236.37882
A42: =[2]Weiguang!A43 -> WEI023.3 | B42: =[2]Weiguang!B43 -> YWF4D-500-G (20") (3PH) (415V) C/W 1.5M WIRE | D42: =[2]Weiguang!D43 -> 450 | E42: =[2]Weiguang!I43 -> 301.05634
A43: =[2]Weiguang!A44 -> WEI024 | B43: =[2]Weiguang!B44 -> YWF4E-400-J (16") (1PH) (230V) | D43: =[2]Weiguang!D44 -> 200 | E43: =[2]Weiguang!I44 -> 234.02475
A44: =[2]Weiguang!A45 -> WEI025 | B44: =[2]Weiguang!B45 -> YWF4D-400-J (16") (3PH) (415V) | D44: =[2]Weiguang!D45 -> 200 | E44: =[2]Weiguang!I45 -> 234.02475
A45: =[2]Weiguang!A46 -> WEI025.3 | B45: =[2]Weiguang!B46 -> YWF4D-450-S-137/35 (18") (3PH) (415V) (HEAVY DUTY) 7 BLADE | D45: =[2]Weiguang!D46 -> 370 | E45: =[2]Weiguang!I46 -> 369.98286
A46: =[2]Weiguang!A47 -> WEI026 | B46: =[2]Weiguang!B47 -> YWF4D-500S-145/65A2-G (20") (3PH) (415V)(ALUMINIUM DIE CAST) | D46: =[2]Weiguang!D47 -> 800 | E46: =[2]Weiguang!I47 -> 700.71364
A47: =[2]Weiguang!A48 -> WEI026.1 | B47: =[2]Weiguang!B48 -> YWF4D-500S-137/60-G (20") (3PH) (415V) (HEAVY DUTY) 7 BLADE | D47: =[2]Weiguang!D48 -> 750 | E47: =[2]Weiguang!I48 -> 432.67366
... A49: =[2]Weiguang!A50 -> WEI026.3 | B49: =[2]Weiguang!B50 -> YWF4D-630S-180/105A2-G (26") (3PH) (415V)(ALUMINIUM DIE CAST) | D49: =[2]Weiguang!D50 -> 2700 | E49: =[2]Weiguang!I50 -> 1540.2094
A50: =[2]Weiguang!A51 -> WEI026.4 | B50: =[2]Weiguang!B51 -> YWF4E-300-G (12") (1PH) (230V) S/STEEL | C50: WEIGUANG heavy duty fan sets 1PH & 3PH (230V , 380V ~ 415V)S/Steel fan blade & guard | D50: =[2]Weiguang!D51 -> 85 | E50: =[2]Weiguang!I51 -> 251.84349
A51: =[2]Weiguang!A52 -> WEI026.5 | B51: =[2]Weiguang!B52 -> YWF4D-300-G (12") (3PH) (415V) S/STEEL | D51: =[2]Weiguang!D52 -> 85 | E51: =[2]Weiguang!I52 -> 253.2826
A52: =[2]Weiguang!A53 -> WEI026.6 | B52: =[2]Weiguang!B53 -> YWF2D-300-S (12") (3PH) (415V) S/STEEL (HEAVY DUTY) 7 BLADE C/W 2M WIRE | D52: =[2]Weiguang!D53 -> 165 | E52: =[2]Weiguang!I53 -> 302.21219
A53: =[2]Weiguang!A54 -> WEI026.7 | B53: =[2]Weiguang!B54 -> YWF4E-400-G (16") (1PH) (230V) S/STEEL | D53: =[2]Weiguang!D54 -> 205 | E53: =[2]Weiguang!I54 -> 374.16748
A54: =[2]Weiguang!A55 -> WEI026.8 | B54: =[2]Weiguang!B55 -> YWF4D-400-G (16") (3PH) (415V) S/STEEL | D54: =[2]Weiguang!D55 -> 205 | E54: =[2]Weiguang!I55 -> 374.16748
A55: =[2]Weiguang!A57 -> WEI026.9 | B55: =[2]Weiguang!B57 -> YWF4D-500S-137/60-G (20") (3PH) (415V) S/STEEL (HEAVY DUTY) 7 BLADE | D55: =[2]Weiguang!D57 -> 750 | E55: =[2]Weiguang!I57 -> 568.73457
A56: =[2]Weiguang!A58 -> WEI027 | B56: =[2]Weiguang!B58 -> YWF4D-500-S 137/60-G (20") (3PH ) (415V)7blade cw end plate | C56: WEIGUANG end plate TYPE FAN SETS 1PH & 3PH (230V , 380V ~ 415V) | D56: =[2]Weiguang!D58 -> 750 | E56: =[2]Weiguang!I58 -> 533.90534
A57: =[2]Weiguang!A59 -> WEI028 | B57: =[2]Weiguang!B59 -> YWF4D-630S-180/105-B1 (26") (3PH) (415V)C/W END PLATE (HEAVY DUTY) | D57: =[2]Weiguang!D59 -> 2700 | E57: =[2]Weiguang!I59 -> 1465.3791
A58: =[2]Weiguang!A60 -> WEI028.01 | B58: =[2]Weiguang!B60 -> YWF4D-630S-180/75-B1 (26") (3PH) (415V) C/W END PLATE (HEAVY DUTY) | D58: =[2]Weiguang!D60 -> 1900 | E58: =[2]Weiguang!I60 -> 1072.6134
A59: =[2]Weiguang!A61 -> WEI028.02 | B59: =[2]Weiguang!B61 -> YWF.A6T-710S-7FIS01(28")(3PH 415V)C/W END PLATE (HEAVY DUTY) | D59: =[2]Weiguang!D61 -> 1100 c/w plate | E59: =[2]Weiguang!I61 -> 1334.3564
A60: =[2]Weiguang!A62 -> WEI028.03 | B60: =[2]Weiguang!B62 -> YWF6D-800-180/75-B1 (32") (3PH) (415V)C/W END PLATE (HEAVY DUTY) | D60: =[2]Weiguang!D62 -> 1200 | E60: =[2]Weiguang!I62 -> 1986.2007
...

Sheet QC
A1: =Weiguang!A1 -> DATE :28.9.26
A4: ITEM CODE | B4: NEW QC UNIT BLOWER (FREEZER) MODEL | C4: DECRIPTION | D4: COMPRESSOR TO MATCH | E4: =[2]QC!E8 -> BTU/HR td7 ~25c | F4: =[2]QC!F8 -> kW td7 | G4: =[2]QC!G8 -> Flowrate meter | H4: =[2]QC!H8 -> Dimension (mm) | I4: =[2]QC!I8 -> Voltage | J4: =[2]QC!J8 -> Heater pcs | K4: =[2]QC!K8 -> Heater KW | L4: =[2]QC!L8 -> Size outlet copper p-trap | ... N4: =[2]QC!N8 -> (Frezzer) TES (R404) -25c orifice no | O4: =[2]QC!W8 -> (RM) axial fan | P4: =[2]QC!X8 -> Axial fan c/w exp valve ,p trap | Q4: =[2]QC!AE8 -> (RM)aluminium heavy duty fan | R4: =[2]QC!AF8 -> heavy fan c/w p trap and exp valve | S4: PICTURE
A5: =[2]QC!A9 -> QC001 | B5: =[2]QC!B9 -> CL301C4 | C5: FREEZER - 5'C ~ - 25'C ( 7mm ~ 9mm Fin Spacing) Unit blower with EBM / AXIAL FAN SETS | D5: =[2]QC!D9 -> MT22,CS11,zb15 | E5: =[2]QC!E9 -> 4778.2 | F5: =[2]QC!F9 -> 1.4 | G5: =[2]QC!G9 -> 9 | H5: =[2]QC!H9 -> 1x300 | I5: =[2]QC!I9 -> 230 | J5: =[2]QC!J9 -> 3 | K5: =[2]QC!K9 -> 1.5 | ... N5: =[2]QC!N9 -> 1 / RCX0834 | O5: =[2]QC!W9 -> 1490.4059 | P5: =[2]QC!X9 -> 1766.951 | Q5: =[2]QC!AE9 -> ~ | R5: =[2]QC!AF9 -> ~
A6: =[2]QC!A10 -> QC002 | B6: =[2]QC!B10 -> CL302C3 | D6: =[2]QC!D10 -> MT32-MT36,ZB19 | E6: =[2]QC!E10 -> 6826 | F6: =[2]QC!F10 -> 2 | G6: =[2]QC!G10 -> 9 | H6: =[2]QC!H10 -> 2x300 | I6: =[2]QC!I10 -> 230 | J6: =[2]QC!J10 -> 3 | K6: =[2]QC!K10 -> 2.4 | ... N6: =[2]QC!N10 -> 2 / RCX1034 | O6: =[2]QC!W10 -> 2043.5892 | P6: =[2]QC!X10 -> 2301.0589 | Q6: =[2]QC!AE10 -> ~ | R6: =[2]QC!AF10 -> ~
A7: =[2]QC!A11 -> QC003 | B7: =[2]QC!B11 -> CL302C4 | D7: =[2]QC!D11 -> MT40-MT44,ZB21 | E7: =[2]QC!E11 -> 7849.9 | F7: =[2]QC!F11 -> 2.3 | G7: =[2]QC!G11 -> 9 | H7: =[2]QC!H11 -> 2x300 | I7: =[2]QC!I11 -> 230 | J7: =[2]QC!J11 -> 3 | K7: =[2]QC!K11 -> 2.4 | ... N7: =[2]QC!N11 -> 3 / RCX1534 | O7: =[2]QC!W11 -> 2322.2604 | P7: =[2]QC!X11 -> 2570.1208 | Q7: =[2]QC!AE11 -> ~ | R7: =[2]QC!AF11 -> ~
A8: =[2]QC!A12 -> QC004 | B8: =[2]QC!B12 -> CL302C6 | D8: =[2]QC!D12 -> MT50,ZB29 | E8: =[2]QC!E12 -> 10239 | F8: =[2]QC!F12 -> 3 | G8: =[2]QC!G12 -> 8 | H8: =[2]QC!H12 -> 2x300 | I8: =[2]QC!I12 -> 230 | J8: =[2]QC!J12 -> 5 | K8: =[2]QC!K12 -> 4 | ... N8: =[2]QC!N12 -> 3 / RCX1534 | O8: =[2]QC!W12 -> 3155.871 | P8: =[2]QC!X12 -> 3395.0239 | Q8: =[2]QC!AE12 -> ~ | R8: =[2]QC!AF12 -> ~
A9: =[2]QC!A13 -> QC005 | B9: =[2]QC!B13 -> CL303C4 | D9: =[2]QC!D13 -> MT64,ZB38 | E9: =[2]QC!E13 -> 12628.1 | F9: =[2]QC!F13 -> 3.7 | G9: =[2]QC!G13 -> 9 | H9: =[2]QC!H13 -> 3x300 | I9: =[2]QC!I13 -> 230 | J9: =[2]QC!J13 -> 3 | K9: =[2]QC!K13 -> 6 | ... N9: =[2]QC!N13 -> 4 / RCX2034 | O9: =[2]QC!W13 -> 3030.7232 | P9: =[2]QC!X13 -> 3274.1915 | Q9: =[2]QC!AE13 -> ~ | R9: =[2]QC!AF13 -> ~
A10: =[2]QC!A14 -> QC006 | B10: =[2]QC!B14 -> CL303C6 | D10: =[2]QC!D14 -> 4EES4Y,MT100,ZB45 | E10: =[2]QC!E14 -> 15699.8 | F10: =[2]QC!F14 -> 4.6 | G10: =[2]QC!G14 -> 9 | H10: =[2]QC!H14 -> 3x300 | I10: =[2]QC!I14 -> 230 | J10: =[2]QC!J14 -> 5 | K10: =[2]QC!K14 -> 6 | ... N10: =[2]QC!N14 -> 6 | O10: =[2]QC!W14 -> 3781.4256 | P10: =[2]QC!X14 -> 3999.0077 | Q10: =[2]QC!AE14 -> ~ | R10: =[2]QC!AF14 -> ~
A11: =[2]QC!A15 -> QC006.1 | B11: =[2]QC!B15 -> CL304C6 | D11: =[2]QC!D15 -> 4DES5Y,MT125,ZB48 | E11: =[2]QC!E15 -> 21501.9 | F11: =[2]QC!F15 -> 6.3 | G11: =[2]QC!G15 -> 9 | H11: =[2]QC!H15 -> 4x300 | I11: =[2]QC!I15 -> 230 | J11: =[2]QC!J15 -> 5 | K11: =[2]QC!K15 -> 6 | ... N11: =[2]QC!N15 -> TES5-1 / TGES5 | O11: =[2]QC!W15 -> 4571.5765 | P11: =[2]QC!X15 -> 4776.4102 | Q11: =[2]QC!AE15 -> ~ | R11: =[2]QC!AF15 -> ~
A12: =[2]QC!A16 -> QC007 | B12: =[2]QC!B16 -> CL401C3 | D12: =[2]QC!D16 -> MT28,ZB15 | E12: =[2]QC!E16 -> 6826 | F12: =[2]QC!F16 -> 2 | G12: =[2]QC!G16 -> 12 | H12: =[2]QC!H16 -> 1x400 | I12: =[2]QC!I16 -> 230 | J12: =[2]QC!J16 -> 3 | K12: =[2]QC!K16 -> 1.5 | ... N12: =[2]QC!N16 -> 1 / RCX0834 | O12: =[2]QC!W16 -> 1720.5524 | P12: =[2]QC!X16 -> 1989.1613 | Q12: =[2]QC!AE16 -> 2179.496 | R12: =[2]QC!AF16 -> 2478.4378
A13: =[2]QC!A17 -> QC008 | B13: =[2]QC!B17 -> CL401C4 | D13: =[2]QC!D17 -> MT32,ZB19 | E13: =[2]QC!E17 -> 7849.9 | F13: =[2]QC!F17 -> 2.3 | G13: =[2]QC!G17 -> 12 | H13: =[2]QC!H17 -> 1x400 | I13: =[2]QC!I17 -> 230 | J13: =[2]QC!J17 -> 3 | K13: =[2]QC!K17 -> 1.5 | ... N13: =[2]QC!N17 -> 2 / RCX1034 | O13: =[2]QC!W17 -> 2024.1792 | P13: =[2]QC!X17 -> 2282.3183 | Q13: =[2]QC!AE17 -> 2472.653 | R13: =[2]QC!AF17 -> 2771.5948
A14: =[2]QC!A18 -> QC009 | B14: =[2]QC!B18 -> CL401C5 | D14: =[2]QC!D18 -> MT40,ZB21 | E14: =[2]QC!E18 -> 9897.7 | F14: =[2]QC!F18 -> 2.9 | G14: =[2]QC!G18 -> 12 | H14: =[2]QC!H18 -> 1x400 | I14: =[2]QC!I18 -> 230 | J14: =[2]QC!J18 -> 5 | K14: =[2]QC!K18 -> 2.5 | ... N14: =[2]QC!N18 -> 3 / RCX1534 | O14: =[2]QC!W18 -> 2338.8975 | P14: =[2]QC!X18 -> 2586.1842 | Q14: =[2]QC!AE18 -> 2704.2336 | R14: =[2]QC!AF18 -> 3003.1755
A15: =[2]QC!A19 -> QC010 | B15: =[2]QC!B19 -> CL401C6 | D15: =[2]QC!D19 -> MT50,ZB26 | E15: =[2]QC!E19 -> 10580.3 | F15: =[2]QC!F19 -> 3.1 | G15: =[2]QC!G19 -> 12 | H15: =[2]QC!H19 -> 1x400 | I15: =[2]QC!I19 -> 230 | J15: =[2]QC!J19 -> 5 | K15: =[2]QC!K19 -> 2.5 | ... N15: =[2]QC!N19 -> 3 / RCX2034 | O15: =[2]QC!W19 -> 2435.9472 | P15: =[2]QC!X19 -> 2679.8874 | Q15: =[2]QC!AE19 -> 2797.9368 | R15: =[2]QC!AF19 -> 3096.8786
A16: =[2]QC!A20 -> QC010.1 | B16: =[2]QC!B20 -> CL402C3 | D16: =[2]QC!D20 -> MT64,ZB29,CS33 | E16: =[2]QC!E20 -> 12628.1 | F16: =[2]QC!F20 -> 3.7 | G16: =[2]QC!G20 -> 14 | H16: =[2]QC!H20 -> 2x400 | I16: =[2]QC!I20 -> 415 | J16: =[2]QC!J20 -> 3 | K16: =[2]QC!K20 -> 3 | ... N16: =[2]QC!N20 -> 3 / RCX2034 | O16: =[2]QC!W20 -> 2760.3705 | P16: =[2]QC!X20 -> 3013.1613 | Q16: =[2]QC!AE20 -> 3724.9408 | R16: =[2]QC!AF20 -> 4043.9204
A17: =[2]QC!A21 -> QC011 | B17: =[2]QC!B21 -> CL402C4 | D17: =[2]QC!D21 -> MT72,ZB38 | E17: =[2]QC!E21 -> 16041.1 | F17: =[2]QC!F21 -> 4.7 | G17: =[2]QC!G21 -> 14 | H17: =[2]QC!H21 -> 2x400 | I17: =[2]QC!I21 -> 415 | J17: =[2]QC!J21 -> 3 | K17: =[2]QC!K21 -> 3 | ... N17: =[2]QC!N21 -> 3 / RCX2034 | O17: =[2]QC!W21 -> 3278.6158 | P17: =[2]QC!X21 -> 3513.5361 | Q17: =[2]QC!AE21 -> 4027.4682 | R17: =[2]QC!AF21 -> 4346.4477
... A24: =[2]QC!A28 -> QC017 | B24: =[2]QC!B28 -> CL405C6 | D24: =[2]QC!D28 -> 4JE15Y,ZFI50 | E24: =[2]QC!E28 -> 48464.6 | F24: =[2]QC!F28 -> 14.2 | G24: =[2]QC!G28 -> 17 | H24: =[2]QC!H28 -> 5x400 | I24: =[2]QC!I28 -> 415 | J24: =[2]QC!J28 -> 5 | K24: =[2]QC!K28 -> 9 | ... N24: =[2]QC!N28 -> TES5-1 ZFI /TGES7.5 | O24: =[2]QC!W28 -> 8968.7777 | P24: =[2]QC!X28 -> 9447.0277 | Q24: =[2]QC!AE28 -> 11035.114 | R24: =[2]QC!AF28 -> 11764.639
A25: =[2]QC!A31 -> QC018 | B25: =[2]QC!B31 -> NT501C6 | D25: =[2]QC!D31 -> 4CES6Y,MT125,ZFI30 | E25: =[2]QC!E31 -> 26962.7 | F25: =[2]QC!F31 -> 7.9 | G25: =[2]QC!G31 -> 26 | H25: =[2]QC!H31 -> 1X500 | I25: =[2]QC!I31 -> 415 | J25: =[2]QC!J31 -> 6 | K25: =[2]QC!K31 -> 9 | ... N25: =[2]QC!N31 -> 6 /5 zfi | O25: =[2]QC!W31 -> 5245.138 | P25: =[2]QC!X31 -> 5871.2013 | Q25: =[2]QC!AE31 -> 5571.1218 | R25: =[2]QC!AF31 -> 6150.6149
A26: =[2]QC!A32 -> QC019 | B26: =[2]QC!B32 -> NT501C8 | D26: =[2]QC!D32 -> 4TES9Y,ZFI31,ZFI36 | E26: =[2]QC!E32 -> 30034.4 | F26: =[2]QC!F32 -> 8.8 | G26: =[2]QC!G32 -> 26 | H26: =[2]QC!H32 -> 1X500 | I26: =[2]QC!I32 -> 415 | J26: =[2]QC!J32 -> 6 | K26: =[2]QC!K32 -> 9 | ... N26: =[2]QC!N32 -> TES2-6 /TGES5 | O26: =[2]QC!W32 -> 5651.1557 | P26: =[2]QC!X32 -> 6315.8282 | Q26: =[2]QC!AE32 -> 5964.2501 | R26: =[2]QC!AF32 -> 6581.1267
A27: =[2]QC!A33 -> QC020 | B27: =[2]QC!B33 -> NT502C4 | D27: =[2]QC!D33 -> 4PES12Y,ZFI39 | E27: =[2]QC!E33 -> 42662.5 | F27: =[2]QC!F33 -> 12.5 | G27: =[2]QC!G33 -> 26 | H27: =[2]QC!H33 -> 2X500 | I27: =[2]QC!I33 -> 415 | J27: =[2]QC!J33 -> 6 | K27: =[2]QC!K33 -> 9 | ... N27: =[2]QC!N33 -> TES5-1 ZFI /TGES5 | O27: =[2]QC!W33 -> 7352.9512 | P27: =[2]QC!X33 -> 8051.081 | Q27: =[2]QC!AE33 -> 7721.5822 | R27: =[2]QC!AF33 -> 8357.5064
A28: =[2]QC!A34 -> QC021 | B28: =[2]QC!B34 -> NT502C5 | D28: =[2]QC!D34 -> 4NES14Y,ZFI50 | E28: =[2]QC!E34 -> 48464.6 | F28: =[2]QC!F34 -> 14.2 | G28: =[2]QC!G34 -> 26 | H28: =[2]QC!H34 -> 2x500 | I28: =[2]QC!I34 -> 415 | J28: =[2]QC!J34 -> 6 | K28: =[2]QC!K34 -> 9 | ... N28: =[2]QC!N34 -> TES5-1 ZFI /TGES7.5 | O28: =[2]QC!W34 -> 8319.5873 | P28: =[2]QC!X34 -> 9017.7171 | Q28: =[2]QC!AE34 -> 8599.0346 | R28: =[2]QC!AF34 -> 9234.9588
A29: =[2]QC!A35 -> QC022 | B29: =[2]QC!B35 -> NT502C6 | D29: =[2]QC!D35 -> 4HE18Y,ZFI59 | E29: =[2]QC!E35 -> 54608 | F29: =[2]QC!F35 -> 16 | G29: =[2]QC!G35 -> 26 | H29: =[2]QC!H35 -> 2x500 | I29: =[2]QC!I35 -> 415 | J29: =[2]QC!J35 -> 6 | K29: =[2]QC!K35 -> 9 | ... N29: =[2]QC!N35 -> TES5-2 ZFI /SCX0857/TGES7.5 | O29: =[2]QC!W35 -> 9052.0314 | P29: =[2]QC!X35 -> 9750.1612 | Q29: =[2]QC!AE35 -> 9811.6936 | R29: =[2]QC!AF35 -> 10447.618
A30: =[2]QC!A36 -> QC023 | B30: =[2]QC!B36 -> NT502C8 | D30: =[2]QC!D36 -> 4GE23Y,ZFI68 | E30: =[2]QC!E36 -> 61434 | F30: =[2]QC!F36 -> 18 | G30: =[2]QC!G36 -> 26 | H30: =[2]QC!H36 -> 2x500 | I30: =[2]QC!I36 -> 415 | J30: =[2]QC!J36 -> 6 | K30: =[2]QC!K36 -> 9 | ... N30: =[2]QC!N36 -> TES5-3 /SCX0957/TGES9,TES5-2 ZFI | O30: =[2]QC!W36 -> 10831.382 | P30: =[2]QC!X36 -> 11586.056 | Q30: =[2]QC!AE36 -> 11534.557 | R30: =[2]QC!AF36 -> 12225.231
A31: =[2]QC!A37 -> QC023.1 | B31: =[2]QC!B37 -> NT503C5 | D31: =[2]QC!D37 -> 4FE25Y / 4GE23Y,ZFI81 | E31: =[2]QC!E37 -> 72000 | F31: =[2]QC!F37 -> 21.09581 | G31: =[2]QC!G37 -> 26 | H31: =[2]QC!H37 -> 3X500 | I31: =[2]QC!I37 -> 415 | J31: =[2]QC!J37 -> 6 | K31: =[2]QC!K37 -> 14.4 | ... N31: =[2]QC!N37 -> TES5-4 /SCX0957/TGES11,TES5-3 ZFI | O31: =[2]QC!W37 -> 12415.996 | P31: =[2]QC!X37 -> 13184.456 | Q31: =[2]QC!AE37 -> 13657.488 | R31: =[2]QC!AF37 -> 14348.162
A32: =[2]QC!A38 -> QC024 | B32: =[2]QC!B38 -> NT503C6 | D32: =[2]QC!D38 -> S6H-20.2Y / 6HE28Y,ZFI81 | E32: =[2]QC!E38 -> 81912 | F32: =[2]QC!F38 -> 24 | G32: =[2]QC!G38 -> 26 | H32: =[2]QC!H38 -> 3x500 | I32: =[2]QC!I38 -> 415 | J32: =[2]QC!J38 -> 6 | K32: =[2]QC!K38 -> 14.4 | ... N32: =[2]QC!N38 -> TES12-5/ TGES13 | O32: =[2]QC!W38 -> 12883.108 | P32: =[2]QC!X38 -> 13837.594 | Q32: =[2]QC!AE38 -> 14109.77 | R32: =[2]QC!AF38 -> 14980.565
A33: =[2]QC!A39 -> QC025 | B33: =[2]QC!B39 -> NT503C8 | D33: =[2]QC!D39 -> 6GE34Y,ZFI96 | E33: =[2]QC!E39 -> 93857.5 | F33: =[2]QC!F39 -> 27.5 | G33: =[2]QC!G39 -> 26 | H33: =[2]QC!H39 -> 3x500 | I33: =[2]QC!I39 -> 415 | J33: =[2]QC!J39 -> 6 | K33: =[2]QC!K39 -> 14.4 | ... N33: =[2]QC!N39 -> TES12-5 ZFI/ TGES13 | O33: =[2]QC!W39 -> 15628.5 | P33: =[2]QC!X39 -> 16701.016 | Q33: =[2]QC!AE39 -> 16768.007 | R33: =[2]QC!AF39 -> 17753.084
A34: =[2]QC!A40 -> QC025.1 | B34: =[2]QC!B40 -> NT504C6 | D34: =[2]QC!D40 -> 6GE34Y,ZFI122 | E34: =[2]QC!E40 -> 115000 | F34: =[2]QC!F40 -> 33.694697 | G34: =[2]QC!G40 -> 30 | H34: =[2]QC!H40 -> 4x500 | I34: =[2]QC!I40 -> 415 | J34: =[2]QC!J40 -> 6 | K34: =[2]QC!K40 -> 16.2 | ... N34: =[2]QC!N40 -> TES12-5 ZFI/ TGES13 | O34: =[2]QC!W40 -> 16622.544 | P34: =[2]QC!X40 -> 17708.845 | Q34: =[2]QC!AE40 -> 18336.786 | R34: =[2]QC!AF40 -> 19321.863
A35: =[2]QC!A41 -> QC026 | B35: =[2]QC!B41 -> NT504C8 | D35: =[2]QC!D41 -> 6FE44Y/S6F-30.2,ZFI140 | E35: =[2]QC!E41 -> 122868 | F35: =[2]QC!F41 -> 36 | G35: =[2]QC!G41 -> 30 | H35: =[2]QC!H41 -> 4x500 | I35: =[2]QC!I41 -> 415 | J35: =[2]QC!J41 -> 6 | K35: =[2]QC!K41 -> 16.2 | ... N35: =[2]QC!N41 -> TES12-6 ZFI/ TGES18 | O35: =[2]QC!W41 -> 20238.519 | P35: =[2]QC!X41 -> 21324.82 | Q35: =[2]QC!AE41 -> 21837.969 | R35: =[2]QC!AF41 -> 22823.046
A36: =[2]QC!A42 -> QC001 | B36: =[2]QC!B42 -> CL301C4H | C36: CHILLER +15'C ~ 0'C ( 6mm Fin Spacing) Unit blower with EBM / AXIAL FAN SETS W/O HEATER | D36: =[2]QC!D42 -> MT18,KCJ484 | E36: =[2]QC!E42 -> 10900 | F36: =[2]QC!F42 -> 3.1936713 | G36: =[2]QC!G42 -> 9 | H36: =[2]QC!H42 -> 1x300 | I36: =[2]QC!I42 -> 230 | K36: =[2]QC!K42 -> ~ | L36: =[2]QC!L42 -> 0.875 | M36: =[2]QC!M42 -> 1 / RCX1234 | N36: =[2]QC!N42 -> 1 / RCX0834 | O36: =[2]QC!W42 -> 1378.1056 | P36: =[2]QC!X42 -> 1594.4947 | Q36: =[2]QC!AE42 -> ~ | R36: =[2]QC!AF42 -> ~
A37: =[2]QC!A43 -> QC002 | B37: =[2]QC!B43 -> CL302C3H | D37: =[2]QC!D43 -> MT22,CS11,zb15 | E37: =[2]QC!E43 -> 14600 | F37: =[2]QC!F43 -> 4.2777615 | G37: =[2]QC!G43 -> 9 | H37: =[2]QC!H43 -> 2x300 | I37: =[2]QC!I43 -> 230 | K37: =[2]QC!K43 -> ~ | L37: =[2]QC!L43 -> 0.875 | M37: =[2]QC!M43 -> 1 / RCX1234 | N37: =[2]QC!N43 -> 2 / RCX1034 | O37: =[2]QC!W43 -> 1889.6961 | P37: =[2]QC!X43 -> 2088.4442 | Q37: =[2]QC!AE43 -> ~ | R37: =[2]QC!AF43 -> ~
A38: =[2]QC!A44 -> QC003 | B38: =[2]QC!B44 -> CL302C4H | D38: =[2]QC!D44 -> MT32,ZB19,CS13 | E38: =[2]QC!E44 -> 18300 | F38: =[2]QC!F44 -> 5.3618517 | G38: =[2]QC!G44 -> 9 | H38: =[2]QC!H44 -> 2x300 | I38: =[2]QC!I44 -> 230 | K38: =[2]QC!K44 -> ~ | L38: =[2]QC!L44 -> 0.875 | M38: =[2]QC!M44 -> 2 / RCX1634 | N38: =[2]QC!N44 -> 3 / RCX1534 | O38: =[2]QC!W44 -> 2168.3673 | P38: =[2]QC!X44 -> 2357.5061 | Q38: =[2]QC!AE44 -> ~ | R38: =[2]QC!AF44 -> ~
A39: =[2]QC!A45 -> QC004 | B39: =[2]QC!B45 -> CL302C6H | D39: =[2]QC!D45 -> MT40,ZB21,CS17,CS20 | E39: =[2]QC!E45 -> 25800 | F39: =[2]QC!F45 -> 7.559332 | G39: =[2]QC!G45 -> 8 | H39: =[2]QC!H45 -> 2x300 | I39: =[2]QC!I45 -> 230 | K39: =[2]QC!K45 -> ~ | L39: =[2]QC!L45 -> 1.125 | M39: =[2]QC!M45 -> 2 / RCX1634 | N39: =[2]QC!N45 -> 3 / RCX1534 | O39: =[2]QC!W45 -> 2702.1406 | P39: =[2]QC!X45 -> 2872.8734 | Q39: =[2]QC!AE45 -> ~ | R39: =[2]QC!AF45 -> ~
A40: =[2]QC!A46 -> QC005 | B40: =[2]QC!B46 -> CL303C4H | D40: =[2]QC!D46 -> MT50,ZB29,CS27 | E40: =[2]QC!E46 -> 30400 | F40: =[2]QC!F46 -> 8.9071198 | G40: =[2]QC!G46 -> 9 | H40: =[2]QC!H46 -> 3x300 | I40: =[2]QC!I46 -> 230 | K40: =[2]QC!K46 -> ~ | L40: =[2]QC!L46 -> 1.125 | M40: =[2]QC!M46 -> 3 / RCX2434 | N40: =[2]QC!N46 -> 4 / RCX2034 | O40: =[2]QC!W46 -> 2822.7595 | P40: =[2]QC!X46 -> 2989.333 | Q40: =[2]QC!AE46 -> ~ | R40: =[2]QC!AF46 -> ~
A41: =[2]QC!A47 -> QC006 | B41: =[2]QC!B47 -> CL303C6H | D41: =[2]QC!D47 -> MT64,ZB38,CS33 | E41: =[2]QC!E47 -> 44800 | F41: =[2]QC!F47 -> 13.126282 | G41: =[2]QC!G47 -> 9 | H41: =[2]QC!H47 -> 3x300 | I41: =[2]QC!I47 -> 230 | K41: =[2]QC!K47 -> ~ | L41: =[2]QC!L47 -> 1.125 | M41: =[2]QC!M47 -> 4 / RCX3134 | N41: =[2]QC!N47 -> 5 / RCX3034 | O41: =[2]QC!W47 -> 3198.4805 | P41: =[2]QC!X47 -> 3352.0981 | Q41: =[2]QC!AE47 -> ~ | R41: =[2]QC!AF47 -> ~
A42: =[2]QC!A48 -> QC006.1 | B42: =[2]QC!B48 -> CL304C6H | D42: =[2]QC!D48 -> MT80,ZB45,CR72 | E42: =[2]QC!E48 -> 63600 | F42: =[2]QC!F48 -> 18.634632 | G42: =[2]QC!G48 -> 9 | H42: =[2]QC!H48 -> 4x300 | I42: =[2]QC!I48 -> 230 | K42: =[2]QC!K48 -> ~ | L42: =[2]QC!L48 -> 1.125 | M42: =[2]QC!M48 -> 5 / RCX4734 | N42: =[2]QC!N48 -> 6 / SCX0445 | O42: =[2]QC!W48 -> 3821.4008 | P42: =[2]QC!X48 -> 3968.0367 | Q42: =[2]QC!AE48 -> ~ | R42: =[2]QC!AF48 -> ~
A43: =[2]QC!A49 -> QC007 | B43: =[2]QC!B49 -> CL401C3H | D43: =[2]QC!D49 -> MT22,CS11 | E43: =[2]QC!E49 -> 10900 | F43: =[2]QC!F49 -> 3.1936713 | G43: =[2]QC!G49 -> 12 | H43: =[2]QC!H49 -> 1x400 | I43: =[2]QC!I49 -> 230 | K43: =[2]QC!K49 -> ~ | L43: =[2]QC!L49 -> 0.875 | M43: =[2]QC!M49 -> 1 / RCX1234 | N43: =[2]QC!N49 -> 1 / RCX0834 | O43: =[2]QC!W49 -> 1608.252 | P43: =[2]QC!X49 -> 1816.7051 | Q43: =[2]QC!AE49 -> 2179.496 | R43: =[2]QC!AF49 -> 2414.4095
A44: =[2]QC!A50 -> QC008 | B44: =[2]QC!B50 -> CL401C4H | D44: =[2]QC!D50 -> MT32,ZB15,CS13 | E44: =[2]QC!E50 -> 14600 | F44: =[2]QC!F50 -> 4.2777615 | G44: =[2]QC!G50 -> 12 | H44: =[2]QC!H50 -> 1x400 | I44: =[2]QC!I50 -> 230 | K44: =[2]QC!K50 -> ~ | L44: =[2]QC!L50 -> 0.875 | M44: =[2]QC!M50 -> 1 / RCX1234 | N44: =[2]QC!N50 -> 2 / RCX1034 | O44: =[2]QC!W50 -> 1911.8789 | P44: =[2]QC!X50 -> 2109.862 | Q44: =[2]QC!AE50 -> 2472.653 | R44: =[2]QC!AF50 -> 2707.5665
A45: =[2]QC!A51 -> QC009 | B45: =[2]QC!B51 -> CL401C5H | D45: =[2]QC!D51 -> MT36,ZB19,CS17 | E45: =[2]QC!E51 -> 18300 | F45: =[2]QC!F51 -> 5.3618517 | G45: =[2]QC!G51 -> 12 | H45: =[2]QC!H51 -> 1x400 | I45: =[2]QC!I51 -> 230 | K45: =[2]QC!K51 -> ~ | L45: =[2]QC!L51 -> 0.875 | M45: =[2]QC!M51 -> 2 / RCX1634 | N45: =[2]QC!N51 -> 3 / RCX1534 | O45: =[2]QC!W51 -> 2151.7303 | P45: =[2]QC!X51 -> 2341.4427 | Q45: =[2]QC!AE51 -> 2704.2336 | R45: =[2]QC!AF51 -> 2939.1471
A46: =[2]QC!A52 -> QC010 | B46: =[2]QC!B52 -> CL401C6H | D46: =[2]QC!D52 -> MT40,ZB21,CS20,CR42 | E46: =[2]QC!E52 -> 25800 | F46: =[2]QC!F52 -> 7.559332 | G46: =[2]QC!G52 -> 12 | H46: =[2]QC!H52 -> 1x400 | I46: =[2]QC!I52 -> 230 | K46: =[2]QC!K52 -> ~ | L46: =[2]QC!L52 -> 0.875 | M46: =[2]QC!M52 -> 3 / RCX2434 | N46: =[2]QC!N52 -> 3 / RCX1534 | O46: =[2]QC!W52 -> 2248.7799 | P46: =[2]QC!X52 -> 2435.1458 | Q46: =[2]QC!AE52 -> 2797.9368 | R46: =[2]QC!AF52 -> 3032.8503
A47: =[2]QC!A53 -> QC010.1 | B47: =[2]QC!B53 -> CL402C3H | D47: =[2]QC!D53 -> MT44,ZB29,CS24,CR42 | E47: =[2]QC!E53 -> 27645.3 | F47: =[2]QC!F53 -> 8.1 | G47: =[2]QC!G53 -> 14 | H47: =[2]QC!H53 -> 2x400 | I47: =[2]QC!I53 -> 415 | K47: =[2]QC!K53 -> ~ | L47: =[2]QC!L53 -> 1.125 | M47: =[2]QC!M53 -> 3 / RCX2434 | N47: =[2]QC!N53 -> 3 / RCX1534 | O47: =[2]QC!W53 -> 2589.8403 | P47: =[2]QC!X53 -> 2764.4455 | Q47: =[2]QC!AE53 -> 3724.9408 | R47: =[2]QC!AF53 -> 3959.8544
A48: =[2]QC!A54 -> QC011 | B48: =[2]QC!B54 -> CL402C4H | D48: =[2]QC!D54 -> MT50,ZB29,CS27,cr47 | E48: =[2]QC!E54 -> 30400 | F48: =[2]QC!F54 -> 8.9071198 | G48: =[2]QC!G54 -> 14 | H48: =[2]QC!H54 -> 2x400 | I48: =[2]QC!I54 -> 415 | K48: =[2]QC!K54 -> ~ | L48: =[2]QC!L54 -> 1.125 | M48: =[2]QC!M54 -> 3 / RCX2434 | N48: =[2]QC!N54 -> 3 / RCX2034 | O48: =[2]QC!W54 -> 2903.1721 | P48: =[2]QC!X54 -> 3066.9728 | Q48: =[2]QC!AE54 -> 4027.4682 | R48: =[2]QC!AF54 -> 4262.3817
...

Sheet Switch board
A1: =QC!A1 -> DATE :28.9.26
A8: ='[2]Switch board'!$A8 -> ITEM CODE | B8: ='[2]Switch board'!$B8 -> MODEL | C8: DESCRIPTION | D8: ( KW,HP,AMP) | E8: Packing per ctn | F8: ='[2]Switch board'!$I$8 -> RM | G8: Picture
A9: ='[2]Switch board'!$A9 -> SW001 | B9: ='[2]Switch board'!$B9 -> LC1N06 | C9: ORIGINAL SCNEIDER CONTACTOR | D9: 2.5 , 3 , 6 | E9: 36 | F9: ='[2]Switch board'!I9 -> 49.975012
A10: ='[2]Switch board'!$A10 -> SW002 | B10: ='[2]Switch board'!$B10 -> LC1N09 | D10: 4 , 5.5 , 9 | E10: 36 | F10: ='[2]Switch board'!I10 -> 61.657483
A11: ='[2]Switch board'!$A11 -> SW003 | B11: ='[2]Switch board'!$B11 -> LC1N12 | D11: 5.5 , 7.5 , 12 | E11: 36 | F11: ='[2]Switch board'!I11 -> 66.849692
A12: ='[2]Switch board'!$A12 -> SW004 | B12: ='[2]Switch board'!$B12 -> LC1N18 | D12: 7.5 , 10 , 18 | E12: 36 | F12: ='[2]Switch board'!I12 -> 83.075345
A13: ='[2]Switch board'!$A13 -> SW005 | B13: ='[2]Switch board'!$B13 -> LC1N25 | D13: 11 , 15 , 22 | E13: 36 | F13: ='[2]Switch board'!I13 -> 94.757816
A14: ='[2]Switch board'!$A14 -> SW006 | B14: ='[2]Switch board'!$B14 -> LC1N32 | D14: 15 , 20 , 32 | E14: 36 | F14: ='[2]Switch board'!I14 -> 120.71886
A15: ='[2]Switch board'!$A15 -> SW007 | B15: ='[2]Switch board'!$B15 -> LC1N38 | D15: 16 , 20 , 38 | E15: 34 | F15: ='[2]Switch board'!I15 -> 183.02537
A16: ='[2]Switch board'!$A16 -> SW008 | B16: ='[2]Switch board'!$B16 -> LC1E40 | D16: 18 , 25 , 40 | E16: 34 | F16: ='[2]Switch board'!I16 -> 223.26499
A17: ='[2]Switch board'!$A17 -> SW009 | B17: ='[2]Switch board'!$B17 -> LC1N50 | D17: 25 , 30 , 50 | E17: 34 | F17: ='[2]Switch board'!I17 -> 282.9754
A18: ='[2]Switch board'!$A18 -> SW010 | B18: ='[2]Switch board'!$B18 -> LC1N65 | D18: 30 , 35 , 65 | E18: 34 | F18: ='[2]Switch board'!I18 -> 359.56048
A19: ='[2]Switch board'!$A19 -> SW010.1 | B19: ='[2]Switch board'!$B19 -> LC1N80 | F19: ='[2]Switch board'!I19 -> 447.82803
A20: ='[2]Switch board'!$A20 -> SW010.2 | B20: ='[2]Switch board'!$B20 -> LC1N95 | F20: ='[2]Switch board'!I20 -> 611.38262
A21: ='[2]Switch board'!$A21 -> SW010.3 | B21: ='[2]Switch board'!$B21 -> LC1N120 | F21: ='[2]Switch board'!I21 -> 882.67555
A22: ='[2]Switch board'!$A22 -> SW011 | B22: ='[2]Switch board'!$B22 -> LRE05 (0.6-1) | C22: ORIGINAL SCNEIDER OVERLOAD | D22: 0.6 ~ 1 amp | E22: 33 | F22: ='[2]Switch board'!I22 -> 49.975012
A23: ='[2]Switch board'!$A23 -> SW012 | B23: ='[2]Switch board'!$B23 -> LRE06 1-1.6 | D23: 1 ~ 1.6 amp | E23: 33 | F23: ='[2]Switch board'!I23 -> 49.975012
A24: ='[2]Switch board'!$A24 -> SW013 | B24: ='[2]Switch board'!$B24 -> LRE07 1.6-2.5 | D24: 1.6 ~ 2.5 amp | E24: 33 | F24: ='[2]Switch board'!I24 -> 49.975012
A25: ='[2]Switch board'!$A25 -> SW014 | B25: ='[2]Switch board'!$B25 -> LRE08 2.5-4 | D25: 2.5 ~ 4 amp | E25: 33 | F25: ='[2]Switch board'!I25 -> 49.975012
A26: ='[2]Switch board'!$A26 -> SW015 | B26: ='[2]Switch board'!$B26 -> LRE10 4-6 | D26: 4 ~ 6 amp | E26: 33 | F26: ='[2]Switch board'!I26 -> 49.975012
A27: ='[2]Switch board'!$A27 -> SW016 | B27: ='[2]Switch board'!$B27 -> LRE12 5.5-8 | D27: 5.5 ~ 8 amp | E27: 33 | F27: ='[2]Switch board'!I27 -> 49.975012
A28: ='[2]Switch board'!$A28 -> SW017 | B28: ='[2]Switch board'!$B28 -> LRE14 7-10 | D28: 7 ~ 10 amp | E28: 33 | F28: ='[2]Switch board'!I28 -> 49.975012
A29: ='[2]Switch board'!$A29 -> SW018 | B29: ='[2]Switch board'!$B29 -> LRE16 9-13 | D29: 9 ~ 13 amp | E29: 33 | F29: ='[2]Switch board'!I29 -> 49.975012
A30: ='[2]Switch board'!$A30 -> SW019 | B30: ='[2]Switch board'!$B30 -> LRE21 12-18 | D30: 12 ~ 18 amp | E30: 33 | F30: ='[2]Switch board'!I30 -> 58.412352
A31: ='[2]Switch board'!$A31 -> SW020 | B31: ='[2]Switch board'!$B31 -> LRE22 16-24 | D31: 16 ~ 24 amp | E31: 33 | F31: ='[2]Switch board'!I31 -> 64.253587
A32: ='[2]Switch board'!$A32 -> SW021 | B32: ='[2]Switch board'!$B32 -> LRE32 23-32 | D32: 23 ~ 32 amp | E32: 33 | F32: ='[2]Switch board'!I32 -> 70.743849
A33: ='[2]Switch board'!$A33 -> SW022 | B33: ='[2]Switch board'!$B33 -> LRE35 30-38 | D33: 30 ~ 38 amp | E33: 33 | F33: ='[2]Switch board'!I33 -> 70.743849
A34: ='[2]Switch board'!$A34 -> SW022.1 | B34: ='[2]Switch board'!$B34 -> LRE37-50 | D34: 37 ~ 50 amp | F34: ='[2]Switch board'!I34 -> 141.4877
A35: ='[2]Switch board'!$A35 -> SW022.2 | B35: ='[2]Switch board'!$B35 -> LRE48-65 | D35: 48 ~ 65 amp | F35: ='[2]Switch board'!I35 -> 168.7468
A36: ='[2]Switch board'!$A36 -> SW022.3 | B36: ='[2]Switch board'!$B36 -> LRE55-70 | D36: 55 ~ 70 amp | F36: ='[2]Switch board'!I36 -> 173.939
A37: ='[2]Switch board'!$A37 -> SW023 | B37: ='[2]Switch board'!$B37 -> LC1D09 | C37: ORIGINAL NEW SERIES SCNEIDER CONTACTOR | D37: 4 , 5.5 , 9 | F37: ='[2]Switch board'!I37 -> 49.975012
A38: ='[2]Switch board'!$A38 -> SW024 | B38: ='[2]Switch board'!$B38 -> LC1D12 | D38: 5.5 , 7.5 , 12 | F38: ='[2]Switch board'!I38 -> 54.734537
A39: ='[2]Switch board'!$A39 -> SW025 | B39: ='[2]Switch board'!$B39 -> LC1D18 | D39: 7.5 , 10 , 18 | F39: ='[2]Switch board'!I39 -> 71.392875
A40: ='[2]Switch board'!$A40 -> SW026 | B40: ='[2]Switch board'!$B40 -> LC1D25 | D40: 11 , 15 , 22 | F40: ='[2]Switch board'!I40 -> 80.911925
A41: ='[2]Switch board'!$A41 -> SW027 | B41: ='[2]Switch board'!$B41 -> LC1D32 | D41: 15 , 20 , 32 | F41: ='[2]Switch board'!I41 -> 113.03872
A42: ='[2]Switch board'!$A42 -> SW028 | B42: ='[2]Switch board'!$B42 -> LC1D38 | D42: 20 ,25 , 38 | F42: ='[2]Switch board'!I42 -> 128.50717
A43: ='[2]Switch board'!$A43 -> SW029 | B43: ='[2]Switch board'!$B43 -> LC1D40 | D43: 25 ,30 , 40 | F43: ='[2]Switch board'!I43 -> 154.68456
A44: ='[2]Switch board'!$A44 -> SW029.1 | B44: ='[2]Switch board'!$B44 -> LC1D50 | D44: 30 , 40 , 50 | F44: ='[2]Switch board'!I44 -> 208.22922
A45: ='[2]Switch board'!$A45 -> SW029.2 | B45: ='[2]Switch board'!$B45 -> LC1D65 | D45: 40 , 55 , 65 | F45: ='[2]Switch board'!I45 -> 261.77387
A46: ='[2]Switch board'!$A46 -> SW030 | B46: ='[2]Switch board'!$B46 -> LRD06 1-1.6 | C46: ORIGINAL NEW SERIES SCNEIDER OVERLOAD | D46: 1 ~ 1.6 amp | F46: ='[2]Switch board'!I46 -> 70.202994
...

Sheet ALUMINIUM PLATE
A1: ='Switch board'!A1 -> DATE :28.9.26
A8: ='[2]aluminium plate'!$A9 -> ITEM | B8: ='[2]aluminium plate'!$B9 -> SIZE | C8: ='[2]aluminium plate'!C9 -> DESCRIPTION | D8: ='[2]aluminium plate'!J9 -> (RM) | E8: picture
A9: ='[2]aluminium plate'!$A12 -> AL001 | B9: ='[2]aluminium plate'!$B12 -> 96" (l) X 40" (w) ALUMINIUM PLATE | C9: ='[2]aluminium plate'!C12 -> 40" X 96" ALUMINIUM PLATE | D9: ='[2]aluminium plate'!J12 -> 2186.4615
A10: ='[2]aluminium plate'!$A13 -> AL002 | B10: ='[2]aluminium plate'!$B13 -> 96" (l) X 20" (w) ALUMINIUM PLATE | C10: ='[2]aluminium plate'!C13 -> 20" X 96" ALUMINIUM PLATE | D10: ='[2]aluminium plate'!J13 -> 1247.0769
A11: ='[2]aluminium plate'!$A14 -> AL003 | B11: ='[2]aluminium plate'!$B14 -> 43" (l) X 30" (w) ALUMINIUM PLATE | C11: ='[2]aluminium plate'!C14 -> 30" X 43" ALUMINIUM PLATE | D11: ='[2]aluminium plate'!J14 -> 1018.4169
A12: ='[2]aluminium plate'!$A15 -> AL004 | B12: ='[2]aluminium plate'!$B15 -> 67" (l)X 30" (w) ALUMINIUM PLATE | C12: ='[2]aluminium plate'!C15 -> 30" X 67" ALUMINIUM PLATE | D12: ='[2]aluminium plate'!J15 -> 1366.7492
A13: ='[2]aluminium plate'!$A16 -> 0 | B13: ='[2]aluminium plate'!$B16 -> SEMI CONTACT FREZZER 300KGS | C13: ='[2]aluminium plate'!C16 -> 7TRAY,8PCS PLATE (30" x 43") | D13: ='[2]aluminium plate'!J16 -> 22007.537
A14: ='[2]aluminium plate'!$A17 -> 0 | B14: ='[2]aluminium plate'!$B17 -> SEMI CONTACT FREZZER 400KGS | C14: ='[2]aluminium plate'!C17 -> 9TRAY,10PCS PLATE (30" x 43") | D14: ='[2]aluminium plate'!J17 -> 25042.104
A15: ='[2]aluminium plate'!$A18 -> 0 | B15: ='[2]aluminium plate'!$B18 -> SEMI CONTACT FREZZER 500KGS | C15: ='[2]aluminium plate'!C18 -> 11TRAY,12PCS PLATE (30" x 43") | D15: ='[2]aluminium plate'!J18 -> 28692.056
A16: ='[2]aluminium plate'!$A19 -> 0 | B16: ='[2]aluminium plate'!$B19 -> SEMI CONTACT FREZZER 800KGS | C16: ='[2]aluminium plate'!C19 -> 11TRAY,12PCS PLATE (30" x 67") | D16: ='[2]aluminium plate'!J19 -> 35032.311
A17: ='[2]aluminium plate'!$A20 -> 0 | B17: ='[2]aluminium plate'!$B20 -> SEMI CONTACT FREZZER 1500KGS | C17: ='[2]aluminium plate'!C20 -> 12TRAY ,13PCS PLATE (40" x 96") 144pcs ice tray 14"*17" | D17: ='[2]aluminium plate'!J20 -> 52220.903
A18: ='[2]aluminium plate'!$A21 -> AL005.3 | B18: ='[2]aluminium plate'!$B21 -> SEMI CONTACT FREZZER 300KGS COMPLETE SET (7racks) | C18: ='[2]aluminium plate'!C21 -> 1SET ZFI36 Copeland C/W CU125QC (8hp) | D18: ='[2]aluminium plate'!J21 -> 43817.595
A19: ='[2]aluminium plate'!$A22 -> AL005.4 | B19: ='[2]aluminium plate'!$B22 -> SEMI CONTACT FREZZER 400KGS COMPLETE SET (9racks) | C19: ='[2]aluminium plate'!C22 -> 1SET ZFI39 Copeland C/W CU144QC (10hp) | D19: ='[2]aluminium plate'!J22 -> 49247.535
A20: ='[2]aluminium plate'!$A23 -> AL006 | B20: ='[2]aluminium plate'!$B23 -> SEMI CONTACT FREZZER 500KGS COMPLETE SET (11racks) | C20: ='[2]aluminium plate'!C23 -> ZFI50 COPELAND (12hp) C/W CU160QC | D20: ='[2]aluminium plate'!J23 -> 55421.66
... A25: ='[2]aluminium plate'!$A28 -> AL009 | B25: ='[2]aluminium plate'!$B28 -> 110102 S/STEEL RACK 15TIER (150kgs)(466L*620W*1710H)80mm | C25: ='[2]aluminium plate'!C28 -> 0 | D25: ='[2]aluminium plate'!J28 -> 573.87057
A26: ='[2]aluminium plate'!$A29 -> AL010 | B26: ='[2]aluminium plate'!$B29 -> 110202 S/STEEL RACK 16TIER(160kgs) (466L*620W*1710H)80mm | D26: ='[2]aluminium plate'!J29 -> 586.08059
A27: ='[2]aluminium plate'!$A30 -> AL011 | B27: ='[2]aluminium plate'!$B30 -> HLB1035 ALUMINIUM PAN WITH HOLE 60*40*2.8cm*1mm | D27: ='[2]aluminium plate'!J30 -> 33.975686
A28: ='[2]aluminium plate'!$A31 -> AL011.1 | B28: ='[2]aluminium plate'!$B31 -> HLB3041 S/STELL 304 PAN WITH HOLE 60*40*2.5cm*1mm | C28: ='[2]aluminium plate'!C31 -> 0 | D28: ='[2]aluminium plate'!J31 -> 50.963529
A29: ='[2]aluminium plate'!$A32 -> AL011.2 | B29: ='[2]aluminium plate'!$B32 -> HLB1031 ALUMINIUM PAN 60*40*2.8cm*1mm | D29: ='[2]aluminium plate'!J32 -> 33.975686
A30: ='[2]aluminium plate'!$A33 -> AL012 | B30: ='[2]aluminium plate'!$B33 -> HLB1040 ALUMINIUM PAN 46*33*2.7CM | D30: ='[2]aluminium plate'!J33 -> 23.358284
A31: ='[2]aluminium plate'!$A34 -> AL012.1 | B31: ='[2]aluminium plate'!$B34 -> HLB3040 S/STELL 304 PAN 60*40*2.5cm*1mm | D31: ='[2]aluminium plate'!J34 -> 50.432659
A33: *The aluminium plate is with 250psi internal to test leaking
A34: PRICE VALID : Ex-factory KL

Sheet ALL NEW COMP
A1: ='ALUMINIUM PLATE'!A1 -> DATE :28.9.26
T3: c/w contactor,solenoid valve,3ph relay protection,timer delay | U3: c/w contactor,overload,3ph relay,timer delay w/o solenoid valve | V3: w/o contactor acc,solenoid valve
A5: ='[2]ALL NEW COMP'!A8 -> ITEM CODE | B5: ='[2]ALL NEW COMP'!B8 -> MODEL | C5: BRAND | D5: HP | E5: High side / Low side copper pipe | F5: 1 pallet quantity | G5: BTU/HR AT 0c/ -25c | H5: ='[2]ALL NEW COMP'!$O8 -> RM | I5: ACC OF REF | J5: ='[1]ALL NEW COMP'!S8 -> CU QC MODEL | K5: ='[2]ALL NEW COMP'!W8 -> Condensing unit (RM) | L5: ='[2]ALL NEW COMP'!$AR$8 -> Model QC unit | M5: ='[2]ALL NEW COMP'!AT8 -> C/W Condenser sets BCU,TCU | N5: ='[2]ALL NEW COMP'!$AU8 -> BCU COST | O5: acc | P5: ='[2]ALL NEW COMP'!$AW8 -> ACC OF REF | Q5: ='[2]ALL NEW COMP'!$BB8 -> COST C/W BCU-00 | R5: ='[2]ALL NEW COMP'!AZ8 -> COST BCU Cond for coldroom (RM)-2 | S5: ='[2]ALL NEW COMP'!BA8 -> COST BCU Cond for showcase(RM)-1 | T5: ='[2]ALL NEW COMP'!BC8 -> BCU Condensing unit coldroom (RM)-02 | U5: ='[2]ALL NEW COMP'!BD8 -> BCU Condensing unit showcase(RM)-01 | V5: ='[2]ALL NEW COMP'!BE8 -> BCU Condensing unit normal (RM)-00 | W5: ='[1]ALL NEW COMP'!$AG8 -> HTC MODEL | X5: ='[2]ALL NEW COMP'!$BI8 -> HTC cond (RM) | Y5: PIC
A6: ='[2]ALL NEW COMP'!A9 -> ALL001 | B6: ='[2]ALL NEW COMP'!B9 -> MT18 MANEUROP COMP 1.5HP | C6: MANEUROP ORIGINAL NEW COMPRESSOR (R22) (15c ~ -25c) c/w service valve | D6: ='[2]ALL NEW COMP'!D9 -> 1.5 | E6: ='[2]ALL NEW COMP'!E9 -> (V01,06) | F6: ='[2]ALL NEW COMP'!F9 -> 0 | G6: ='[2]ALL NEW COMP'!G9 -> 0 | H6: ='[2]ALL NEW COMP'!O9 -> 1611.2381 | I6: Filter drier,sight glass,hand valve,hi-lo control,QC oil sep,suction acc and etc. | J6: ='[2]ALL NEW COMP'!T9 -> CU - 22 QC | K6: ='[2]ALL NEW COMP'!W9 -> 4006.6703
A7: ='[2]ALL NEW COMP'!A10 -> ALL001.1 | B7: ='[2]ALL NEW COMP'!B10 -> MT18 MANEUROP COMP 1.5HP (1ph) | D7: ='[2]ALL NEW COMP'!D10 -> 1.5 | E7: ='[2]ALL NEW COMP'!E10 -> (V01,06) | F7: ='[2]ALL NEW COMP'!F10 -> 0 | G7: ='[2]ALL NEW COMP'!G10 -> 0 | H7: ='[2]ALL NEW COMP'!O10 -> 1688.2949 | J7: ='[2]ALL NEW COMP'!T10 -> CU - 22 QC | K7: ='[2]ALL NEW COMP'!W10 -> 4135.7026
A8: ='[2]ALL NEW COMP'!A11 -> ALL002 | B8: ='[2]ALL NEW COMP'!B11 -> MT22 MANEUROP COMP 2HP (1ph) | D8: ='[2]ALL NEW COMP'!D11 -> 2 | E8: ='[2]ALL NEW COMP'!E11 -> (V01,06) | F8: ='[2]ALL NEW COMP'!F11 -> 24 | G8: ='[2]ALL NEW COMP'!G11 -> 3200 btu | H8: ='[2]ALL NEW COMP'!O11 -> 1901.0108 | J8: ='[2]ALL NEW COMP'!T11 -> CU - 32 QC | K8: ='[2]ALL NEW COMP'!W11 -> 4352.2127 | M8: ='[2]ALL NEW COMP'!AT11 -> 0 | N8: ='[2]ALL NEW COMP'!$AU11 -> 0 | P8: ='[2]ALL NEW COMP'!$AW11 -> 0 | Q8: ='[2]ALL NEW COMP'!$BB11 -> 0 | T8: ='[2]ALL NEW COMP'!BC11 -> 0 | U8: ='[2]ALL NEW COMP'!BD11 -> 0 | V8: ='[2]ALL NEW COMP'!BE11 -> 0 | W8: ='[2]ALL NEW COMP'!$BF11 -> 0 | X8: ='[2]ALL NEW COMP'!$BI11 -> 0
A9: ='[2]ALL NEW COMP'!A12 -> ALL003 | B9: ='[2]ALL NEW COMP'!B12 -> MT22 MANEUROP COMP 2HP | D9: ='[2]ALL NEW COMP'!D12 -> 2 | E9: ='[2]ALL NEW COMP'!E12 -> (V01,06) | F9: ='[2]ALL NEW COMP'!F12 -> 24 | G9: ='[2]ALL NEW COMP'!G12 -> 3200 btu | H9: ='[2]ALL NEW COMP'!O12 -> 2017.9805 | J9: ='[2]ALL NEW COMP'!T12 -> CU - 32 QC | K9: ='[2]ALL NEW COMP'!W12 -> 4465.4092 | M9: ='[2]ALL NEW COMP'!AT12 -> 0 | N9: ='[2]ALL NEW COMP'!$AU12 -> 0 | P9: ='[2]ALL NEW COMP'!$AW12 -> 0 | Q9: ='[2]ALL NEW COMP'!$BB12 -> 0 | T9: ='[2]ALL NEW COMP'!BC12 -> 0 | U9: ='[2]ALL NEW COMP'!BD12 -> 0 | V9: ='[2]ALL NEW COMP'!BE12 -> 0 | W9: ='[2]ALL NEW COMP'!$BF12 -> 0 | X9: ='[2]ALL NEW COMP'!$BI12 -> 0
A10: ='[2]ALL NEW COMP'!A13 -> ALL004 | B10: ='[2]ALL NEW COMP'!B13 -> MT28 MANEUROP COMP 2HP (1ph) | D10: ='[2]ALL NEW COMP'!D13 -> 2.3 | E10: ='[2]ALL NEW COMP'!E13 -> (V01,06) | F10: ='[2]ALL NEW COMP'!F13 -> 24 | G10: ='[2]ALL NEW COMP'!G13 -> 5768 btu | H10: ='[2]ALL NEW COMP'!O13 -> 2332.4016 | J10: ='[2]ALL NEW COMP'!T13 -> CU - 36 QC | K10: ='[2]ALL NEW COMP'!W13 -> 5135.3945 | M10: ='[2]ALL NEW COMP'!AT13 -> 0 | N10: ='[2]ALL NEW COMP'!$AU13 -> 0 | P10: ='[2]ALL NEW COMP'!$AW13 -> 0 | Q10: ='[2]ALL NEW COMP'!$BB13 -> 0 | T10: ='[2]ALL NEW COMP'!BC13 -> 0 | U10: ='[2]ALL NEW COMP'!BD13 -> 0 | V10: ='[2]ALL NEW COMP'!BE13 -> 0 | W10: ='[2]ALL NEW COMP'!$BF13 -> 0 | X10: ='[2]ALL NEW COMP'!$BI13 -> 0
A11: ='[2]ALL NEW COMP'!A14 -> ALL005 | B11: ='[2]ALL NEW COMP'!B14 -> MT28 MANEUROP COMP 2HP | D11: ='[2]ALL NEW COMP'!D14 -> 2.3 | E11: ='[2]ALL NEW COMP'!E14 -> (V01,06) | F11: ='[2]ALL NEW COMP'!F14 -> 24 | G11: ='[2]ALL NEW COMP'!G14 -> 5768 btu | H11: ='[2]ALL NEW COMP'!O14 -> 2519.7967 | J11: ='[2]ALL NEW COMP'!T14 -> CU - 36 QC | K11: ='[2]ALL NEW COMP'!W14 -> 5085.7714 | M11: ='[2]ALL NEW COMP'!AT14 -> 0 | N11: ='[2]ALL NEW COMP'!$AU14 -> 0 | P11: ='[2]ALL NEW COMP'!$AW14 -> 0 | Q11: ='[2]ALL NEW COMP'!$BB14 -> 0 | T11: ='[2]ALL NEW COMP'!BC14 -> 0 | U11: ='[2]ALL NEW COMP'!BD14 -> 0 | V11: ='[2]ALL NEW COMP'!BE14 -> 0 | W11: ='[2]ALL NEW COMP'!$BF14 -> 0 | X11: ='[2]ALL NEW COMP'!$BI14 -> 0
A12: ='[2]ALL NEW COMP'!A15 -> ALL006 | B12: ='[2]ALL NEW COMP'!B15 -> MT32 MANEUROP COMP 2.5HP (1ph) | D12: ='[2]ALL NEW COMP'!D15 -> 2.5 | E12: ='[2]ALL NEW COMP'!E15 -> (V06,09) | F12: ='[2]ALL NEW COMP'!F15 -> 24 | G12: ='[2]ALL NEW COMP'!G15 -> 6143 btu | H12: ='[2]ALL NEW COMP'!O15 -> 2362.5237 | J12: ='[2]ALL NEW COMP'!T15 -> CU - 36 QC | K12: ='[2]ALL NEW COMP'!W15 -> 5251.6787 | M12: ='[2]ALL NEW COMP'!AT15 -> 0 | N12: ='[2]ALL NEW COMP'!$AU15 -> 0 | P12: ='[2]ALL NEW COMP'!$AW15 -> 0 | Q12: ='[2]ALL NEW COMP'!$BB15 -> 0 | T12: ='[2]ALL NEW COMP'!BC15 -> 0 | U12: ='[2]ALL NEW COMP'!BD15 -> 0 | V12: ='[2]ALL NEW COMP'!BE15 -> 0 | W12: ='[2]ALL NEW COMP'!$BF15 -> 0 | X12: ='[2]ALL NEW COMP'!$BI15 -> 0
A13: ='[2]ALL NEW COMP'!A16 -> ALL007 | B13: ='[2]ALL NEW COMP'!B16 -> MT32 MANEUROP COMP 2.5HP | D13: ='[2]ALL NEW COMP'!D16 -> 2.5 | E13: ='[2]ALL NEW COMP'!E16 -> (V06,09) | F13: ='[2]ALL NEW COMP'!F16 -> 24 | G13: ='[2]ALL NEW COMP'!G16 -> 6143 btu | H13: ='[2]ALL NEW COMP'!O16 -> 2658.2952 | J13: ='[2]ALL NEW COMP'!T16 -> CU - 36 QC | K13: ='[2]ALL NEW COMP'!W16 -> 5224.2699 | M13: ='[2]ALL NEW COMP'!AT16 -> 0 | N13: ='[2]ALL NEW COMP'!$AU16 -> 0 | P13: ='[2]ALL NEW COMP'!$AW16 -> 0 | Q13: ='[2]ALL NEW COMP'!$BB16 -> 0 | T13: ='[2]ALL NEW COMP'!BC16 -> 0 | U13: ='[2]ALL NEW COMP'!BD16 -> 0 | V13: ='[2]ALL NEW COMP'!BE16 -> 0 | W13: ='[2]ALL NEW COMP'!$BF16 -> 0 | X13: ='[2]ALL NEW COMP'!$BI16 -> 0
A14: ='[2]ALL NEW COMP'!A17 -> ALL009 | B14: ='[2]ALL NEW COMP'!B17 -> MT36 MANEUROP COMP 3HP | D14: ='[2]ALL NEW COMP'!D17 -> 3 | E14: ='[2]ALL NEW COMP'!E17 -> (V06,09) | F14: ='[2]ALL NEW COMP'!F17 -> 24 | G14: ='[2]ALL NEW COMP'!G17 -> 7780 btu | H14: ='[2]ALL NEW COMP'!O17 -> 2687.1041 | J14: ='[2]ALL NEW COMP'!T17 -> CU - 40 QC | K14: ='[2]ALL NEW COMP'!W17 -> 5388.4859 | M14: ='[2]ALL NEW COMP'!AT17 -> 0 | N14: ='[2]ALL NEW COMP'!$AU17 -> 0 | P14: ='[2]ALL NEW COMP'!$AW17 -> 0 | Q14: ='[2]ALL NEW COMP'!$BB17 -> 0 | T14: ='[2]ALL NEW COMP'!BC17 -> 0 | U14: ='[2]ALL NEW COMP'!BD17 -> 0 | V14: ='[2]ALL NEW COMP'!BE17 -> 0 | W14: ='[2]ALL NEW COMP'!$BF17 -> 0 | X14: ='[2]ALL NEW COMP'!$BI17 -> 0
A15: ='[2]ALL NEW COMP'!A18 -> ALL009.1 | B15: ='[2]ALL NEW COMP'!B18 -> MT36 MANEUROP COMP 3HP (1ph) | D15: ='[2]ALL NEW COMP'!D18 -> 3 | E15: ='[2]ALL NEW COMP'!E18 -> (V06,09) | F15: ='[2]ALL NEW COMP'!F18 -> 24 | G15: ='[2]ALL NEW COMP'!G18 -> 7780 btu | H15: ='[2]ALL NEW COMP'!O18 -> 2201.3127 | J15: ='[2]ALL NEW COMP'!T18 -> CU - 40 QC | K15: ='[2]ALL NEW COMP'!W18 -> 5140.1009
A16: ='[2]ALL NEW COMP'!A19 -> ALL010 | B16: ='[2]ALL NEW COMP'!B19 -> MT40 MANEUROP COMP 3.5HP | D16: ='[2]ALL NEW COMP'!D19 -> 3.5 | E16: ='[2]ALL NEW COMP'!E19 -> (V06,09) | F16: ='[2]ALL NEW COMP'!F19 -> 24 | G16: ='[2]ALL NEW COMP'!G19 -> 8294 btu | H16: ='[2]ALL NEW COMP'!O19 -> ~ | J16: ='[2]ALL NEW COMP'!T19 -> CU - 50 QC | K16: ='[2]ALL NEW COMP'!W19 -> 5590.2672 | M16: ='[2]ALL NEW COMP'!AT19 -> 0 | N16: ='[2]ALL NEW COMP'!$AU19 -> 0 | P16: ='[2]ALL NEW COMP'!$AW19 -> 0 | Q16: ='[2]ALL NEW COMP'!$BB19 -> 0 | T16: ='[2]ALL NEW COMP'!BC19 -> 0 | U16: ='[2]ALL NEW COMP'!BD19 -> 0 | V16: ='[2]ALL NEW COMP'!BE19 -> 0 | W16: ='[2]ALL NEW COMP'!$BF19 -> 0 | X16: ='[2]ALL NEW COMP'!$BI19 -> 0
A17: ='[2]ALL NEW COMP'!A20 -> ALL010.1 | B17: ='[2]ALL NEW COMP'!B20 -> MT44 MANEUROP COMP 4HP | D17: ='[2]ALL NEW COMP'!D20 -> 4 | E17: ='[2]ALL NEW COMP'!E20 -> (V04,07) | F17: ='[2]ALL NEW COMP'!F20 -> 24 | G17: ='[2]ALL NEW COMP'!G20 -> 9600 btu | H17: ='[2]ALL NEW COMP'!O20 -> 2931.2322 | J17: ='[2]ALL NEW COMP'!T20 -> CU - 64B QC | K17: ='[2]ALL NEW COMP'!W20 -> 6521.7146 | M17: ='[2]ALL NEW COMP'!AT20 -> 0 | N17: ='[2]ALL NEW COMP'!$AU20 -> 0 | P17: ='[2]ALL NEW COMP'!$AW20 -> 0 | Q17: ='[2]ALL NEW COMP'!$BB20 -> 0 | T17: ='[2]ALL NEW COMP'!BC20 -> 0 | U17: ='[2]ALL NEW COMP'!BD20 -> 0 | V17: ='[2]ALL NEW COMP'!BE20 -> 0 | W17: ='[2]ALL NEW COMP'!$BF20 -> 0 | X17: ='[2]ALL NEW COMP'!$BI20 -> 0
A18: ='[2]ALL NEW COMP'!A21 -> ALL011 | B18: ='[2]ALL NEW COMP'!B21 -> MT50 MANEUROP COMP 4HP | D18: ='[2]ALL NEW COMP'!D21 -> 4 | E18: ='[2]ALL NEW COMP'!E21 -> (V04,07) | F18: ='[2]ALL NEW COMP'!F21 -> 12 | G18: ='[2]ALL NEW COMP'!G21 -> 9932 btu | H18: ='[2]ALL NEW COMP'!O21 -> ~ | J18: ='[2]ALL NEW COMP'!T21 -> CU - 64B QC | K18: ='[2]ALL NEW COMP'!W21 -> 6796.0852 | M18: ='[2]ALL NEW COMP'!AT21 -> 0 | N18: ='[2]ALL NEW COMP'!$AU21 -> 0 | P18: ='[2]ALL NEW COMP'!$AW21 -> 0 | Q18: ='[2]ALL NEW COMP'!$BB21 -> 0 | T18: ='[2]ALL NEW COMP'!BC21 -> 0 | U18: ='[2]ALL NEW COMP'!BD21 -> 0 | V18: ='[2]ALL NEW COMP'!BE21 -> 0 | W18: ='[2]ALL NEW COMP'!$BF21 -> 0 | X18: ='[2]ALL NEW COMP'!$BI21 -> 0
A19: ='[2]ALL NEW COMP'!A22 -> ALL012 | B19: ='[2]ALL NEW COMP'!B22 -> MT64 MANEUROP COMP 5HP | D19: ='[2]ALL NEW COMP'!D22 -> 5 | E19: ='[2]ALL NEW COMP'!E22 -> (V04,07) | F19: ='[2]ALL NEW COMP'!F22 -> 12 | G19: ='[2]ALL NEW COMP'!G22 -> 11843 btu | H19: ='[2]ALL NEW COMP'!O22 -> ~ | J19: ='[2]ALL NEW COMP'!T22 -> CU - 72 QC | K19: ='[2]ALL NEW COMP'!W22 -> 7311.5616 | M19: ='[2]ALL NEW COMP'!AT22 -> 0 | N19: ='[2]ALL NEW COMP'!$AU22 -> 0 | P19: ='[2]ALL NEW COMP'!$AW22 -> 0 | Q19: ='[2]ALL NEW COMP'!$BB22 -> 0 | T19: ='[2]ALL NEW COMP'!BC22 -> 0 | U19: ='[2]ALL NEW COMP'!BD22 -> 0 | V19: ='[2]ALL NEW COMP'!BE22 -> 0 | W19: ='[2]ALL NEW COMP'!$BF22 -> HTC-5 | X19: ='[2]ALL NEW COMP'!$BI22 -> 7383.8822
A20: ='[2]ALL NEW COMP'!A23 -> ALL013 | B20: ='[2]ALL NEW COMP'!B23 -> MT72 MANEUROP COMP 6HP | D20: ='[2]ALL NEW COMP'!D23 -> 6 | E20: ='[2]ALL NEW COMP'!E23 -> (V04,07) | F20: ='[2]ALL NEW COMP'!F23 -> 12 | G20: ='[2]ALL NEW COMP'!G23 -> 13200 btu | H20: ='[2]ALL NEW COMP'!O23 -> 3730.0792 | J20: ='[2]ALL NEW COMP'!T23 -> CU - 90 QC | K20: ='[2]ALL NEW COMP'!W23 -> 8121.6527 | M20: ='[2]ALL NEW COMP'!AT23 -> 0 | N20: ='[2]ALL NEW COMP'!$AU23 -> 0 | P20: ='[2]ALL NEW COMP'!$AW23 -> 0 | Q20: ='[2]ALL NEW COMP'!$BB23 -> 0 | T20: ='[2]ALL NEW COMP'!BC23 -> 0 | U20: ='[2]ALL NEW COMP'!BD23 -> 0 | V20: ='[2]ALL NEW COMP'!BE23 -> 0 | W20: ='[2]ALL NEW COMP'!$BF23 -> 0 | X20: ='[2]ALL NEW COMP'!$BI23 -> 0
A21: ='[2]ALL NEW COMP'!A24 -> ALL014 | B21: ='[2]ALL NEW COMP'!B24 -> MT80 MANEUROP COMP 6.5HP | D21: ='[2]ALL NEW COMP'!D24 -> 6.5 | E21: ='[2]ALL NEW COMP'!E24 -> (V02,04) | F21: ='[2]ALL NEW COMP'!F24 -> 12 | G21: ='[2]ALL NEW COMP'!G24 -> 14983 btu | H21: ='[2]ALL NEW COMP'!O24 -> ~ | J21: ='[2]ALL NEW COMP'!T24 -> CU - 90 QC | K21: ='[2]ALL NEW COMP'!W24 -> 9357.7194 | M21: ='[2]ALL NEW COMP'!AT24 -> 0 | N21: ='[2]ALL NEW COMP'!$AU24 -> 0 | P21: ='[2]ALL NEW COMP'!$AW24 -> 0 | Q21: ='[2]ALL NEW COMP'!$BB24 -> 0 | T21: ='[2]ALL NEW COMP'!BC24 -> 0 | U21: ='[2]ALL NEW COMP'!BD24 -> 0 | V21: ='[2]ALL NEW COMP'!BE24 -> 0 | W21: ='[2]ALL NEW COMP'!$BF24 -> 0 | X21: ='[2]ALL NEW COMP'!$BI24 -> 0
