Workbook

Sheet C.tower parts
A2: ='[1]C.tower parts'!$A$4 -> DATE :28.9.26
A7: ITEM CODE | B7: Name | C7: Model | D7: Spec | E7: unit | F7: ='[2]C.tower parts'!$J$7 -> (RM) | G7: Picture
A8: ='[1]C.tower parts'!$A8 -> CTP001 | B8: ABS Sprinkler head | C8: 8T-10T | D8: 1.5"(4 Blades) | E8: PC | F8: ='[1]C.tower parts'!$J8 -> 47.341312
A9: ='[1]C.tower parts'!$A9 -> CTP002 | C9: 15T-20T | D9: 2"(4 Blades) | E9: PC | F9: ='[1]C.tower parts'!$J9 -> 56.809574
A10: ='[1]C.tower parts'!$A10 -> CTP003 | C10: 15T-20T | D10: 2"(6 Blades) | E10: PC | F10: ='[1]C.tower parts'!$J10 -> 66.277837
A11: ='[1]C.tower parts'!$A11 -> CTP004 | C11: Liang Chi | D11: 2.5"(4 Blades) | E11: PC | F11: ='[1]C.tower parts'!$J11 -> 97.387842
A12: ='[1]C.tower parts'!$A12 -> CTP005 | C12: 25T-50T | D12: 3"(4 Blades) | E12: PC | F12: ='[1]C.tower parts'!$J12 -> 75.746099
A13: ='[1]C.tower parts'!$A13 -> CTP006 | C13: 25T-50T | D13: 3"(6 Blades) | E13: PC | F13: ='[1]C.tower parts'!$J13 -> 85.214361
A14: ='[1]C.tower parts'!$A14 -> CTP007 | C14: 60T-80T | D14: 4"(4 Blades) | E14: PC | F14: ='[1]C.tower parts'!$J14 -> 157.80437
A15: ='[1]C.tower parts'!$A15 -> CTP008 | C15: 60T-80T | D15: 4"(6 Blades) | E15: PC | F15: ='[1]C.tower parts'!$J15 -> 170.42872
A16: ='[1]C.tower parts'!$A16 -> CTP009 | C16: 100T-125T5"4吼 | D16: 5"(4 Blades) | E16: PC | F16: ='[1]C.tower parts'!$J16 -> 285.671
A17: ='[1]C.tower parts'!$A17 -> CTP010 | B17: Standard ABS fan | C17: 8T | D17: 55CM(Dia) | E17: PC | F17: ='[1]C.tower parts'!$J17 -> 108.20871
A18: ='[1]C.tower parts'!$A18 -> CTP011 | C18: 10T-15T | D18: 63.5CM(Dia) | E18: PC | F18: ='[1]C.tower parts'!$J18 -> 104.15089
A19: ='[1]C.tower parts'!$A19 -> CTP012 | C19: 20T | D19: 77CM(Dia) | E19: PC | F19: ='[1]C.tower parts'!$J19 -> 104.15089
A20: ='[1]C.tower parts'!$A20 -> CTP013 | C20: 25T-30T | D20: 77CM(Dia) | E20: PC | F20: ='[1]C.tower parts'!$J20 -> 108.20871
A21: ='[1]C.tower parts'!$A21 -> CTP014 | C21: 40T-50T | D21: 93CM(Dia) | E21: PC | F21: ='[1]C.tower parts'!$J21 -> 108.20871
A22: ='[1]C.tower parts'!$A22 -> CTP015 | C22: 60T-80T | D22: 118CM(Dia) | E22: PC | F22: ='[1]C.tower parts'!$J22 -> 216.41743
A23: ='[1]C.tower parts'!$A23 -> CTP016 | B23: Low noise ABS fan | C23: 8T-10T | D23: 58CM(Dia) | E23: PC | F23: ='[1]C.tower parts'!$J23 -> 180.34785
A24: ='[1]C.tower parts'!$A24 -> CTP017 | C24: 15T-25T | D24: 76CM(Dia) | E24: PC | F24: ='[1]C.tower parts'!$J24 -> 216.41743
A25: ='[1]C.tower parts'!$A25 -> CTP018 | C25: 30T-50T | D25: 88.4CM(Dia) | E25: PC | F25: ='[1]C.tower parts'!$J25 -> 234.45221
A26: ='[1]C.tower parts'!$A26 -> CTP019 | C26: 60T | D26: 98CM(Dia) | E26: SET | F26: ='[1]C.tower parts'!$J26 -> 400.37224
A27: ='[1]C.tower parts'!$A27 -> CTP020 | C27: 70T | D27: 118CM(Dia) | E27: SET | F27: ='[1]C.tower parts'!$J27 -> 452.67312
A28: ='[1]C.tower parts'!$A28 -> CTP021 | B28: Center hoop | C28: 8T-20T | D28: 2"(3 Blades) | E28: SET | F28: ='[1]C.tower parts'!$J28 -> 27.052178
A29: ='[1]C.tower parts'!$A29 -> CTP022 | C29: 25T-40T | D29: 3"(6 Blades) | E29: SET | F29: ='[1]C.tower parts'!$J29 -> 54.104356
A30: ='[1]C.tower parts'!$A30 -> CTP023 | C30: 50T | D30: 3"(8 Blades) | E30: PC | F30: ='[1]C.tower parts'!$J30 -> 63.121749
A31: ='[1]C.tower parts'!$A31 -> CTP024 | C31: 60T-80T | D31: 4"(8 Blades) | E31: PC | F31: ='[1]C.tower parts'!$J31 -> 72.139142
A32: ='[1]C.tower parts'!$A32 -> CTP025 | B32: Liang Chi ABS fan | C32: 15T-25T | D32: 64CM(Dia) | E32: pc | F32: ='[1]C.tower parts'!$J32 -> 142.8355
A33: ='[1]C.tower parts'!$A33 -> CTP026 | C33: 30T-50T | D33: 76CM(Dia) | E33: pc | F33: ='[1]C.tower parts'!$J33 -> 168.80559
A34: ='[1]C.tower parts'!$A34 -> CTP026.1 | B34: ABS strut | C34: 8T-20T | D34: 23cm(Height) | E34: pc | F34: ='[1]C.tower parts'!$J34 -> 27.052178
A35: ='[1]C.tower parts'!$A35 -> CTP026.2 | C35: 25T-50T | D35: 30cm(Height) | E35: pc | F35: ='[1]C.tower parts'!$J35 -> 36.069571
A36: ='[1]C.tower parts'!$A36 -> CTP026.3 | D36: 34cm(Height) | E36: set | F36: ='[1]C.tower parts'!$J36 -> 36.069571
A37: ='[1]C.tower parts'!$A37 -> CTP026.4 | C37: 60T-80T | D37: 40cm(Height) | E37: set | F37: ='[1]C.tower parts'!$J37 -> 54.104356
A38: ='[1]C.tower parts'!$A38 -> CTP026.5 | B38: Waterproof net | C38: 8T-10T | D38: 1.5" | E38: set | F38: ='[1]C.tower parts'!$J38 -> 21.641743
A39: ='[1]C.tower parts'!$A39 -> CTP026.6 | C39: 15T-20T | D39: 2" | E39: set | F39: ='[1]C.tower parts'!$J39 -> 21.641743
A40: ='[1]C.tower parts'!$A40 -> CTP026.7 | C40: 25T-50T | D40: 3" | E40: pc | F40: ='[1]C.tower parts'!$J40 -> 21.641743
A41: ='[1]C.tower parts'!$A41 -> CTP026.8 | C41: 60T-80T | D41: 4" | E41: pc | F41: ='[1]C.tower parts'!$J41 -> 27.052178
A42: ='[1]C.tower parts'!$A42 -> CTP026.9 | B42: High temp resisant socket | C42: 8T-50T | D42: 0.5" | E42: pc | F42: ='[1]C.tower parts'!$J42 -> 18.034785
A43: ='[1]C.tower parts'!$A43 -> CTP026.10 | C43: 60T-80T | D43: 0.75" | E43: pc | F43: ='[1]C.tower parts'!$J43 -> 21.641743
A44: ='[1]C.tower parts'!$A44 -> CTP026.11 | C44: 8T-80T | D44: 1" | E44: pc | F44: ='[1]C.tower parts'!$J44 -> 27.052178
A45: ='[1]C.tower parts'!$A45 -> CTP026.12 | C45: 8T-10T | D45: 1.5" | E45: pc | F45: ='[1]C.tower parts'!$J45 -> 27.052178
A46: ='[1]C.tower parts'!$A46 -> CTP026.13 | C46: 15T-20T | D46: 2" | E46: pc | F46: ='[1]C.tower parts'!$J46 -> 32.462614
A47: ='[1]C.tower parts'!$A47 -> CTP026.14 | C47: 25T-50T | D47: 3" | E47: set | F47: ='[1]C.tower parts'!$J47 -> 54.104356
A48: ='[1]C.tower parts'!$A48 -> CTP026.15 | C48: 60T-80T | D48: 4" | E48: set | F48: ='[1]C.tower parts'!$J48 -> 72.139142
A49: ='[1]C.tower parts'!$A49 -> CTP026.16 | B49: Distributor pipe | C49: 8T-10T | D49: 0.5"*32 | E49: set | F49: ='[1]C.tower parts'!$J49 -> 36.069571
A50: ='[1]C.tower parts'!$A50 -> CTP026.17 | C50: 15T-20T | D50: 0.75"*43 | E50: set | F50: ='[1]C.tower parts'!$J50 -> 68.532185
A51: ='[1]C.tower parts'!$A51 -> CTP026.18 | C51: 25T | D51: 1.5"*51、52 | E51: set | F51: ='[1]C.tower parts'!$J51 -> 86.56697
A52: ='[1]C.tower parts'!$A52 -> CTP026.19 | C52: 30T-40T | D52: 1.5"*63 | E52: set | F52: ='[1]C.tower parts'!$J52 -> 108.20871
A53: ='[1]C.tower parts'!$A53 -> CTP026.20 | C53: 50T | D53: 1.5"*75 | E53: set | F53: ='[1]C.tower parts'!$J53 -> 117.22611
A54: ='[1]C.tower parts'!$A54 -> CTP026.21 | C54: 60T-80T | D54: 1.5"85 | E54: set | F54: ='[1]C.tower parts'!$J54 -> 162.31307
A55: ='[1]C.tower parts'!$A55 -> CTP026.22 | C55: 25T-40T | D55: 1.2"*65 | E55: pc | F55: ='[1]C.tower parts'!$J55 -> 144.27828
A56: ='[1]C.tower parts'!$A56 -> CTP026.23 | C56: 50T | D56: 1.2"*75 | E56: pc | F56: ='[1]C.tower parts'!$J56 -> 153.29568
A57: ='[1]C.tower parts'!$A57 -> CTP026.24 | B57: INFILL COOLING TOWER (PER KG) 240mm high | E57: pc | F57: ='[1]C.tower parts'!$J57 -> 25.2487
A58: ='[1]C.tower parts'!$A58 -> CTP026.46 | B58: INFILL COOLING TOWER (PER KG) 340mm high | F58: ='[1]C.tower parts'!$J58 -> 20.19896
A59: ='[1]C.tower parts'!$A59 -> CTP026.25 | B59: Air inlet mesh 1m*1.6m | D59: 2m*1.2m | E59: pc | F59: ='[1]C.tower parts'!$J59 -> 56.809574
A60: ='[1]C.tower parts'!$A60 -> CTP026.26 | B60: Alum. alloy Fan blade (6pcs) | D60: 1.5M(Dia) | E60: pc | F60: ='[1]C.tower parts'!$J60 -> 1090.7438
A61: ='[1]C.tower parts'!$A61 -> CTP026.27 | D61: 1.8M(Dia) | E61: pc | F61: ='[1]C.tower parts'!$J61 -> 1451.9945
A62: ='[1]C.tower parts'!$A62 -> CTP026.28 | D62: 2M(Dia) | E62: pc | F62: ='[1]C.tower parts'!$J62 -> 2315.5
A63: ='[1]C.tower parts'!$A63 -> CTP026.29 | B63: Alum. alloy Fan blade (4pcs) | D63: 1.2M(Dia) Adjustable | E63: pc | F63: ='[1]C.tower parts'!$J63 -> 477.78309
A64: ='[1]C.tower parts'!$A64 -> CTP026.30 | D64: 1.2M(Dia) | E64: pc | F64: ='[1]C.tower parts'!$J64 -> 607.13412
A65: ='[1]C.tower parts'!$A65 -> CTP026.31 | D65: 1.5M(Dia) | E65: pc | F65: ='[1]C.tower parts'!$J65 -> 664.00196
A66: ='[1]C.tower parts'!$A66 -> CTP026.32 | D66: 1.8M(Dia) | E66: pc | F66: ='[1]C.tower parts'!$J66 -> 998.68318
A67: ='[1]C.tower parts'!$A67 -> CTP026.33 | D67: 2M(Dia) | E67: pc | F67: ='[1]C.tower parts'!$J67 -> 1376.2484
A68: ='[1]C.tower parts'!$A68 -> CTP026.34 | D68: 2.1M(Dia) | E68: pc | F68: ='[1]C.tower parts'!$J68 -> 1442.6719
A69: ='[1]C.tower parts'!$A69 -> CTP026.35 | D69: 2.4M(Dia) | E69: pc | F69: ='[1]C.tower parts'!$J69 -> 2433.1978
A70: ='[1]C.tower parts'!$A70 -> CTP026.36 | D70: 2.8M(Dia) | E70: pc | F70: ='[1]C.tower parts'!$J70 -> 2852.7146
A71: ='[1]C.tower parts'!$A71 -> CTP026.37 | D71: 3M(Dia) | E71: pc | F71: ='[1]C.tower parts'!$J71 -> 3036.8359
A72: ='[1]C.tower parts'!$A72 -> CTP026.38 | D72: 3.2M(Dia) | E72: pc | F72: ='[1]C.tower parts'!$J72 -> 3473.8326
A73: ='[1]C.tower parts'!$A73 -> CTP026.39 | D73: 3.4M(Dia) | E73: pc | F73: ='[1]C.tower parts'!$J73 -> 4882.7101
A74: ='[1]C.tower parts'!$A74 -> CTP026.40 | D74: 3.7M(Dia) | E74: pc | F74: ='[1]C.tower parts'!$J74 -> 5537.6225
A75: ='[1]C.tower parts'!$A75 -> CTP026.41 | D75: 4.2M(Dia) | E75: pc | F75: ='[1]C.tower parts'!$J75 -> 6292.7528
... A77: ='[1]C.tower parts'!$A77 -> CTP026.43 | D77: 5M(Dia) | E77: pc | F77: ='[1]C.tower parts'!$J77 -> 11243.052
A78: ='[1]C.tower parts'!$A78 -> CTP026.44 | B78: Wing blade | C78: 270mm Blade Width | D78: 1008/米 | E78: pc | F78: ='[1]C.tower parts'!$J78 -> 1594.1641
A79: ='[1]C.tower parts'!$A79 -> CTP026.45 | C79: 380mm Blade Width | D79: 1224/米 | E79: pc | F79: ='[1]C.tower parts'!$J79 -> 1706.0352
A80: ='[1]C.tower parts'!$A80 -> CTP027 | B80: Aluminium Alloy Sprinkler Head | D80: 3"(4 Blades) | E80: pc | F80: ='[1]C.tower parts'!$J80 -> 137.72018
A81: ='[1]C.tower parts'!$A81 -> CTP028 | D81: 4"(4 Blades) | E81: pc | F81: ='[1]C.tower parts'!$J81 -> 275.44036
A82: ='[1]C.tower parts'!$A82 -> CTP029 | D82: 5"(4 Blades) | E82: pc | F82: ='[1]C.tower parts'!$J82 -> 302.9844
A83: ='[1]C.tower parts'!$A83 -> CTP030 | D83: 6"(4 Blades) | E83: pc | F83: ='[1]C.tower parts'!$J83 -> 315.60875
A84: ='[1]C.tower parts'!$A84 -> CTP031 | D84: 8"(6 Blades) | E84: pc | F84: ='[1]C.tower parts'!$J84 -> 504.97399
A85: ='[1]C.tower parts'!$A85 -> CTP032 | D85: 10"(8 Blades) | E85: pc | F85: ='[1]C.tower parts'!$J85 -> 1073.0697
A86: ='[1]C.tower parts'!$A86 -> CTP033 | D86: 12"(10 Blades) | E86: pc | F86: ='[1]C.tower parts'!$J86 -> 2214.1167
A87: ='[1]C.tower parts'!$A87 -> CTP034 | B87: COOLING TOWER FAN MOTOR | C87: Y8006 | D87: 0.18KW | E87: 500mm/560mm | F87: ='[1]C.tower parts'!$J87 -> 584.58166
A88: ='[1]C.tower parts'!$A88 -> CTP035 | C88: Y8026 | D88: 0.37KW | E88: 760mm | F88: ='[1]C.tower parts'!$J88 -> 657.65437
A89: ='[1]C.tower parts'!$A89 -> CTP036 | C89: Y8036 | D89: 0.55KW | E89: 760mm | F89: ='[1]C.tower parts'!$J89 -> 803.79978
A90: ='[1]C.tower parts'!$A90 -> CTP037 | C90: Y90S-6P | D90: 0.75KW-6P | E90: 760mm | F90: ='[1]C.tower parts'!$J90 -> 949.9452
A91: ='[1]C.tower parts'!$A91 -> CTP038 | C91: Y100-6P | D91: 1.5KW-6P | E91: 860mm | F91: ='[1]C.tower parts'!$J91 -> 1461.4541
A92: ='[1]C.tower parts'!$A92 -> CTP039 | C92: Y112-8P | D92: 1.5KW-8P | E92: 1000mm/1200mm | F92: ='[1]C.tower parts'!$J92 -> 1899.8904
A93: ='[1]C.tower parts'!$A93 -> CTP040 | C93: Y132-8P | D93: 2.2KW-8P | E93: - | F93: ='[1]C.tower parts'!$J93 -> 2484.472
A94: ='[1]C.tower parts'!$A94 -> CTP041 | C94: Y112-4P | D94: 4KW-4P | E94: 1800mm | F94: ='[1]C.tower parts'!$J94 -> 3123.8582
A95: ='[1]C.tower parts'!$A95 -> CTP042 | C95: Y132-4P | D95: 5.5KW-4P | E95: 1800mm | F95: ='[1]C.tower parts'!$J95 -> 3653.6354
A96: ='[1]C.tower parts'!$A96 -> CTP043 | C96: Y160-12P | D96: 4KW-12P | E96: 1800mm | F96: ='[1]C.tower parts'!$J96 -> 4567.0442
A97: ='[1]C.tower parts'!$A97 -> CTP044 | C97: Y160-12P | D97: 5.5KW-12P | E97: 1800mm-2000mm | F97: ='[1]C.tower parts'!$J97 -> 6393.8619
A98: ='[1]C.tower parts'!$A98 -> CTP045 | C98: Y180-16 | D98: 4KW-16P | E98: - | F98: ='[1]C.tower parts'!$J98 -> 8403.3613
A99: ='[1]C.tower parts'!$A99 -> CTP046 | C99: Y132-6P | D99: 4KW-6P | E99: - | F99: ='[1]C.tower parts'!$J99 -> ~
... A110: ='[1]C.tower parts'!$A110 -> CTP057 | C110: Y100-8P | D110: 0.75KW-8P | E110: 900mm | F110: ='[1]C.tower parts'!$J110 -> ~
A111: PRICE VALID : For intend order only and ex-factory at K.L price
A112: *PRICE WILL BE CHANGE ON THE FINAL PAYMENT DUE TO THE CURRENCY RATE
A113: *PLEASE EMAIL OR FAX OVER THE BANK IN SLIP
A114: BANK ACC :HONG LEONG BANK BHD 36600016285 , PUBLIC BANK BHD 3119617816
A115: BENEFICIARY :WELLER AIR-COND PARTS ENTERPRICE SDN BHD
A116: Generated by computer

Sheet COOLING TOWER
A2: ='C.tower parts'!A2 -> DATE :28.9.26
A7: ITEM CODE | B7: Model | C7: Water flow rate(m3/h) | E7: Tower Dimension (mm) | F7: Motor (kw) | G7: Fan Diameter (mm) | H7: Air Flow Rate (m3/h) | I7: WEIGHT | K7: ='[2]COOLING TOWER'!$P$7 -> Standard model
C8: 27'C | D8: 28'C | E8: Standard&Low noise | I8: Standard model | K8: ='[2]COOLING TOWER'!$P$8 -> (RM)
E9: Diameter Do | I9: DRY | J9: WET
A10: ='[1]COOLING TOWER'!$A10 -> COT001 | B10: ='[1]COOLING TOWER'!$B10 -> WT-8 | C10: 6.4 | D10: 5.6 | E10: 930 | F10: 0.18 | G10: 584 | H10: 4200 | I10: 51 | J10: 120 | K10: ='[1]COOLING TOWER'!P10 -> 1397.5155
A11: ='[1]COOLING TOWER'!$A11 -> COT002 | B11: ='[1]COOLING TOWER'!$B11 -> WT-10 | C11: 8 | D11: 7 | E11: 930 | F11: 0.18 | G11: 584 | H11: 5100 | I11: 55 | J11: 137 | K11: ='[1]COOLING TOWER'!P11 -> 1677.0186
A12: ='[1]COOLING TOWER'!$A12 -> COT003 | B12: ='[1]COOLING TOWER'!$B12 -> WT-15 | C12: 12 | D12: 11 | E12: 1175 | F12: 0.37 | G12: 760 | H12: 8400 | I12: 80 | J12: 215 | K12: ='[1]COOLING TOWER'!P12 -> 2236.0248
A13: ='[1]COOLING TOWER'!$A13 -> COT004 | B13: ='[1]COOLING TOWER'!$B13 -> WT-20 | C13: 16 | D13: 14 | E13: 1375 | F13: 0.37 | G13: 760 | H13: 10800 | I13: 102 | J13: 260 | K13: ='[1]COOLING TOWER'!P13 -> 2445.6522
A14: ='[1]COOLING TOWER'!$A14 -> COT005 | B14: ='[1]COOLING TOWER'!$B14 -> WT-25 | C14: 20 | D14: 18 | E14: 1375 | F14: 0.55 | G14: 760 | H14: 13200 | I14: 110 | J14: 325 | K14: ='[1]COOLING TOWER'!P14 -> 3214.2857
A15: ='[1]COOLING TOWER'!$A15 -> COT006 | B15: ='[1]COOLING TOWER'!$B15 -> WT-30 | C15: 24 | D15: 21 | E15: 1615 | F15: 0.75 | G15: 884 | H15: 14400 | I15: 150 | J15: 355 | K15: ='[1]COOLING TOWER'!P15 -> 3563.6646
A16: ='[1]COOLING TOWER'!$A16 -> COT007 | B16: ='[1]COOLING TOWER'!$B16 -> WT-40 | C16: 32 | D16: 28 | E16: 1780 | F16: 0.75 | G16: 884 | H16: 17400 | I16: 165 | J16: 405 | K16: ='[1]COOLING TOWER'!P16 -> 3913.0435
A17: ='[1]COOLING TOWER'!$A17 -> COT008 | B17: ='[1]COOLING TOWER'!$B17 -> WT-50 | C17: 40 | D17: 35 | E17: 1870 | F17: 1.1 | G17: 884 | H17: 19200 | I17: 200 | J17: 500 | K17: ='[1]COOLING TOWER'!P17 -> 5170.8075
A18: ='[1]COOLING TOWER'!$A18 -> COT009 | B18: ='[1]COOLING TOWER'!$B18 -> WT-60 | C18: 48 | D18: 42 | E18: 1870 | F18: 1.5 | G18: 1184 | H18: 24600 | I18: 250 | J18: 560 | K18: ='[1]COOLING TOWER'!P18 -> 6568.323
A19: ='[1]COOLING TOWER'!$A19 -> COT010 | B19: ='[1]COOLING TOWER'!$B19 -> WT-80 | C19: 64 | D19: 56 | E19: 2100 | F19: 1.5 | G19: 1184 | H19: 26400 | I19: 430 | J19: 790 | K19: ='[1]COOLING TOWER'!P19 -> 7127.3292
A20: ='[1]COOLING TOWER'!$A20 -> COT011 | B20: ='[1]COOLING TOWER'!$B20 -> WT-100 | C20: 80 | D20: 70 | E20: 2965 | F20: 2.2 | G20: 1470 | H20: 36600 | I20: 510 | J20: 1340 | K20: ='[1]COOLING TOWER'!P20 -> 12298.137
A21: ='[1]COOLING TOWER'!$A21 -> 0 | B21: ='[1]COOLING TOWER'!$B21 -> WT-125 | C21: 100 | D21: 88 | E21: 2965 | F21: 2.2 | G21: 1470 | H21: 43200 | I21: 620 | J21: 1480 | K21: ='[1]COOLING TOWER'!P21 -> 11961.089
... A27: ='[1]COOLING TOWER'!$A27 -> 0 | B27: ='[1]COOLING TOWER'!$B27 -> WT-300 | C27: 240 | D27: 211 | E27: 4410 | F27: 5.5 | G27: 2360 | H27: 114000 | I27: 1750 | J27: 3460 | K27: ='[1]COOLING TOWER'!P27 -> ~
A28: ='[1]COOLING TOWER'!$A28 -> 0 | B28: ='[1]COOLING TOWER'!$B28 -> WT-350 | K28: ='[1]COOLING TOWER'!P28 -> ~
A29: ='[1]COOLING TOWER'!$A29 -> 0 | B29: ='[1]COOLING TOWER'!$B29 -> WT-400 | K29: ='[1]COOLING TOWER'!P29 -> ~
A30: ='[1]COOLING TOWER'!$A30 -> 0 | B30: ='[1]COOLING TOWER'!$B30 -> WT-500 | K30: ='[1]COOLING TOWER'!P30 -> ~
A32: PRICE VALID : For intend order only and ex-factory at K.L price
A33: *PRICE WILL BE CHANGE ON THE FINAL PAYMENT DUE TO THE CURRENCY RATE
A34: *PLEASE EMAIL OR FAX OVER THE BANK IN SLIP
A35: BANK ACC :HONG LEONG BANK BHD 36600016285 , PUBLIC BANK BHD 3119617816
A36: BENEFICIARY :WELLER AIR-COND PARTS ENTERPRICE SDN BHD
A37: COMPUTER PRINT GENERATE ONLY

Sheet HEATER
A1: PRICE WILL UPDATE OR CHANGE EVERYWEEK DUE TO THE DATE
A2: ='COOLING TOWER'!A2 -> DATE :28.9.26
A3: ITEM CODE | B3: MODEL | C3: APPLICATION | D3: Size (Meter) | E3: =[2]HEATER!$K$7 -> (RM) | F3: Picture
A4: =[1]HEATER!A8 -> HEA001 | B4: =[1]HEATER!B8 -> 70" usa straight heater | C4: USA straight heater (220v-240v) | D4: =[1]HEATER!$D8 -> 1.68 | E4: =[1]HEATER!J8 -> 89.622921
A5: =[1]HEATER!A9 -> HEA002 | B5: =[1]HEATER!B9 -> 90" usa straight heater | D5: =[1]HEATER!$D9 -> 2.29 | E5: =[1]HEATER!J9 -> 105.80484
A6: =[1]HEATER!A10 -> HEA003 | B6: =[1]HEATER!B10 -> 138" usa straight heater | D6: =[1]HEATER!$D10 -> 3.5 | E6: =[1]HEATER!J10 -> 143.14772
A7: =[1]HEATER!A11 -> HEA004 | B7: =[1]HEATER!B11 -> 47" USA Blower heater | C7: USA Unit blower heater (220v-240v) | D7: =[1]HEATER!$D11 -> 1.2 | E7: =[1]HEATER!J11 -> 67.934783 | G7: cl301,cl401,ce301
A8: =[1]HEATER!A12 -> HEA005 | B8: =[1]HEATER!B12 -> 55" USA Blower heater | D8: =[1]HEATER!$D12 -> 1.4 | E8: =[1]HEATER!J12 -> 70.168498 | G8: cle301,cle401
A9: =[1]HEATER!A13 -> HEA006 | B9: =[1]HEATER!B13 -> 63" USA Blower heater | D9: =[1]HEATER!$D13 -> 1.6 | E9: =[1]HEATER!J13 -> 81.741608
A10: =[1]HEATER!A14 -> HEA007 | B10: =[1]HEATER!B14 -> 71" USA Blower heater | D10: =[1]HEATER!$D14 -> 1.8 | E10: =[1]HEATER!J14 -> 88.731145
A11: =[1]HEATER!A15 -> HEA008 | B11: =[1]HEATER!B15 -> 79" USA Blower heater | D11: =[1]HEATER!$D15 -> 2 | E11: =[1]HEATER!J15 -> 97.604259 | G11: cl302,nt501
A12: =[1]HEATER!A16 -> HEA009 | B12: =[1]HEATER!B16 -> 87" USA Blower heater | D12: =[1]HEATER!$D16 -> 2.2 | E12: =[1]HEATER!J16 -> 106.47737 | G12: cle302,nte501
A13: =[1]HEATER!A17 -> HEA010 | B13: =[1]HEATER!B17 -> 94" USA Blower heater | D13: =[1]HEATER!$D17 -> 2.4 | E13: =[1]HEATER!J17 -> 115.35049 | G13: cl402,ce302,cle402
A14: =[1]HEATER!A18 -> HEA011 | B14: =[1]HEATER!B18 -> 102" USA Blower heater | D14: =[1]HEATER!$D18 -> 2.6 | E14: =[1]HEATER!J18 -> 124.2236
A15: =[1]HEATER!A19 -> HEA012 | B15: =[1]HEATER!B19 -> 110" USA Blower heater | D15: =[1]HEATER!$D19 -> 2.8 | E15: =[1]HEATER!J19 -> 133.09672 | G15: cl303
A16: =[1]HEATER!A20 -> HEA013 | B16: =[1]HEATER!B20 -> 118" USA Blower heater | D16: =[1]HEATER!$D20 -> 3 | E16: =[1]HEATER!J20 -> 141.96983 | G16: cle303
A17: =[1]HEATER!A21 -> HEA014 | B17: =[1]HEATER!B21 -> 125" USA Blower heater | D17: =[1]HEATER!$D21 -> 3.2 | E17: =[1]HEATER!J21 -> 150.84295
A18: =[1]HEATER!A22 -> HEA015 | B18: =[1]HEATER!B22 -> 133" USA Blower heater | D18: =[1]HEATER!$D22 -> 3.4 | E18: =[1]HEATER!J22 -> 155.58177 | G18: cl403,nt502,ce303
A19: =[1]HEATER!A23 -> HEA016 | B19: =[1]HEATER!B23 -> 142" USA Blower heater | D19: =[1]HEATER!$D23 -> 3.6 | E19: =[1]HEATER!J23 -> 168.58917 | G19: cle403,nte502
A20: =[1]HEATER!A24 -> HEA017 | B20: =[1]HEATER!B24 -> 149" USA Blower heater | D20: =[1]HEATER!$D24 -> 3.8 | E20: =[1]HEATER!J24 -> 176.8831
A21: =[1]HEATER!A25 -> HEA018 | B21: =[1]HEATER!B25 -> 157" USA Blower heater | D21: =[1]HEATER!$D25 -> 4 | E21: =[1]HEATER!J25 -> 181.98778
A22: =[1]HEATER!A26 -> HEA019 | B22: =[1]HEATER!B26 -> 164" USA Blower heater | D22: =[1]HEATER!$D26 -> 4.2 | E22: =[1]HEATER!J26 -> 195.20852 | G22: cl404,nt632
A23: =[1]HEATER!A27 -> HEA020 | B23: =[1]HEATER!B27 -> 174" USA Blower heater | D23: =[1]HEATER!$D27 -> 4.4 | E23: =[1]HEATER!J27 -> 204.08163
A24: =[1]HEATER!A28 -> HEA021 | B24: =[1]HEATER!B28 -> 181" USA Blower heater | D24: =[1]HEATER!$D28 -> 4.6 | E24: =[1]HEATER!J28 -> 204.83896 | G24: cle404
A25: =[1]HEATER!A29 -> HEA022 | B25: =[1]HEATER!B29 -> 189" USA Blower heater | D25: =[1]HEATER!$D29 -> 4.8 | E25: =[1]HEATER!J29 -> 213.45151 | G25: nte802
A26: =[1]HEATER!A30 -> HEA023 | B26: =[1]HEATER!B30 -> 196" USA Blower heater | D26: =[1]HEATER!$D30 -> 5 | E26: =[1]HEATER!J30 -> 226.02117 | G26: nt503
A27: =[1]HEATER!A31 -> HEA024 | B27: =[1]HEATER!B31 -> 204" USA Blower heater | D27: =[1]HEATER!$D31 -> 5.2 | E27: =[1]HEATER!J31 -> 239.57409
A28: =[1]HEATER!A32 -> HEA025 | B28: =[1]HEATER!B32 -> 213" USA Blower heater | D28: =[1]HEATER!$D32 -> 5.4 | E28: =[1]HEATER!J32 -> 248.4472 | G28: cl405,nte503
A29: =[1]HEATER!A33 -> HEA026 | B29: =[1]HEATER!B33 -> 219" USA Blower heater | D29: =[1]HEATER!$D33 -> 5.6 | E29: =[1]HEATER!J33 -> 257.32032
A30: =[1]HEATER!A34 -> HEA027 | B30: =[1]HEATER!B34 -> 228" USA Blower heater | D30: =[1]HEATER!$D34 -> 5.8 | E30: =[1]HEATER!J34 -> 257.47009
A31: =[1]HEATER!A35 -> HEA028 | B31: =[1]HEATER!B35 -> 236" USA Blower heater | D31: =[1]HEATER!$D35 -> 6 | E31: =[1]HEATER!J35 -> 275.06655
A32: =[1]HEATER!A36 -> HEA029 | B32: =[1]HEATER!B36 -> 243" USA Blower heater | D32: =[1]HEATER!$D36 -> 6.2 | E32: =[1]HEATER!J36 -> 283.93966
A33: =[1]HEATER!A37 -> HEA030 | B33: =[1]HEATER!B37 -> 251" USA Blower heater | D33: =[1]HEATER!$D37 -> 6.4 | E33: =[1]HEATER!J37 -> 292.81278 | G33: nt504,nt633
A34: =[1]HEATER!A38 -> HEA031 | B34: =[1]HEATER!B38 -> 258" USA Blower heater | D34: =[1]HEATER!$D38 -> 6.6 | E34: =[1]HEATER!J38 -> 301.68589
A35: =[1]HEATER!A39 -> HEA032 | B35: =[1]HEATER!B39 -> 266" USA Blower heater | D35: =[1]HEATER!$D39 -> 6.8 | E35: =[1]HEATER!J39 -> 310.55901 | G35: nte504
A36: =[1]HEATER!A40 -> HEA033 | B36: =[1]HEATER!B40 -> 279" USA Blower heater | D36: =[1]HEATER!$D40 -> 7.1 | E36: =[1]HEATER!J40 -> 325.34753 | G36: nte803
A37: =[1]HEATER!A41 -> HEA033.1 | B37: =[1]HEATER!B41 -> 180" heater (NT632)3ph | C37: 3ph blower heater | D37: =[1]HEATER!$D41 -> 4.57 | E37: =[1]HEATER!J41 -> 201.86335
A38: =[1]HEATER!A42 -> HEA033.2 | B38: =[1]HEATER!B42 -> 212" heater (NT503)3ph | D38: =[1]HEATER!$D42 -> 5.38 | E38: =[1]HEATER!J42 -> 226.26442
A39: =[1]HEATER!A43 -> HEA033.3 | B39: =[1]HEATER!B43 -> 260" heater (NT504,NT633)3ph | D39: =[1]HEATER!$D43 -> 6.6 | E39: =[1]HEATER!J43 -> 277.28483
A40: =[1]HEATER!A44 -> HEA034 | B40: =[1]HEATER!B44 -> SF-CD (5.5m/220w/240v) USA | C40: Coldroom door heater USA | D40: =[1]HEATER!$D44 -> 5.5m | E40: =[1]HEATER!J44 -> 40.562809
A41: =[1]HEATER!A45 -> HEA035 | B41: =[1]HEATER!B45 -> SF-CD (5.67m/220w/240v) USA | D41: =[1]HEATER!$D45 -> 5.67 | E41: =[1]HEATER!J45 -> 50.703511
A42: =[1]HEATER!A46 -> HEA036 | B42: =[1]HEATER!B46 -> SF-CD (6m/240w/240v) USA | D42: =[1]HEATER!$D46 -> 6 | E42: =[1]HEATER!J46 -> 53.238687
A43: =[1]HEATER!A47 -> HEA037 | B43: =[1]HEATER!B47 -> SF-CD (7m/280w/240v) USA | D43: =[1]HEATER!$D47 -> 7 | E43: =[1]HEATER!J47 -> 60.844213
A44: =[1]HEATER!A48 -> HEA038 | B44: =[1]HEATER!B48 -> SF-CD (8.5m/340w/240v) USA | D44: =[1]HEATER!$D48 -> 8.5 | E44: =[1]HEATER!J48 -> 73.520091
A45: =[1]HEATER!A49 -> HEA039 | B45: =[1]HEATER!B49 -> SF-CD (11m/440w/240v) USA | D45: =[1]HEATER!$D49 -> 11 | E45: =[1]HEATER!J49 -> 96.336671
A46: =[1]HEATER!A50 -> HEA039.01 | B46: =[1]HEATER!B50 -> DH-5.5m/220w/240v door heater | C46: Door heater braided 120c | D46: =[1]HEATER!$D50 -> 5.5m/0.82a | E46: =[1]HEATER!J50 -> 29.454264
A47: =[1]HEATER!A51 -> HEA039.02 | B47: =[1]HEATER!B51 -> DH-5.67m/220w/240v door heater | D47: =[1]HEATER!$D51 -> 5.67/0.97a | E47: =[1]HEATER!J51 -> 29.454264
A48: =[1]HEATER!A52 -> HEA039.03 | B48: =[1]HEATER!B52 -> DH-6m/220w/240v door heater | D48: =[1]HEATER!$D52 -> 6/0.97a | E48: =[1]HEATER!J52 -> 32.015504
A49: =[1]HEATER!A53 -> HEA039.04 | B49: =[1]HEATER!B53 -> DH-6.3m/220w/240v door heater | D49: =[1]HEATER!$D53 -> 6/1.02a | E49: =[1]HEATER!J53 -> 34.576744
A50: =[1]HEATER!A54 -> HEA039.05 | B50: =[1]HEATER!B54 -> DH-7m/220w/240v door heater | D50: =[1]HEATER!$D54 -> 7/1.17a | E50: =[1]HEATER!J54 -> 38.418605
A51: =[1]HEATER!A55 -> HEA039.06 | B51: =[1]HEATER!B55 -> DH-8.5m/220w/240v door heater | D51: =[1]HEATER!$D55 -> 8.5/1.35a | E51: =[1]HEATER!J55 -> 47.284436
A52: =[1]HEATER!A56 -> HEA039.07 | B52: =[1]HEATER!B56 -> DH-11m/220w/240v door heater | D52: =[1]HEATER!$D56 -> 11/1.65a | E52: =[1]HEATER!J56 -> 58.908527
A53: =[1]HEATER!A57 -> HEA039.08 | B53: =[1]HEATER!B57 -> DHR-J-S door heater 8mm x 100m(65c~105c) | C53: (40w 65c~105c, 0.5amp) | D53: =[1]HEATER!$D57 -> 100m | E53: =[1]HEATER!J57 -> 679.08903
A54: =[1]HEATER!A58 -> HEA039.09 | B54: =[1]HEATER!B58 -> DHS-J-S door heater 10mm x 100m(65c~105c)S/steel braider | D54: =[1]HEATER!$D58 -> 100m | E54: =[1]HEATER!J58 -> 993.78882
A55: =[1]HEATER!A59 -> HEA039.7 | B55: =[1]HEATER!B59 -> SF-DP (5m/200w/240v) USA | D55: =[1]HEATER!$D59 -> 5 | E55: =[1]HEATER!J59 -> 45.8076
A56: =[1]HEATER!A60 -> HEA040.01 | B56: =[1]HEATER!B60 -> DP (0.5m/20w/240v) USA | C56: Drain pipe heater | D56: =[1]HEATER!$D60 -> 0.5 | E56: =[1]HEATER!J60 -> 19.323671
A57: =[1]HEATER!A61 -> HEA040 | B57: =[1]HEATER!B61 -> DP (1m/40w/240v) USA | D57: =[1]HEATER!$D61 -> 1 | E57: =[1]HEATER!J61 -> 20.703934
A58: =[1]HEATER!A62 -> HEA040.1 | B58: =[1]HEATER!B62 -> DP (1.5m/60w/240v) USA | D58: =[1]HEATER!$D62 -> 1.5 | E58: =[1]HEATER!J62 -> 23.464458
A59: =[1]HEATER!A63 -> HEA041 | B59: =[1]HEATER!B63 -> DP (2m/80w/240v) USA | D59: =[1]HEATER!$D63 -> 2 | E59: =[1]HEATER!J63 -> 26.224983
A60: =[1]HEATER!A64 -> HEA041.1 | B60: =[1]HEATER!B64 -> DP (2.5m/100w/240v) USA | D60: =[1]HEATER!$D64 -> 2.5 | E60: =[1]HEATER!J64 -> 31.746032
A61: =[1]HEATER!A65 -> HEA042 | B61: =[1]HEATER!B65 -> DP (3m/120w/240v) USA | D61: =[1]HEATER!$D65 -> 3 | E61: =[1]HEATER!J65 -> 37.267081
A62: =[1]HEATER!A66 -> HEA042.1 | B62: =[1]HEATER!B66 -> DP (3.5m/140w/240v) USA | D62: =[1]HEATER!$D66 -> 3.5 | E62: =[1]HEATER!J66 -> 37.858622
A63: =[1]HEATER!A67 -> HEA042.2 | B63: =[1]HEATER!B67 -> DP (4m/160w/240v) USA | D63: =[1]HEATER!$D67 -> 4 | E63: =[1]HEATER!J67 -> 59.154096
A64: =[1]HEATER!A68 -> HEA042.3 | B64: =[1]HEATER!B68 -> DP (4.5m/180w/240v) USA | D64: =[1]HEATER!$D68 -> 4.5 | E64: =[1]HEATER!J68 -> 66.252588
A65: =[1]HEATER!A69 -> HEA043 | B65: =[1]HEATER!B69 -> DP (5m/200w/240v) USA | D65: =[1]HEATER!$D69 -> 5 | E65: =[1]HEATER!J69 -> 53.238687
A66: =[1]HEATER!A70 -> HEA043.01 | B66: =[1]HEATER!B70 -> DP (5.5m/200w/240v) USA | D66: =[1]HEATER!$D70 -> 5.5 | E66: =[1]HEATER!J70 -> 61.52026
A67: =[1]HEATER!A71 -> HEA043.1 | B67: =[1]HEATER!B71 -> DP (6m/240w/240v) USA | D67: =[1]HEATER!$D71 -> 6 | E67: =[1]HEATER!J71 -> 63.886424
A68: =[1]HEATER!A72 -> HEA043.2 | B68: =[1]HEATER!B72 -> DP (6.5m/260w/240v) USA | D68: =[1]HEATER!$D72 -> 6.5 | E68: =[1]HEATER!J72 -> 75.717243
... A71: =[1]HEATER!A75 -> HEA043.5 | B71: =[1]HEATER!B75 -> DP (8m/320w/240v) USA | D71: =[1]HEATER!$D75 -> 8 | E71: =[1]HEATER!J75 -> 85.181899
A72: =[1]HEATER!A76 -> HEA044 | B72: =[1]HEATER!B76 -> DP (100m/50w/240v) USA | C72: Floor defrost heater | D72: =[1]HEATER!$D76 -> 100 | E72: =[1]HEATER!J76 -> 1330.3733
A73: =[1]HEATER!A77 -> HEA046 | B73: =[1]HEATER!B77 -> SIEMEN Temperature controller C/W terminal box F2000 | C73: ~35c - 40c cut off temperature | E73: =[1]HEATER!J77 -> 31.200347
A74: =[1]HEATER!A78 -> HEA047 | B74: =[1]HEATER!B78 -> Drain pan heater (230v,125w) | C74: 180c (0.9~0.09amp) | E74: =[1]HEATER!J78 -> 83.511666
A75: =[1]HEATER!A79 -> HEA048 | B75: =[1]HEATER!B79 -> Crankcase heater 52cm 35W | C75: =[1]HEATER!$C79 -> ZB15-29 | E75: =[1]HEATER!J79 -> 49.689441
A76: =[1]HEATER!A80 -> HEA049 | B76: =[1]HEATER!B80 -> Crankcase heater 57cm 40W | C76: =[1]HEATER!$C80 -> ZB38-48, ZFI23-39 | E76: =[1]HEATER!J80 -> 49.689441
A77: =[1]HEATER!A81 -> HEA050 | B77: =[1]HEATER!B81 -> Crankcase heater 72cm 60W | C77: =[1]HEATER!$C81 -> ZB58-114, ZFI50-81 | E77: =[1]HEATER!J81 -> 53.238687
A78: =[1]HEATER!A82 -> HEA051 | B78: =[1]HEATER!B82 -> Crankcase heater 102cm 70W | C78: =[1]HEATER!$C82 -> ZB130-220, ZFI96-140 | E78: =[1]HEATER!J82 -> 60.337178
A79: =[1]HEATER!A83 -> HEA051.03 | B79: =[1]HEATER!B83 -> Crankcase heater 159cm 220W (500mm) | C79: =[1]HEATER!$C83 -> fan guard heater 500mm | E79: =[1]HEATER!J83 -> 88.731145
A80: =[1]HEATER!A84 -> HEA051.04 | B80: =[1]HEATER!B84 -> Crankcase heater 200cm 270W (630mm) | C80: =[1]HEATER!$C84 -> fan guard heater 630mm | E80: =[1]HEATER!J84 -> 97.604259
A81: =[1]HEATER!A85 -> HEA051.05 | B81: =[1]HEATER!B85 -> Crankcase heater 252cm 300W (800mm) | C81: =[1]HEATER!$C85 -> fan guard heater 800mm | E81: =[1]HEATER!J85 -> 106.47737
A82: PRICE VALID : For intend order only and ex-factory at K.L price
A83: *PRICE WILL BE CHANGE ON THE FINAL PAYMENT DUE TO THE CURRENCY RATE
A84: *PLEASE EMAIL OR FAX OVER THE BANK IN SLIP
A85: BANK ACC :HONG LEONG BANK BHD 36600016285 , PUBLIC BANK BHD 3119617816
A86: BENEFICIARY :WELLER AIR-COND PARTS ENTERPRICE SDN BHD
A87: Generated by computer
B93: FRIO DRAIN LINE HEATER (1m/40w/230v)
B94: FRIO DRAIN LINE HEATER (2m/80w/230v)
B95: FRIO DRAIN LINE HEATER (3m/120w/230v)
B96: FRIO DRAIN LINE HEATER (5m/200w/230v)
B97: FRIO coldroom door heater c/w metal braiding (5.67m/170w/230v)
B98: FRIO coldroom door heater c/w metal braiding (6m/180w/230v)
B99: FRIO coldroom door heater c/w metal braiding (7m/210w/230v)
B100: FRIO coldroom door heater c/w metal braiding (7.5m/225w/230v)
B101: FRIO coldroom door heater c/w metal braiding (8.5m/255w/230v)
B102: FRIO coldroom door heater c/w metal braiding (10.5m/315w/230v)
B103: FRIO coldroom door heater c/w metal braiding (11m/330w/230v)

Sheet AC PARTS
A2: =HEATER!A2 -> DATE :28.9.26
A3: ITEM CODE | B3: AIR-COND PARTS | C3: ='[2]AC PARTS'!$C7 -> packing | D3: ='[2]AC PARTS'!$H$7 -> (RM)
A4: ='[1]AC PARTS'!A9 -> AC001 | B4: ='[1]AC PARTS'!$B9 -> 1 UF FAN CAPACITOR | D4: ='[1]AC PARTS'!H9 -> 1.863354
A5: ='[1]AC PARTS'!A10 -> AC002 | B5: ='[1]AC PARTS'!$B10 -> 1.2 UF FAN CAPACITOR | D5: ='[1]AC PARTS'!H10 -> 1.9047619
A6: ='[1]AC PARTS'!A11 -> AC003 | B6: ='[1]AC PARTS'!$B11 -> 1.5 UF FAN CAPACITOR | D6: ='[1]AC PARTS'!H11 -> 2.1118012
A7: ='[1]AC PARTS'!A12 -> AC004 | B7: ='[1]AC PARTS'!$B12 -> 1.75 UF FAN CAPACITOR | D7: ='[1]AC PARTS'!H12 -> 2.1808144
A8: ='[1]AC PARTS'!A13 -> AC005 | B8: ='[1]AC PARTS'!$B13 -> 2 UF FAN CAPACITOR | D8: ='[1]AC PARTS'!H13 -> 2.2360248
A9: ='[1]AC PARTS'!A14 -> AC006 | B9: ='[1]AC PARTS'!$B14 -> 2.5 UF FAN CAPACITOR | D9: ='[1]AC PARTS'!H14 -> 2.3878537
A10: ='[1]AC PARTS'!A15 -> AC007 | B10: ='[1]AC PARTS'!$B15 -> 3 UF FAN CAPACITOR | D10: ='[1]AC PARTS'!H15 -> 2.5258799
A11: ='[1]AC PARTS'!A16 -> AC008 | B11: ='[1]AC PARTS'!$B16 -> 3.5 UF FAN CAPACITOR | D11: ='[1]AC PARTS'!H16 -> 2.6501035
A12: ='[1]AC PARTS'!A17 -> AC009 | B12: ='[1]AC PARTS'!$B17 -> 4 UF FAN CAPACITOR | D12: ='[1]AC PARTS'!H17 -> 2.7329193
A13: ='[1]AC PARTS'!A18 -> AC010 | B13: ='[1]AC PARTS'!$B18 -> 4.5 UF FAN CAPACITOR | D13: ='[1]AC PARTS'!H18 -> 2.8709455
A14: ='[1]AC PARTS'!A19 -> AC010.1 | B14: ='[1]AC PARTS'!$B19 -> 5 UF FAN CAPACITOR | D14: ='[1]AC PARTS'!H19 -> 3.0365769
A15: ='[1]AC PARTS'!A20 -> AC010.2 | B15: ='[1]AC PARTS'!$B20 -> 6 UF FAN CAPACITOR | D15: ='[1]AC PARTS'!H20 -> 3.216011
... A167: ='[1]AC PARTS'!A172 -> 0 | B167: ='[1]AC PARTS'!$B172 -> 0 | D167: ='[1]AC PARTS'!H172 -> 0

Sheet RG TUBE
A2: ='AC PARTS'!A2 -> DATE :28.9.26
A3: ITEM CODE | B3: Model | C3: ='[2]RG TUBE'!$H$7 -> (RM) | D3: Picture
A4: ='[1]RG TUBE'!A8 -> RG001 | B4: ='[1]RG TUBE'!B8 -> RG-01FS STRAIGHT KIT SET (2.6mm) | C4: ='[1]RG TUBE'!$H8 -> 4.9689441
A5: ='[1]RG TUBE'!A9 -> RG001.1 | B5: ='[1]RG TUBE'!B9 -> RG-01FS STRAIGHT KIT c/w access (2.6mm) | C5: ='[1]RG TUBE'!$H9 -> 5.2612349
A6: ='[1]RG TUBE'!A10 -> RG001.2 | B6: ='[1]RG TUBE'!B10 -> JH-01TT copper coupling | C6: ='[1]RG TUBE'!$H10 -> 0.84033613
A7: ='[1]RG TUBE'!A11 -> RG002 | B7: ='[1]RG TUBE'!B11 -> RG-016T TEE KIT (2.6mm) | C7: ='[1]RG TUBE'!$H11 -> 5.8458166
A8: ='[1]RG TUBE'!A12 -> RG003 | B8: ='[1]RG TUBE'!B12 -> RG-01TN TEE KIT C/W NUT (2.6mm) | C8: ='[1]RG TUBE'!$H12 -> 7.8187797
A9: ='[1]RG TUBE'!A13 -> RG004 | B9: ='[1]RG TUBE'!B13 -> RG-01E ELBOW KIT c/w NUT (2.6mm) | C9: ='[1]RG TUBE'!$H13 -> 6.1381074
A10: ='[1]RG TUBE'!A14 -> RG005 | B10: ='[1]RG TUBE'!B14 -> RG-01FT FLEXIBLE TUBE /Meter (2.6mm) | C10: ='[1]RG TUBE'!$H14 -> 6.7226891
A11: ='[1]RG TUBE'!A15 -> RG006 | B11: ='[1]RG TUBE'!B15 -> RG-01H FLEXIBLE TUBE / ROLL 100METER (2.6mm) | C11: ='[1]RG TUBE'!$H15 -> 611.15355
A12: ='[1]RG TUBE'!A16 -> RG007 | B12: ='[1]RG TUBE'!B16 -> RG-01SS c/w 1m tube,2sets straight kit | C12: ='[1]RG TUBE'!$H16 -> 18.511753
A13: ='[1]RG TUBE'!A17 -> RG008 | B13: ='[1]RG TUBE'!B17 -> RG-01SE c/w 1m tube,straight kit,elbow kit. | C13: ='[1]RG TUBE'!$H17 -> 19.810823
A14: ='[1]RG TUBE'!A18 -> RG009 | B14: ='[1]RG TUBE'!B18 -> RKY-162-09 Crimping Tool | C14: ='[1]RG TUBE'!$H18 -> 235.89937
A15: ='[1]RG TUBE'!A19 -> RG010 | B15: ='[1]RG TUBE'!B19 -> RG-01CD Crimping Tool DIE | C15: ='[1]RG TUBE'!$H19 -> 94.645833
... A29: ='[1]RG TUBE'!A33 -> RG024 | B29: ='[1]RG TUBE'!B33 -> HYDRAULIC CRIMPING TOOLS ZCO-300B | C29: ='[1]RG TUBE'!$H33 -> 575.10927
A30: ='[1]RG TUBE'!#REF! -> #REF! | B30: ='[1]RG TUBE'!#REF! -> #REF! | C30: ='[1]RG TUBE'!#REF! -> #REF!

Sheet Suniso
A2: ='RG TUBE'!A2 -> DATE :28.9.26
A3: ITEM CODE | B3: SPECIFICATIONS | C3: USAGE | D3: =[2]Suniso!$J$7 -> (RM) | E3: Picture
A4: =[1]Suniso!$A8 -> SU001 | B4: =[1]Suniso!B8 -> SUNISO OIL SL 32 X 4 LITRES | C4: =[1]Suniso!C8 -> for -15c ~ -40c (freezer) r 134a,r404a,r507c | D4: =[1]Suniso!I8 -> ~
A5: =[1]Suniso!$A9 -> SU002 | B5: =[1]Suniso!B9 -> SUNISO OIL SL 68 X 4 LITRES | C5: =[1]Suniso!C9 -> for 0c(chiller) r 134a,r404a,r507c,r410a | D5: =[1]Suniso!I9 -> ~
A6: =[1]Suniso!$A10 -> SU003 | B6: =[1]Suniso!B10 -> SUNISO OIL SL 100 X 4 LITRES | C6: =[1]Suniso!C10 -> for screw compressor low temp r22 | D6: =[1]Suniso!I10 -> 297.02517
A7: =[1]Suniso!$A11 -> SU004 | B7: =[1]Suniso!B11 -> SUNISO OIL SL 170 X 4 LITRES | C7: =[1]Suniso!C11 -> for screw compressor low temp r507 | D7: =[1]Suniso!I11 -> 397.42857
A8: =[1]Suniso!$A12 -> SU005 | B8: =[1]Suniso!B12 -> 3GS X 1GAL SUNISO OIL | C8: =[1]Suniso!C12 -> for -25c ~ -40c (freezer) r22 | D8: =[1]Suniso!I12 -> ~
A9: =[1]Suniso!$A13 -> SU008 | B9: =[1]Suniso!B13 -> 4GS X 1GAL SUNISO OIL | C9: =[1]Suniso!C13 -> for 0c(chiller) r22 | D9: =[1]Suniso!I13 -> ~
A10: =[1]Suniso!$A14 -> SU009 | B10: =[1]Suniso!B14 -> SUNICE OIL SL 32 X 200 LITRES | C10: =[1]Suniso!C14 -> for -15c ~ -40c (freezer) r 134a,r404a,r507c | D10: =[1]Suniso!I14 -> 14285.714
A11: =[1]Suniso!$A15 -> SU009.1 | B11: =[1]Suniso!B15 -> SUNICE OIL SL 68 X 200 LITRES | C11: =[1]Suniso!C15 -> for 0c(chiller) r 134a,r404a,r507c | D11: =[1]Suniso!I15 -> 14285.714
A12: =[1]Suniso!$A16 -> SU010 | B12: =[1]Suniso!B16 -> Vacuum pump oil 1 litre | C12: =[1]Suniso!C16 -> vaccum pump use | D12: =[1]Suniso!I16 -> 25.877193
A13: =[1]Suniso!$A17 -> SU011 | B13: =[1]Suniso!B17 -> Vacuum pump oil 5 litre | C13: =[1]Suniso!C17 -> vaccum pump use | D13: =[1]Suniso!I17 -> 113.85965
A14: =[1]Suniso!$A18 -> SU012 | B14: =[1]Suniso!B18 -> SUNICE OIL SL 32 X 4 LITRES | C14: =[1]Suniso!C18 -> for -15c ~ -40c (freezer) r 134a,r404a,r507c | D14: =[1]Suniso!I18 -> 311.71429
A15: =[1]Suniso!$A19 -> SU013 | B15: =[1]Suniso!B19 -> SUNICE OIL SL 68 X 4 LITRES | C15: =[1]Suniso!C19 -> for 0c(chiller) r 134a,r404a,r507c | D15: =[1]Suniso!I19 -> 311.71429
A16: =[1]Suniso!$A20 -> SU014 | B16: =[1]Suniso!B20 -> SUNICE OIL SL 100 X 4 LITRES | C16: =[1]Suniso!C20 -> for screw compressor low temp | D16: =[1]Suniso!I20 -> ~
A17: =[1]Suniso!$A22 -> SU015.3 | B17: =[1]Suniso!B22 -> SUNOCO OIL PV100 X 1 LITRE | C17: =[1]Suniso!C22 -> for car ac r134a | D17: =[1]Suniso!I22 -> 42.857143
A18: =[1]Suniso!$A23 -> SU016 | B18: =[1]Suniso!B23 -> 3GS X 4LIT SUNOCO OIL | C18: =[1]Suniso!C23 -> for -25c ~ -40c (freezer) r22 | D18: =[1]Suniso!I23 -> 110.28571
A19: =[1]Suniso!$A24 -> SU017.1 | B19: =[1]Suniso!B24 -> 3GS X 205LITS SUNISO OIL | C19: =[1]Suniso!C24 -> for -25c ~ -40c (freezer) r22 | D19: =[1]Suniso!I24 -> ~
A20: =[1]Suniso!$A25 -> SU019 | B20: =[1]Suniso!B25 -> 4GS X 4LIT SUNOCO OIL | C20: =[1]Suniso!C25 -> for 0c(chiller) r23 | D20: =[1]Suniso!I25 -> 110.28571
A21: =[1]Suniso!$A26 -> SU019.1 | B21: =[1]Suniso!B26 -> 4GS X 205LITS SUNISO OIL | C21: =[1]Suniso!C26 -> for 0c(chiller) r24 | D21: =[1]Suniso!I26 -> ~
A22: =[1]Suniso!$A27 -> SU020 | B22: =[1]Suniso!B27 -> PCO-01 | C22: =[1]Suniso!C27 -> Oil charging pump (50ml ,200psi) | D22: =[1]Suniso!I27 -> 250.00856
A23: =[1]Suniso!$A28 -> SU021 | B23: =[1]Suniso!B28 -> PCO-02 | C23: =[1]Suniso!C28 -> Oil charging pump (75ml ,250psi) foot stand type | D23: =[1]Suniso!I28 -> 456.72941
A24: =[1]Suniso!$A29 -> SU022 | B24: =[1]Suniso!B29 -> PCO-4 | C24: =[1]Suniso!C29 -> Electric Oil charging pump | D24: =[1]Suniso!I29 -> 1012.2549
A25: =[1]Suniso!$A30 -> SU023 | B25: =[1]Suniso!B30 -> PCV-2 VACUUM PUMP 1.5cfm | C25: =[1]Suniso!C30 -> 1.5cfm | D25: =[1]Suniso!I30 -> 228.57742
A26: =[1]Suniso!$A31 -> SU024 | B26: =[1]Suniso!B31 -> PCV-4 VACUUM PUMP 3cfm | C26: =[1]Suniso!C31 -> 3cfm | D26: =[1]Suniso!I31 -> 376.64839
A27: =[1]Suniso!$A32 -> SU025 | B27: =[1]Suniso!B32 -> PCV-6 VACUUM PUMP 4.5cfm | C27: =[1]Suniso!C32 -> 4.5cfm | D27: =[1]Suniso!I32 -> 437.45222
A28: =[1]Suniso!$A33 -> SU026 | B28: =[1]Suniso!B33 -> PCV-8 VACUUM PUMP 6.5cfm | C28: =[1]Suniso!C33 -> 6.5cfm | D28: =[1]Suniso!I33 -> 555.89094
... A32: =[1]Suniso!$A37 -> SU034 | B32: =[1]Suniso!B37 -> 2PCV-12 VACUUM PUMP 10cfm 2stage | C32: =[1]Suniso!C37 -> 1hp | D32: =[1]Suniso!I37 -> 939.87504
A33: PRICE VALID : For intend order only and ex-factory at K.L price
A34: *PRICE WILL BE CHANGE ON THE FINAL PAYMENT DUE TO THE CURRENCY RATE
A35: *PLEASE EMAIL OR FAX OVER THE BANK IN SLIP
A36: BANK ACC :HONG LEONG BANK BHD 36600016285 , PUBLIC BANK BHD 3119617816
A37: BENEFICIARY :WELLER AIR-COND PARTS ENTERPRICE SDN BHD
A38: COMPUTER PRINT GENERATE ONLY

Sheet Strip curtain
A2: =Elitech!A2 -> DATE :28.9.26
A3: ITEM CODE | B3: MODEL | C3: APPLICATION | D3: SIZE | E3: ='[2]Strip curtain'!$K$7 -> (RM) | F3: PICTURE
A4: ='[1]Strip curtain'!$A8 -> PVC001 | B4: ='[1]Strip curtain'!B8 -> POLAR CLEAR CURTAIN STRIP (FREEZER) 8" X 50M X 2MM | C4: ='[1]Strip curtain'!C8 -> -40C to +50C | D4: ='[1]Strip curtain'!D8 -> 200MM*2MM*50M | E4: ='[1]Strip curtain'!K8 -> 267.22618
A5: ='[1]Strip curtain'!$A9 -> PVC002 | B5: ='[1]Strip curtain'!B9 -> STANDARD CLEAR CURTAIN STRIP (CHILLER) 8" X 50M X 2MM | C5: ='[1]Strip curtain'!C9 -> -15C to +50C | D5: ='[1]Strip curtain'!D9 -> 200MM*2MM*50M | E5: ='[1]Strip curtain'!K9 -> 243.98912
A6: ='[1]Strip curtain'!$A10 -> PVC003 | B6: ='[1]Strip curtain'!B10 -> POLAR RIBBED CURTAIN STRIP (FREZZER) 8" X 50M X 2MM | C6: ='[1]Strip curtain'!C10 -> -40C to +50C | D6: ='[1]Strip curtain'!D10 -> 200MM*2MM*50M | E6: ='[1]Strip curtain'!K10 -> 278.84471
A7: ='[1]Strip curtain'!$A11 -> PVC004 | B7: ='[1]Strip curtain'!B11 -> ANTI INSECT RIBBED ORANGE CURTAIN STRIP (CHILLER) 8" X 50M X 2MM | C7: ='[1]Strip curtain'!C11 -> -15C to +50C | D7: ='[1]Strip curtain'!D11 -> 200MM*2MM*50M | E7: ='[1]Strip curtain'!K11 -> 256.12403
A8: ='[1]Strip curtain'!$A12 -> PVC005 | B8: ='[1]Strip curtain'!B12 -> ANTI INSECT ORANGE CURTAIN STRIP (CHILLER) 8" X 50M X 2MM | C8: ='[1]Strip curtain'!C12 -> -15C to +50C | D8: ='[1]Strip curtain'!D12 -> 200MM*2MM*50M | E8: ='[1]Strip curtain'!K12 -> 256.12403
A9: ='[1]Strip curtain'!$A13 -> PVC005.1 | B9: ='[1]Strip curtain'!B13 -> BLACK CURTAIN STRIP (CHILLER) 8" X 50M X 2MM | C9: ='[1]Strip curtain'!C13 -> -15C to +50C | D9: ='[1]Strip curtain'!D13 -> 200MM*2MM*50M | E9: ='[1]Strip curtain'!K13 -> 256.12403
A10: ='[1]Strip curtain'!$A14 -> PVC006 | B10: ='[1]Strip curtain'!B14 -> STANDARD CLEAR CURTAIN STRIP (FREEZER) 12" X 50M X 3MM | C10: ='[1]Strip curtain'!C14 -> -40C to +50C | D10: ='[1]Strip curtain'!D14 -> 300MM*3MM*50M | E10: ='[1]Strip curtain'!K14 -> 608.29457
A11: ='[1]Strip curtain'!$A15 -> PVC007 | B11: ='[1]Strip curtain'!B15 -> POLAR RIBBED CURTAIN STRIP (FREZZER) 12" X 50M X 3MM | C11: ='[1]Strip curtain'!C15 -> -40C to +50C | D11: ='[1]Strip curtain'!D15 -> 300MM*3MM*50M | E11: ='[1]Strip curtain'!K15 -> 608.29457
A12: ='[1]Strip curtain'!$A17 -> PVC007.1 | B12: ='[1]Strip curtain'!B17 -> MAGNETIC CURTAIN 12" X 50M X 2MM | C12: ='[1]Strip curtain'!C17 -> 0 | D12: ='[1]Strip curtain'!D17 -> 0 | E12: ='[1]Strip curtain'!K17 -> ~
A13: ='[1]Strip curtain'!$A18 -> PVC007.2 | B13: ='[1]Strip curtain'!B18 -> MAGNETIC CURTAIN 16" X 50M X 2MM | C13: ='[1]Strip curtain'!C18 -> 0 | D13: ='[1]Strip curtain'!D18 -> 0 | E13: ='[1]Strip curtain'!K18 -> ~
A14: ='[1]Strip curtain'!$A19 -> PVC007.3 | B14: ='[1]Strip curtain'!B19 -> MAGNETIC CURTAIN 18" X 50M X 2MM | C14: ='[1]Strip curtain'!C19 -> 0 | D14: ='[1]Strip curtain'!D19 -> 0 | E14: ='[1]Strip curtain'!K19 -> ~
A15: ='[1]Strip curtain'!$A20 -> PVC007.4 | B15: ='[1]Strip curtain'!B20 -> RUBBER (A) SHEET 2mm*100mm*1m | C15: ='[1]Strip curtain'!C20 -> 0 | D15: ='[1]Strip curtain'!D20 -> 0 | E15: ='[1]Strip curtain'!K20 -> ~
A16: ='[1]Strip curtain'!$A21 -> PVC007.5 | B16: ='[1]Strip curtain'!B21 -> RUBBER (B) SHEET 2mm*200mm*1m | C16: ='[1]Strip curtain'!C21 -> 0 | D16: ='[1]Strip curtain'!D21 -> 0 | E16: ='[1]Strip curtain'!K21 -> ~
A17: ='[1]Strip curtain'!$A22 -> PVC007.6 | B17: ='[1]Strip curtain'!B22 -> MAGNET BRACKET HANGER 1M | C17: ='[1]Strip curtain'!C22 -> 0 | D17: ='[1]Strip curtain'!D22 -> 0 | E17: ='[1]Strip curtain'!K22 -> ~
A18: ='[1]Strip curtain'!$A23 -> PVC007.7 | B18: ='[1]Strip curtain'!B23 -> PVC STRIP CURTAIN 10mm*1.1m*12m | C18: ='[1]Strip curtain'!C23 -> 0 | D18: ='[1]Strip curtain'!D23 -> 0 | E18: ='[1]Strip curtain'!K23 -> 3020.8177
A19: ='[1]Strip curtain'!$A24 -> PVC007.8 | B19: ='[1]Strip curtain'!B24 -> Protection film 1.2m*500m*0.05mm | C19: ='[1]Strip curtain'!C24 -> 0 | D19: ='[1]Strip curtain'!D24 -> 0 | E19: ='[1]Strip curtain'!K24 -> 652.03339
A20: ='[1]Strip curtain'!$A25 -> PVC008 | B20: ='[1]Strip curtain'!B25 -> S/S HANGER(1mm thickness x 1m) C/W NUTS | C20: ='[1]Strip curtain'!C25 -> 6SETS CLIPS (200MM) | D20: ='[1]Strip curtain'!D25 -> 1MM thick x 1M | E20: ='[1]Strip curtain'!K25 -> 49.56
A21: ='[1]Strip curtain'!$A26 -> PVC009 | B21: ='[1]Strip curtain'!B26 -> S/S HANGER(1mm thickness x 1.2m) C/W NUTS | C21: ='[1]Strip curtain'!C26 -> 7SETS CLIPS (200MM) | D21: ='[1]Strip curtain'!D26 -> 1MM thick x 1.2M | E21: ='[1]Strip curtain'!K26 -> 55.066667
A22: ='[1]Strip curtain'!$A27 -> PVC010 | B22: ='[1]Strip curtain'!B27 -> S/Stell CLIPS (per pair) (150MM ) | C22: ='[1]Strip curtain'!C27 -> 0 | D22: ='[1]Strip curtain'!D27 -> 0 | E22: ='[1]Strip curtain'!K27 -> 4.5888889
A23: ='[1]Strip curtain'!$A28 -> PVC011 | B23: ='[1]Strip curtain'!B28 -> S/Stell CLIPS (per pair) (200MM) | C23: ='[1]Strip curtain'!C28 -> 0 | D23: ='[1]Strip curtain'!D28 -> 0 | E23: ='[1]Strip curtain'!K28 -> 5.546
... A38: ='[1]Strip curtain'!$A43 -> PVC025 | B38: ='[1]Strip curtain'!B43 -> TURNBUCKLE M12 | C38: ='[1]Strip curtain'!C43 -> 0 | D38: ='[1]Strip curtain'!D43 -> 0 | E38: ='[1]Strip curtain'!K43 -> 4.2369122
A39: ='[1]Strip curtain'!$A45 -> PVC025.1 | B39: ='[1]Strip curtain'!B45 -> 150MM * 80MM (M12) 2"-3" PU PANEL HANGER MUSHROOM | C39: ='[1]Strip curtain'!C45 -> 2"~3" PU PANEL | D39: ='[1]Strip curtain'!D45 -> 0 | E39: ='[1]Strip curtain'!K45 -> 8.6358654
A40: ='[1]Strip curtain'!$A46 -> PVC025.2 | B40: ='[1]Strip curtain'!B46 -> 200MM * 80MM (M12) 4"-6" PU PANEL HANGER MUSHROOM | C40: ='[1]Strip curtain'!C46 -> 4"~6" PU PANEL | D40: ='[1]Strip curtain'!D46 -> 0 | E40: ='[1]Strip curtain'!K46 -> 10.230179
A41: ='[1]Strip curtain'!$A47 -> PVC025.3 | B41: ='[1]Strip curtain'!B47 -> 180MM HOOK HEAD MUSHROOM | C41: ='[1]Strip curtain'!C47 -> FOR ALUMINIUM COOLING COIL | D41: ='[1]Strip curtain'!D47 -> 0 | E41: ='[1]Strip curtain'!K47 -> 7.3072707
A42: ='[1]Strip curtain'!$A48 -> PVC025.4 | B42: ='[1]Strip curtain'!B48 -> 260MM HOOK HEAD MUSHROOM | C42: ='[1]Strip curtain'!C48 -> 0 | D42: ='[1]Strip curtain'!D48 -> 0 | E42: ='[1]Strip curtain'!K48 -> 8.0379978
A43: ='[1]Strip curtain'!$A49 -> PVC026 | B43: ='[1]Strip curtain'!B49 -> 140MM BLOWER HANGER S/STEEL 3" | C43: ='[1]Strip curtain'!C49 -> 0 | D43: ='[1]Strip curtain'!D49 -> 0 | E43: ='[1]Strip curtain'!K49 -> 8.7687249
A44: ='[1]Strip curtain'!$A50 -> PVC027 | B44: ='[1]Strip curtain'!B50 -> 170MM (M10) BLOWER HANGER S/STEEL 2"~4" | C44: ='[1]Strip curtain'!C50 -> 0 | D44: ='[1]Strip curtain'!D50 -> 0 | E44: ='[1]Strip curtain'!K50 -> 10.647737
A45: ='[1]Strip curtain'!$A51 -> PVC028 | B45: ='[1]Strip curtain'!B51 -> 200MM (M10) BLOWER HANGER S/STEEL 5~6" | C45: ='[1]Strip curtain'!C51 -> 0 | D45: ='[1]Strip curtain'!D51 -> 0 | E45: ='[1]Strip curtain'!K51 -> 12.012832
A46: ='[1]Strip curtain'!#REF! -> #REF! | B46: ='[1]Strip curtain'!#REF! -> #REF! | C46: ='[1]Strip curtain'!#REF! -> #REF! | D46: ='[1]Strip curtain'!#REF! -> #REF! | E46: ='[1]Strip curtain'!#REF! -> #REF!
A47: ='[1]Strip curtain'!#REF! -> #REF! | B47: ='[1]Strip curtain'!#REF! -> #REF! | C47: ='[1]Strip curtain'!#REF! -> #REF! | D47: ='[1]Strip curtain'!#REF! -> #REF! | E47: ='[1]Strip curtain'!#REF! -> #REF!
A48: ='[1]Strip curtain'!#REF! -> #REF! | B48: ='[1]Strip curtain'!#REF! -> #REF! | C48: ='[1]Strip curtain'!#REF! -> #REF! | D48: ='[1]Strip curtain'!#REF! -> #REF! | E48: ='[1]Strip curtain'!#REF! -> #REF!
A49: ='[1]Strip curtain'!#REF! -> #REF! | B49: ='[1]Strip curtain'!#REF! -> #REF! | C49: ='[1]Strip curtain'!#REF! -> #REF! | D49: ='[1]Strip curtain'!#REF! -> #REF! | E49: ='[1]Strip curtain'!#REF! -> #REF!
A50: ='[1]Strip curtain'!#REF! -> #REF! | B50: ='[1]Strip curtain'!#REF! -> #REF! | C50: ='[1]Strip curtain'!#REF! -> #REF! | D50: ='[1]Strip curtain'!#REF! -> #REF! | E50: ='[1]Strip curtain'!#REF! -> #REF!
A51: ='[1]Strip curtain'!#REF! -> #REF! | B51: ='[1]Strip curtain'!#REF! -> #REF! | C51: ='[1]Strip curtain'!#REF! -> #REF! | D51: ='[1]Strip curtain'!#REF! -> #REF! | E51: ='[1]Strip curtain'!#REF! -> #REF!
A52: ='[1]Strip curtain'!#REF! -> #REF! | B52: ='[1]Strip curtain'!#REF! -> #REF! | C52: ='[1]Strip curtain'!#REF! -> #REF! | D52: ='[1]Strip curtain'!#REF! -> #REF! | E52: ='[1]Strip curtain'!#REF! -> #REF!
A53: ='[1]Strip curtain'!#REF! -> #REF! | B53: ='[1]Strip curtain'!#REF! -> #REF! | C53: ='[1]Strip curtain'!#REF! -> #REF! | D53: ='[1]Strip curtain'!#REF! -> #REF! | E53: ='[1]Strip curtain'!#REF! -> #REF!
A54: ='[1]Strip curtain'!#REF! -> #REF! | B54: ='[1]Strip curtain'!#REF! -> #REF! | C54: ='[1]Strip curtain'!#REF! -> #REF! | D54: ='[1]Strip curtain'!#REF! -> #REF! | E54: ='[1]Strip curtain'!#REF! -> #REF!
A55: ='[1]Strip curtain'!#REF! -> #REF! | B55: ='[1]Strip curtain'!#REF! -> #REF! | C55: ='[1]Strip curtain'!#REF! -> #REF! | D55: ='[1]Strip curtain'!#REF! -> #REF! | E55: ='[1]Strip curtain'!#REF! -> #REF!
A56: ='[1]Strip curtain'!$A56 -> PVC032 | B56: ='[1]Strip curtain'!B56 -> FM-4009 air curtain (0.9m) | C56: ='[1]Strip curtain'!C56 -> 1630m3/h | D56: ='[1]Strip curtain'!D56 -> 900*175*210mm | E56: ='[1]Strip curtain'!K56 -> 320.8657
A57: ='[1]Strip curtain'!$A57 -> PVC033 | B57: ='[1]Strip curtain'!B57 -> FM-4012 air curtain (1.2m) | C57: ='[1]Strip curtain'!C57 -> 2500m3/h | D57: ='[1]Strip curtain'!D57 -> 1200*175*210mm | E57: ='[1]Strip curtain'!K57 -> 394.20644
A58: ='[1]Strip curtain'!$A58 -> PVC034 | B58: ='[1]Strip curtain'!B58 -> FM-4015 air curtain (1.5m) | C58: ='[1]Strip curtain'!C58 -> 3580m3/h | D58: ='[1]Strip curtain'!D58 -> 1500*175*210mm | E58: ='[1]Strip curtain'!K58 -> 476.71476
A59: ='[1]Strip curtain'!$A59 -> PVC035 | B59: ='[1]Strip curtain'!B59 -> PH03HD dehumidifier | C59: ='[1]Strip curtain'!C59 -> 0 | D59: ='[1]Strip curtain'!D59 -> 3KG | E59: ='[1]Strip curtain'!K59 -> 1286.7647
A60: ='[1]Strip curtain'!$A60 -> PVC036 | B60: ='[1]Strip curtain'!B60 -> PH06HD dehumidifier | C60: ='[1]Strip curtain'!C60 -> 0 | D60: ='[1]Strip curtain'!D60 -> 6KG | E60: ='[1]Strip curtain'!K60 -> 1593.1373
A61: *PLEASE EMAIL OR FAX OVER THE BANK IN SLIP
A62: BANK ACC :HONG LEONG BANK BHD 36600016285 , PUBLIC BANK BHD 3119617816
A63: BENEFICIARY :WELLER AIR-COND PARTS ENTERPRICE SDN BHD
A64: Generated by computer

Sheet LED
A2: ='Strip curtain'!A2 -> DATE :28.9.26
A3: Item code | B3: Model | C3: Description | D3: Material / Qty / Ctn | E3: Size | F3: =[2]LED!$P$7 -> (RM) | G3: Photo
A4: =[1]LED!$A9 -> LED001.3 | B4: =[1]LED!B9 -> 10W Cold Room LED | F4: =[1]LED!J9 -> 20.460358
A5: =[1]LED!$A10 -> LED001.4 | B5: =[1]LED!B10 -> 20W Cold Room LED | E5: 180*180*75mm | F5: =[1]LED!J10 -> 38.058702
A6: =[1]LED!$A11 -> LED001.6 | B6: =[1]LED!B11 -> 30W Cold Room LED | E6: 270*170*46mm | F6: =[1]LED!J11 -> 73.072707
A7: =[1]LED!$A12 -> LED001.7 | B7: =[1]LED!B12 -> 40W Cold Room LED | E7: 270*170*46mm | F7: =[1]LED!J12 -> 87.687249
A8: =[1]LED!$A13 -> LED001.8 | B8: =[1]LED!B13 -> 55W Cold Room LED | E8: 320*200*42mm | F8: =[1]LED!J13 -> 131.53087
A9: =[1]LED!$A14 -> LED003 | B9: =[1]LED!B14 -> Led IP67-50W | C9: Ip67 led flood light, AC90-265V, 50W | D9: 6m height 120pcs led | E9: 190*220*35mm(30m2) | F9: =[1]LED!J14 -> 93.001628
A10: =[1]LED!$A15 -> LED004 | B10: =[1]LED!B15 -> Led IP67-100W | C10: Ip67 led flood light, 6500k, 100W | D10: 8m height 240pcs led | E10: 240*280*43mm(40m2) | F10: =[1]LED!J15 -> 132.85947
A11: =[1]LED!$A16 -> LED005 | B11: =[1]LED!B16 -> Led IP67-150W | C11: Ip67 led flood light, 6500k, 101W | D11: 10m height 360pcs led | E11: 270*315*48mm(50m2) | F11: =[1]LED!J16 -> 232.50407
A12: =[1]LED!$A17 -> LED006 | B12: =[1]LED!B17 -> Led IP67-200W | C12: Ip67 led flood light, AC90-265V, 151W | D12: 12m height 480pcs led | E12: 296*345*46mm(60m2) | F12: =[1]LED!J17 -> 288.0751
A13: =[1]LED!$A18 -> LED006.01 | B13: =[1]LED!B18 -> High shed light 100W | C13: ip66 ,6500k,100w | D13: 10m height,240pcs led | E13: 290*151mm | F13: =[1]LED!J18 -> 252.43299
A14: =[1]LED!$A19 -> LED006.02 | B14: =[1]LED!B19 -> High shed light 150W | C14: ip66 ,6500k,150w | D14: 15m height,360pcs led | E14: 332*151mm | F14: =[1]LED!J19 -> 372.00651
A15: =[1]LED!$A20 -> LED006.03 | B15: =[1]LED!B20 -> High shed light 200W | C15: ip66 ,6500k,200w | D15: 20m height,480pcs led | E15: 380*165mm | F15: =[1]LED!J20 -> 465.00814
A16: =[1]LED!$A21 -> LED007 | B16: =[1]LED!B21 -> COLD STORAGE ALARM | D16: 6W | E16: 600(L)*19.5(W)*13.5(H)mm | F16: =[1]LED!J21 -> 113.66866
A17: =[1]LED!#REF! -> #REF! | B17: =[1]LED!#REF! -> #REF! | C17: 220v转380v变频电控箱 | F17: =[1]LED!#REF! -> #REF!
A18: =[1]LED!#REF! -> #REF! | B18: =[1]LED!#REF! -> #REF! | C18: 220v转380v变频电控箱 | F18: =[1]LED!#REF! -> #REF!
A19: =[1]LED!#REF! -> #REF! | B19: =[1]LED!#REF! -> #REF! | F19: =[1]LED!#REF! -> #REF!
A20: =[1]LED!#REF! -> #REF! | B20: =[1]LED!#REF! -> #REF! | F20: =[1]LED!#REF! -> #REF!
A21: =[1]LED!$A22 -> LED010 | B21: =[1]LED!B22 -> 净化车间专用灯 | C21: 220V不防水款 | F21: =[1]LED!J22 -> 94.99452
A22: =[1]LED!$A23 -> LED011 | B22: =[1]LED!B23 -> 净化车间专用灯 | C22: 220v防水款 | F22: =[1]LED!J23 -> 124.2236
A23: =[1]LED!$A24 -> LED012 | B23: =[1]LED!B24 -> ZKLED-EX-530 | C23: 36W | F23: =[1]LED!J24 -> 0
A24: =[1]LED!$A25 -> LED013 | B24: =[1]LED!B25 -> ZKLED-EX-550 | C24: 50W | F24: =[1]LED!J25 -> 0
A25: =[1]LED!$A26 -> LED014 | B25: =[1]LED!B26 -> ZKLED-EX-540 | C25: 40W | F25: =[1]LED!J26 -> 62.633749
A26: =[1]LED!$A27 -> LED015 | B26: =[1]LED!B27 -> ZKLED-EX-560 | C26: 60W | F26: =[1]LED!J27 -> 109.60906
A27: =[1]LED!$A28 -> LED016 | B27: =[1]LED!B28 -> ZKLED-EX-524 | C27: 24W | F27: =[1]LED!J28 -> 0
A28: =[1]LED!$A29 -> LED017 | B28: =[1]LED!B29 -> ZKLED-EX-536 | C28: 36W | F28: =[1]LED!J29 -> 0
A29: BANK ACC :HONG LEONG BANK BHD 36600016285 , PUBLIC BANK BHD 3119617816
A30: BENEFICIARY :WELLER AIR-COND PARTS ENTERPRICE SDN BHD

Sheet pipe clamps
A6: =LED!A2 -> DATE :28.9.26
A7: ITEM | B7: SIZE OD | C7: Pipe OD (mm) | D7: Description | E7: ='[2]pipe clamps'!$J$7 -> (RM) | F7: Product Pictures
A8: ='[1]pipe clamps'!A9 -> PC001 | B8: ='[1]pipe clamps'!B9 -> 1/4" | C8: ='[1]pipe clamps'!C9 -> 6.4 | D8: Light pipe clamps (welding base) | E8: ='[1]pipe clamps'!K9 -> 3.5042424
A9: ='[1]pipe clamps'!A10 -> PC002 | B9: ='[1]pipe clamps'!B10 -> 3/8" | C9: ='[1]pipe clamps'!C10 -> 9.5 | E9: ='[1]pipe clamps'!K10 -> 3.5042424
A10: ='[1]pipe clamps'!A11 -> PC003 | B10: ='[1]pipe clamps'!B11 -> 1/2" | C10: ='[1]pipe clamps'!C11 -> 12.7 | E10: ='[1]pipe clamps'!K11 -> 4.3385859
A11: ='[1]pipe clamps'!A12 -> PC004 | B11: ='[1]pipe clamps'!B12 -> 5/8" | C11: ='[1]pipe clamps'!C12 -> 16 | E11: ='[1]pipe clamps'!K12 -> 4.3385859
A12: ='[1]pipe clamps'!A13 -> PC005 | B12: ='[1]pipe clamps'!B13 -> 3/4" | C12: ='[1]pipe clamps'!C13 -> 19 | E12: ='[1]pipe clamps'!K13 -> 5.2563636
A13: ='[1]pipe clamps'!A14 -> PC006 | B13: ='[1]pipe clamps'!B14 -> 7/8" | C13: ='[1]pipe clamps'!C14 -> 22 | E13: ='[1]pipe clamps'!K14 -> 5.2563636
A14: ='[1]pipe clamps'!A15 -> PC007 | B14: ='[1]pipe clamps'!B15 -> 1 1/8" | C14: ='[1]pipe clamps'!C15 -> 28 | E14: ='[1]pipe clamps'!K15 -> 6.2575758
A15: ='[1]pipe clamps'!A16 -> PC008 | B15: ='[1]pipe clamps'!B16 -> 1 3/8" | C15: ='[1]pipe clamps'!C16 -> 35 | E15: ='[1]pipe clamps'!K16 -> 7.8428283
A16: ='[1]pipe clamps'!A17 -> PC009 | B16: ='[1]pipe clamps'!B17 -> 1 5/8" | C16: ='[1]pipe clamps'!C17 -> 42 | E16: ='[1]pipe clamps'!K17 -> 7.8428283
A17: ='[1]pipe clamps'!A18 -> PC010 | B17: ='[1]pipe clamps'!B18 -> 2 1/8" | C17: ='[1]pipe clamps'!C18 -> 55 | E17: ='[1]pipe clamps'!K18 -> 13.349495
A18: ='[1]pipe clamps'!A19 -> PC011 | B18: ='[1]pipe clamps'!B19 -> 2 5/8" | C18: ='[1]pipe clamps'!C19 -> 70 | E18: ='[1]pipe clamps'!K19 -> 13.349495
A19: ='[1]pipe clamps'!A20 -> PC012 | B19: ='[1]pipe clamps'!B20 -> 3 1/8" | C19: ='[1]pipe clamps'!C20 -> 80 | E19: ='[1]pipe clamps'!K20 -> 17.521212
A20: ='[1]pipe clamps'!A21 -> PC013 | B20: ='[1]pipe clamps'!B21 -> 1/4" | C20: ='[1]pipe clamps'!C21 -> 6.4 | D20: Light pipe clamps with long base and nut M6 | E20: ='[1]pipe clamps'!K21 -> 4.1717172
A21: ='[1]pipe clamps'!A22 -> PC014 | B21: ='[1]pipe clamps'!B22 -> 3/8" | C21: ='[1]pipe clamps'!C22 -> 9.5 | E21: ='[1]pipe clamps'!K22 -> 4.0882828
A22: ='[1]pipe clamps'!A23 -> PC015 | B22: ='[1]pipe clamps'!B23 -> 1/2" | C22: ='[1]pipe clamps'!C23 -> 12.7 | E22: ='[1]pipe clamps'!K23 -> 4.0882828
A23: ='[1]pipe clamps'!A24 -> PC016 | B23: ='[1]pipe clamps'!B24 -> 5/8" | C23: ='[1]pipe clamps'!C24 -> 16 | E23: ='[1]pipe clamps'!K24 -> 5.723596
A24: ='[1]pipe clamps'!A25 -> PC017 | B24: ='[1]pipe clamps'!B25 -> 3/4" | C24: ='[1]pipe clamps'!C25 -> 19 | E24: ='[1]pipe clamps'!K25 -> 6.549596
A25: ='[1]pipe clamps'!A26 -> PC018 | B25: ='[1]pipe clamps'!B26 -> 7/8" | C25: ='[1]pipe clamps'!C26 -> 22 | E25: ='[1]pipe clamps'!K26 -> 6.549596
A26: ='[1]pipe clamps'!A27 -> PC019 | B26: ='[1]pipe clamps'!B27 -> 1 1/8" | C26: ='[1]pipe clamps'!C27 -> 28 | E26: ='[1]pipe clamps'!K27 -> 7.3422222
A27: ='[1]pipe clamps'!A28 -> PC020 | B27: ='[1]pipe clamps'!B28 -> 1 3/8" | C27: ='[1]pipe clamps'!C28 -> 35 | E27: ='[1]pipe clamps'!K28 -> 8.9942222
A28: ='[1]pipe clamps'!A29 -> PC021 | B28: ='[1]pipe clamps'!B29 -> 1 5/8" | C28: ='[1]pipe clamps'!C29 -> 42 | E28: ='[1]pipe clamps'!K29 -> 8.9942222
A29: ='[1]pipe clamps'!A30 -> PC022 | B29: ='[1]pipe clamps'!B30 -> 2 1/8" | C29: ='[1]pipe clamps'!C30 -> 55 | E29: ='[1]pipe clamps'!K30 -> 14.183838
A30: ='[1]pipe clamps'!A31 -> PC023 | B30: ='[1]pipe clamps'!B31 -> 2 5/8" | C30: ='[1]pipe clamps'!C31 -> 70 | E30: ='[1]pipe clamps'!K31 -> 17.521212
A31: ='[1]pipe clamps'!A32 -> PC024 | B31: ='[1]pipe clamps'!B32 -> 3 1/8" | C31: ='[1]pipe clamps'!C32 -> 80 | E31: ='[1]pipe clamps'!K32 -> 22.527273
A32: ='[1]pipe clamps'!A33 -> PC19 | B32: ='[1]pipe clamps'!B33 -> 3/8" | C32: ='[1]pipe clamps'!C33 -> 9.5 | D32: Heavy pipe clamps (welding base) | E32: ='[1]pipe clamps'!K33 -> 6.6747475
A33: ='[1]pipe clamps'!A34 -> PC20 | B33: ='[1]pipe clamps'!B34 -> 1/2" | C33: ='[1]pipe clamps'!C34 -> 12.7 | E33: ='[1]pipe clamps'!K34 -> 6.6747475
A34: ='[1]pipe clamps'!A35 -> PC21 | B34: ='[1]pipe clamps'!B35 -> 5/8" | C34: ='[1]pipe clamps'!C35 -> 16 | E34: ='[1]pipe clamps'!K35 -> 6.6747475
A35: ='[1]pipe clamps'!A36 -> PC22 | B35: ='[1]pipe clamps'!B36 -> 3/4" | C35: ='[1]pipe clamps'!C36 -> 19 | E35: ='[1]pipe clamps'!K36 -> 10.012121
A36: ='[1]pipe clamps'!A37 -> PC23 | B36: ='[1]pipe clamps'!B37 -> 7/8" | C36: ='[1]pipe clamps'!C37 -> 22 | E36: ='[1]pipe clamps'!K37 -> 9.8452525
A37: ='[1]pipe clamps'!A38 -> PC24 | B37: ='[1]pipe clamps'!B38 -> 1 1/8" | C37: ='[1]pipe clamps'!C38 -> 28 | E37: ='[1]pipe clamps'!K38 -> 9.8452525
A38: ='[1]pipe clamps'!A39 -> PC25 | B38: ='[1]pipe clamps'!B39 -> 1 3/8" | C38: ='[1]pipe clamps'!C39 -> 35 | E38: ='[1]pipe clamps'!K39 -> 11.513939
A39: ='[1]pipe clamps'!A40 -> PC26 | B39: ='[1]pipe clamps'!B40 -> 1 5/8" | C39: ='[1]pipe clamps'!C40 -> 42 | E39: ='[1]pipe clamps'!K40 -> 11.513939
A40: ='[1]pipe clamps'!A41 -> PC27 | B40: ='[1]pipe clamps'!B41 -> 2 1/8" | C40: ='[1]pipe clamps'!C41 -> 55 | E40: ='[1]pipe clamps'!K41 -> 21.275758
A41: ='[1]pipe clamps'!A42 -> PC28 | B41: ='[1]pipe clamps'!B42 -> 2 5/8" | C41: ='[1]pipe clamps'!C42 -> 70 | E41: ='[1]pipe clamps'!K42 -> 21.275758
A42: ='[1]pipe clamps'!A43 -> PC29 | B42: ='[1]pipe clamps'!B43 -> 3 1/8" | C42: ='[1]pipe clamps'!C43 -> 80 | E42: ='[1]pipe clamps'!K43 -> 40.882828
A43: ='[1]pipe clamps'!A44 -> PC30 | B43: ='[1]pipe clamps'!B44 -> 3/8" | C43: ='[1]pipe clamps'!C44 -> 9.5 | D43: Heavy pipe clamps with long base and nut | E43: ='[1]pipe clamps'!K44 -> 7.6759596
A44: ='[1]pipe clamps'!A45 -> PC31 | B44: ='[1]pipe clamps'!B45 -> 1/2" | C44: ='[1]pipe clamps'!C45 -> 12.7 | E44: ='[1]pipe clamps'!K45 -> 7.6759596
A45: ='[1]pipe clamps'!A46 -> PC32 | B45: ='[1]pipe clamps'!B46 -> 5/8" | C45: ='[1]pipe clamps'!C46 -> 16 | E45: ='[1]pipe clamps'!K46 -> 7.6759596
A46: ='[1]pipe clamps'!A47 -> PC33 | B46: ='[1]pipe clamps'!B47 -> 3/4" | C46: ='[1]pipe clamps'!C47 -> 19 | E46: ='[1]pipe clamps'!K47 -> 11.513939
A47: ='[1]pipe clamps'!A48 -> PC34 | B47: ='[1]pipe clamps'!B48 -> 7/8" | C47: ='[1]pipe clamps'!C48 -> 22 | E47: ='[1]pipe clamps'!K48 -> 11.280323
A48: ='[1]pipe clamps'!A49 -> PC35 | B48: ='[1]pipe clamps'!B49 -> 1 1/8" | C48: ='[1]pipe clamps'!C49 -> 28 | E48: ='[1]pipe clamps'!K49 -> 11.280323
A49: ='[1]pipe clamps'!A50 -> PC36 | B49: ='[1]pipe clamps'!B50 -> 1 3/8" | C49: ='[1]pipe clamps'!C50 -> 35 | E49: ='[1]pipe clamps'!K50 -> 13.165939
A50: ='[1]pipe clamps'!A51 -> PC37 | B50: ='[1]pipe clamps'!B51 -> 1 5/8" | C50: ='[1]pipe clamps'!C51 -> 42 | E50: ='[1]pipe clamps'!K51 -> 13.165939
A51: ='[1]pipe clamps'!A52 -> PC38 | B51: ='[1]pipe clamps'!B52 -> 2 1/8" | C51: ='[1]pipe clamps'!C52 -> 55 | E51: ='[1]pipe clamps'!K52 -> 24.529697
A52: ='[1]pipe clamps'!A53 -> PC39 | B52: ='[1]pipe clamps'!B53 -> 2 5/8" | C52: ='[1]pipe clamps'!C53 -> 70 | E52: ='[1]pipe clamps'!K53 -> 24.529697
A53: ='[1]pipe clamps'!A54 -> PC40 | B53: ='[1]pipe clamps'!B54 -> 3 1/8" | C53: ='[1]pipe clamps'!C54 -> 80 | E53: ='[1]pipe clamps'!K54 -> 47.140404
A54: ='[1]pipe clamps'!A55 -> PC025 | B54: ='[1]pipe clamps'!B55 -> 3/8" | C54: ='[1]pipe clamps'!C55 -> 9.5 | D54: Light pipe clamps (welding base,nylon material) 120c | E54: ='[1]pipe clamps'!K55 -> 5.0060606
A55: ='[1]pipe clamps'!A56 -> PC026 | B55: ='[1]pipe clamps'!B56 -> 1/2" | C55: ='[1]pipe clamps'!C56 -> 12.7 | E55: ='[1]pipe clamps'!K56 -> 6.6747475
A56: ='[1]pipe clamps'!A57 -> PC027 | B56: ='[1]pipe clamps'!B57 -> 5/8" | C56: ='[1]pipe clamps'!C57 -> 16 | E56: ='[1]pipe clamps'!K57 -> 6.6747475
A57: ='[1]pipe clamps'!A58 -> PC028 | B57: ='[1]pipe clamps'!B58 -> 3/4" | C57: ='[1]pipe clamps'!C58 -> 19 | E57: ='[1]pipe clamps'!K58 -> 8.3434343
A58: ='[1]pipe clamps'!A59 -> PC029 | B58: ='[1]pipe clamps'!B59 -> 7/8" | C58: ='[1]pipe clamps'!C59 -> 22 | E58: ='[1]pipe clamps'!K59 -> 8.3434343
A59: ='[1]pipe clamps'!A60 -> PC030 | B59: ='[1]pipe clamps'!B60 -> 1 1/8" | C59: ='[1]pipe clamps'!C60 -> 28 | E59: ='[1]pipe clamps'!K60 -> 10.012121
A60: ='[1]pipe clamps'!A61 -> PC031 | B60: ='[1]pipe clamps'!B61 -> 1 3/8" | C60: ='[1]pipe clamps'!C61 -> 35 | E60: ='[1]pipe clamps'!K61 -> 11.680808
A61: ='[1]pipe clamps'!A62 -> PC032 | B61: ='[1]pipe clamps'!B62 -> 1 5/8" | C61: ='[1]pipe clamps'!C62 -> 42 | E61: ='[1]pipe clamps'!K62 -> 11.680808
A62: ='[1]pipe clamps'!A63 -> PC033 | B62: ='[1]pipe clamps'!B63 -> 2 1/8" | C62: ='[1]pipe clamps'!C63 -> 55 | E62: ='[1]pipe clamps'!K63 -> 16.686869
A63: ='[1]pipe clamps'!A64 -> PC034 | B63: ='[1]pipe clamps'!B64 -> 2 5/8" | C63: ='[1]pipe clamps'!C64 -> 70 | E63: ='[1]pipe clamps'!K64 -> 16.686869
A64: ='[1]pipe clamps'!A65 -> PC034.1 | B64: ='[1]pipe clamps'!B65 -> 1/2" | C64: ='[1]pipe clamps'!C65 -> 12.7 | D64: Light pipe clamps (long base,nylon material) 120c | E64: ='[1]pipe clamps'!K65 -> 9.1777778
A65: ='[1]pipe clamps'!A66 -> PC034.2 | B65: ='[1]pipe clamps'!B66 -> 5/8" | C65: ='[1]pipe clamps'!C66 -> 16 | E65: ='[1]pipe clamps'!K66 -> 9.1777778
A66: ='[1]pipe clamps'!A67 -> PC034.3 | B66: ='[1]pipe clamps'!B67 -> 3/4" | C66: ='[1]pipe clamps'!C67 -> 19 | E66: ='[1]pipe clamps'!K67 -> 10.012121
A67: ='[1]pipe clamps'!A68 -> PC034.4 | B67: ='[1]pipe clamps'!B68 -> 7/8" | C67: ='[1]pipe clamps'!C68 -> 22 | E67: ='[1]pipe clamps'!K68 -> 10.012121
A68: ='[1]pipe clamps'!A69 -> PC034.5 | B68: ='[1]pipe clamps'!B69 -> 1 1/8" | C68: ='[1]pipe clamps'!C69 -> 28 | E68: ='[1]pipe clamps'!K69 -> 13.349495
A69: ='[1]pipe clamps'!A70 -> PC035 | B69: ='[1]pipe clamps'!B70 -> 34-37mm pipe holder | C69: ='[1]pipe clamps'!C70 -> 0 | D69: pipe holder | E69: ='[1]pipe clamps'!K70 -> 0.64289777
A70: ='[1]pipe clamps'!A71 -> PC036 | B70: ='[1]pipe clamps'!B71 -> 44-48mm pipe holder | C70: ='[1]pipe clamps'!C71 -> 0 | E70: ='[1]pipe clamps'!K71 -> 0.69235144
A71: ='[1]pipe clamps'!A72 -> PC037 | B71: ='[1]pipe clamps'!B72 -> 50-54mm pipe holder | C71: ='[1]pipe clamps'!C72 -> 0 | E71: ='[1]pipe clamps'!K72 -> 0.75828968
A72: ='[1]pipe clamps'!A73 -> PC038 | B72: ='[1]pipe clamps'!B73 -> 56-60mm pipe holder | C72: ='[1]pipe clamps'!C73 -> 0 | E72: ='[1]pipe clamps'!K73 -> 0.84071247
A73: ='[1]pipe clamps'!A74 -> PC039 | B73: ='[1]pipe clamps'!B74 -> 63-69mm pipe holder | C73: ='[1]pipe clamps'!C74 -> 0 | E73: ='[1]pipe clamps'!K74 -> 0.93961982
A74: ='[1]pipe clamps'!A75 -> PC040 | B74: ='[1]pipe clamps'!B75 -> 73-78mm pipe holder | C74: ='[1]pipe clamps'!C75 -> 0 | E74: ='[1]pipe clamps'!K75 -> 1.0385272
A75: ='[1]pipe clamps'!A76 -> PC041 | B75: ='[1]pipe clamps'!B76 -> 82-88mm pipe holder | C75: ='[1]pipe clamps'!C76 -> 0 | E75: ='[1]pipe clamps'!K76 -> 1.12095
A76: *PRICE WILL BE CHANGE ON THE FINAL PAYMENT DUE TO THE CURRENCY RATE
A77: *PLEASE EMAIL OR FAX OVER THE BANK IN SLIP
A78: BANK ACC :HONG LEONG BANK BHD 36600016285 , PUBLIC BANK BHD 3119617816
A79: BENEFICIARY :WELLER AIR-COND PARTS ENTERPRICE SDN BHD
A80: Generated by computer

Sheet COPPER TUBE
A2: ='pipe clamps'!A6 -> DATE :28.9.26
A3: ITEM CODE | B3: DESCRIPTION | C3: ='[2]COPPER TUBE'!$C7 -> 1CTN | D3: (KGS) COIL | E3: ='[2]COPPER TUBE'!$L$7 -> (RM)
A4: ='[1]COPPER TUBE'!$A8 -> COP003 | B4: ='[1]COPPER TUBE'!$B8 -> 1/4 X 15M X 0.61mm | C4: ='[1]COPPER TUBE'!$C8 -> 10rolls | D4: ='[1]COPPER TUBE'!$D8 -> 1.470588 | E4: ='[1]COPPER TUBE'!$I8 -> 146.2079
A5: ='[1]COPPER TUBE'!$A9 -> COP004 | B5: ='[1]COPPER TUBE'!$B9 -> 1/4 X 15M X 0.71mm | C5: ='[1]COPPER TUBE'!$C9 -> 10rolls | D5: ='[1]COPPER TUBE'!$D9 -> 1.681848 | E5: ='[1]COPPER TUBE'!$I9 -> 167.21166
A6: ='[1]COPPER TUBE'!$A10 -> COP005 | B6: ='[1]COPPER TUBE'!$B10 -> 1/4 X 15M X 0.81mm | C6: ='[1]COPPER TUBE'!$C10 -> 10rolls | D6: ='[1]COPPER TUBE'!$D10 -> 1.884708 | E6: ='[1]COPPER TUBE'!$I10 -> 187.38028
A7: ='[1]COPPER TUBE'!$A11 -> COP006 | B7: ='[1]COPPER TUBE'!$B11 -> 1/4 X 15M X 0.91mm | C7: ='[1]COPPER TUBE'!$C11 -> 10rolls | D7: ='[1]COPPER TUBE'!$D11 -> 2.079168 | E7: ='[1]COPPER TUBE'!$I11 -> 215.57293
A8: ='[1]COPPER TUBE'!$A12 -> COP007 | B8: ='[1]COPPER TUBE'!$B12 -> 5/16 X 15M X 0.51mm | C8: ='[1]COPPER TUBE'!$C12 -> 10rolls | D8: ='[1]COPPER TUBE'!$D12 -> 1.591506 | E8: ='[1]COPPER TUBE'!$I12 -> ~
A9: ='[1]COPPER TUBE'!$A13 -> COP008 | B9: ='[1]COPPER TUBE'!$B13 -> 5/16 X 15M X 0.56mm | C9: ='[1]COPPER TUBE'!$C13 -> 10rolls | D9: ='[1]COPPER TUBE'!$D13 -> 1.735776 | E9: ='[1]COPPER TUBE'!$I13 -> 172.57326
A10: ='[1]COPPER TUBE'!$A14 -> COP009 | B10: ='[1]COPPER TUBE'!$B14 -> 3/8 X 15M X 0.61mm | C10: ='[1]COPPER TUBE'!$C14 -> 10rolls | D10: ='[1]COPPER TUBE'!$D14 -> 2.282742 | E10: ='[1]COPPER TUBE'!$I14 -> 226.95338
A11: ='[1]COPPER TUBE'!$A15 -> COP012 | B11: ='[1]COPPER TUBE'!$B15 -> 3/8 X 15M X 0.71mm | C11: ='[1]COPPER TUBE'!$C15 -> 10rolls | D11: ='[1]COPPER TUBE'!$D15 -> 2.627142 | E11: ='[1]COPPER TUBE'!$I15 -> 261.1941
A12: ='[1]COPPER TUBE'!$A16 -> COP013 | B12: ='[1]COPPER TUBE'!$B16 -> 3/8 X 15M X 0.81mm | C12: ='[1]COPPER TUBE'!$C16 -> 10rolls | D12: ='[1]COPPER TUBE'!$D16 -> 2.963142 | E12: ='[1]COPPER TUBE'!$I16 -> 307.22539
A13: ='[1]COPPER TUBE'!$A17 -> COP014 | B13: ='[1]COPPER TUBE'!$B17 -> 3/8 X 15M X 0.91mm | C13: ='[1]COPPER TUBE'!$C17 -> 10rolls | D13: ='[1]COPPER TUBE'!$D17 -> 3.290742 | E13: ='[1]COPPER TUBE'!$I17 -> 341.19171
A14: ='[1]COPPER TUBE'!$A18 -> COP015 | B14: ='[1]COPPER TUBE'!$B18 -> 1/2 X 15M X 0.61mm | C14: ='[1]COPPER TUBE'!$C18 -> 8rolls | D14: ='[1]COPPER TUBE'!$D18 -> 3.097458 | E14: ='[1]COPPER TUBE'!$I18 -> 307.95357
A15: ='[1]COPPER TUBE'!$A19 -> COP018 | B15: ='[1]COPPER TUBE'!$B19 -> 1/2 X 15M X 0.71mm | C15: ='[1]COPPER TUBE'!$C19 -> 8rolls | D15: ='[1]COPPER TUBE'!$D19 -> 3.575418 | E15: ='[1]COPPER TUBE'!$I19 -> 355.47302
... A26: ='[1]COPPER TUBE'!$A30 -> COP032 | B26: ='[1]COPPER TUBE'!$B30 -> 1/4 X 0.8mm X (900M) | C26: ='[1]COPPER TUBE'!$C30 -> 1 BIG ROLL | D26: ='[1]COPPER TUBE'!$D30 -> 111.888 | E26: ='[1]COPPER TUBE'!$I30 -> 11590.954
A27: ='[1]COPPER TUBE'!#REF! -> #REF! | B27: ='[1]COPPER TUBE'!#REF! -> #REF! | C27: ='[1]COPPER TUBE'!$C37 -> 1 BIG ROLL | D27: ='[1]COPPER TUBE'!$D37 -> 68.5692 | E27: ='[1]COPPER TUBE'!$I37 -> 7103.375
A28: ='[1]COPPER TUBE'!#REF! -> #REF! | B28: ='[1]COPPER TUBE'!$B40 -> 1/2 X 0.45mm X (450M) | C28: ='[1]COPPER TUBE'!$C40 -> 1 BIG ROLL | D28: ='[1]COPPER TUBE'!$D40 -> 69.4575 | E28: ='[1]COPPER TUBE'!$I40 -> 7195.3977
A29: ='[1]COPPER TUBE'!$A31 -> COP032.03 | B29: ='[1]COPPER TUBE'!$B31 -> 5/16 X 0.6mm X (900M) | C29: ='[1]COPPER TUBE'!$C31 -> 1 BIG ROLL | D29: ='[1]COPPER TUBE'!$D31 -> 110.9808 | E29: ='[1]COPPER TUBE'!$I31 -> 11496.973
A30: ='[1]COPPER TUBE'!$A32 -> COP033 | B30: ='[1]COPPER TUBE'!$B32 -> 3/8 X 0.8mm X (600M) | C30: ='[1]COPPER TUBE'!$C32 -> 1 BIG ROLL | D30: ='[1]COPPER TUBE'!$D32 -> 117.1968 | E30: ='[1]COPPER TUBE'!$I32 -> 12140.915
A31: ='[1]COPPER TUBE'!$A33 -> COP034 | B31: ='[1]COPPER TUBE'!$B33 -> 1/2 X 0.8mm X (450M) | C31: ='[1]COPPER TUBE'!$C33 -> 1 BIG ROLL | D31: ='[1]COPPER TUBE'!$D33 -> 119.952 | E31: ='[1]COPPER TUBE'!$I33 -> 12426.338
A32: ='[1]COPPER TUBE'!$A34 -> COP035 | B32: ='[1]COPPER TUBE'!$B34 -> 5/8 X 0.8mm X (300M) | C32: ='[1]COPPER TUBE'!$C34 -> 1 BIG ROLL | D32: ='[1]COPPER TUBE'!$D34 -> 101.3376 | E32: ='[1]COPPER TUBE'!$I34 -> 10497.993
A33: ='[1]COPPER TUBE'!$A35 -> COP036 | B33: ='[1]COPPER TUBE'!$B35 -> 1/4 X 0.56mm X (900M) | C33: ='[1]COPPER TUBE'!$C35 -> 1 BIG ROLL | D33: ='[1]COPPER TUBE'!$D35 -> 81.70848 | E33: ='[1]COPPER TUBE'!$I35 -> 8464.5288
A34: ='[1]COPPER TUBE'!$A36 -> COP036.01 | B34: ='[1]COPPER TUBE'!$B36 -> 1/4 X 0.61mm X (900M) | C34: ='[1]COPPER TUBE'!$C36 -> 1 BIG ROLL | D34: ='[1]COPPER TUBE'!$D36 -> 88.23528 | E34: ='[1]COPPER TUBE'!$I36 -> 9140.6678
A35: ='[1]COPPER TUBE'!$A37 -> COP037 | B35: ='[1]COPPER TUBE'!$B37 -> 3/8 X 0.45mm X (600M) | C35: ='[1]COPPER TUBE'!#REF! -> #REF! | D35: ='[1]COPPER TUBE'!#REF! -> #REF! | E35: ='[1]COPPER TUBE'!#REF! -> #REF!
A36: ='[1]COPPER TUBE'!$A38 -> COP037.01 | B36: ='[1]COPPER TUBE'!$B38 -> 3/8 X 0.56mm X (600M) | C36: ='[1]COPPER TUBE'!$C38 -> 1 BIG ROLL | D36: ='[1]COPPER TUBE'!$D38 -> 84.29568 | E36: ='[1]COPPER TUBE'!$I38 -> 8732.5479
A37: ='[1]COPPER TUBE'!$A43 -> COP040 | B37: ='[1]COPPER TUBE'!$B43 -> 3/8 X 5.8M X 0.81mm | C37: ='[1]COPPER TUBE'!$C43 -> 0 | D37: ='[1]COPPER TUBE'!$D43 -> 1.1457482 | E37: ='[1]COPPER TUBE'!$I43 -> ~
A38: ='[1]COPPER TUBE'!$A44 -> COP040.01 | B38: ='[1]COPPER TUBE'!$B44 -> 3/8 X 5.8M X 0.91mm | C38: ='[1]COPPER TUBE'!$C44 -> 0 | D38: ='[1]COPPER TUBE'!$D44 -> 0 | E38: ='[1]COPPER TUBE'!$I44 -> 132.09646
A39: ='[1]COPPER TUBE'!$A45 -> COP041 | B39: ='[1]COPPER TUBE'!$B45 -> 1/2 X 5.8M X 0.81mm | C39: ='[1]COPPER TUBE'!$C45 -> 0 | D39: ='[1]COPPER TUBE'!$D45 -> 1.5640582 | E39: ='[1]COPPER TUBE'!$I45 -> 162.37288
A40: ='[1]COPPER TUBE'!$A46 -> COP042 | B40: ='[1]COPPER TUBE'!$B46 -> 1/2 X 5.8M X 0.91mm | C40: ='[1]COPPER TUBE'!$C46 -> 300 | D40: ='[1]COPPER TUBE'!$D46 -> 1.7051966 | E40: ='[1]COPPER TUBE'!$I46 -> 180.8847
A41: ='[1]COPPER TUBE'!$A47 -> COP043 | B41: ='[1]COPPER TUBE'!$B47 -> 5/8 X 5.8M X 0.81mm | C41: ='[1]COPPER TUBE'!$C47 -> 0 | D41: ='[1]COPPER TUBE'!$D47 -> 1.9823681 | E41: ='[1]COPPER TUBE'!$I47 -> 205.79978
A42: ='[1]COPPER TUBE'!$A48 -> COP044 | B42: ='[1]COPPER TUBE'!$B48 -> 5/8 X 5.8M X 0.91mm | C42: ='[1]COPPER TUBE'!$C48 -> 300 | D42: ='[1]COPPER TUBE'!$D48 -> 2.2123265 | E42: ='[1]COPPER TUBE'!$I48 -> 229.67294
A43: ='[1]COPPER TUBE'!$A49 -> COP045 | B43: ='[1]COPPER TUBE'!$B49 -> 5/8 X 5.8M X 1.016(L) | C43: ='[1]COPPER TUBE'!$C49 -> 0 | D43: ='[1]COPPER TUBE'!$D49 -> 2.4525362 | E43: ='[1]COPPER TUBE'!$I49 -> ~
A44: ='[1]COPPER TUBE'!$A50 -> COP046 | B44: ='[1]COPPER TUBE'!$B50 -> 3/4 X 5.8M X 0.81mm | C44: ='[1]COPPER TUBE'!$C50 -> 0 | D44: ='[1]COPPER TUBE'!$D50 -> 2.4322486 | E44: ='[1]COPPER TUBE'!$I50 -> 252.50417
A45: ='[1]COPPER TUBE'!$A51 -> COP047 | B45: ='[1]COPPER TUBE'!$B51 -> 3/4 X 5.8M X 0.91mm | C45: ='[1]COPPER TUBE'!$C51 -> 200 | D45: ='[1]COPPER TUBE'!$D51 -> 2.7177478 | E45: ='[1]COPPER TUBE'!$I51 -> 282.14331
A46: ='[1]COPPER TUBE'!$A52 -> COP048 | B46: ='[1]COPPER TUBE'!$B52 -> 3/4 X 5.8M X 1.067(L) | C46: ='[1]COPPER TUBE'!$C52 -> 0 | D46: ='[1]COPPER TUBE'!$D52 -> 3.1161086 | E46: ='[1]COPPER TUBE'!$I52 -> ~
A47: ='[1]COPPER TUBE'!$A53 -> COP049 | B47: ='[1]COPPER TUBE'!$B53 -> 7/8 X 5.8M X 0.71mm | C47: ='[1]COPPER TUBE'!$C53 -> 0 | D47: ='[1]COPPER TUBE'!$D53 -> 2.4813421 | E47: ='[1]COPPER TUBE'!$I53 -> 257.60082
A48: ='[1]COPPER TUBE'!$A54 -> COP050 | B48: ='[1]COPPER TUBE'!$B54 -> 7/8 X 5.8M X 0.81mm | C48: ='[1]COPPER TUBE'!$C54 -> 400 | D48: ='[1]COPPER TUBE'!$D54 -> 2.8176725 | E48: ='[1]COPPER TUBE'!$I54 -> 292.517
... A72: ='[1]COPPER TUBE'!$A78 -> COP074 | B72: ='[1]COPPER TUBE'!$B78 -> 2 5/8 X 5.8M X 1.22mm | C72: ='[1]COPPER TUBE'!$C78 -> 100 | D72: ='[1]COPPER TUBE'!$D78 -> 12.969459 | E72: ='[1]COPPER TUBE'!$I78 -> 1350.7323
A73: ='[1]COPPER TUBE'!A79 -> COP075 | B73: ='[1]COPPER TUBE'!B79 -> 3 1/8 X 5.8M X 1.34mm | C73: ='[1]COPPER TUBE'!C79 -> 40 | D73: ='[1]COPPER TUBE'!D79 -> 17.335291 | E73: ='[1]COPPER TUBE'!$I79 -> 1805.4212
A74: ='[1]COPPER TUBE'!A80 -> COP076.1 | B74: ='[1]COPPER TUBE'!B80 -> 3/4 X 3M X 1mm | C74: ='[1]COPPER TUBE'!C80 -> SOFT | D74: ='[1]COPPER TUBE'!D80 -> 1.516 | E74: ='[1]COPPER TUBE'!$I80 -> 158.41135
A75: ='[1]COPPER TUBE'!A81 -> COP077 | B75: ='[1]COPPER TUBE'!B81 -> 7/8 X 3M X 1.1mm | C75: ='[1]COPPER TUBE'!C81 -> SOFT | D75: ='[1]COPPER TUBE'!D81 -> 2.119824 | E75: ='[1]COPPER TUBE'!$I81 -> 203.98643
A76: ='[1]COPPER TUBE'!A82 -> COP078 | B76: ='[1]COPPER TUBE'!B82 -> 1 1/8 X 3M X 1.3mm | C76: ='[1]COPPER TUBE'!C82 -> SOFT | D76: ='[1]COPPER TUBE'!D82 -> 2.98116 | E76: ='[1]COPPER TUBE'!$I82 -> 311.46919
A77: ='[1]COPPER TUBE'!A83 -> COP079 | B77: ='[1]COPPER TUBE'!B83 -> 1 3/8 X 3M X 1.5mm | C77: ='[1]COPPER TUBE'!C83 -> SOFT | D77: ='[1]COPPER TUBE'!D83 -> 4.21218 | E77: ='[1]COPPER TUBE'!$I83 -> 440.08517
A78: ='[1]COPPER TUBE'!A84 -> COP079.1 | B78: ='[1]COPPER TUBE'!B84 -> 1 5/8 X 3M X 1.8mm | E78: ='[1]COPPER TUBE'!$I84 -> 523.67898
A79: ='[1]COPPER TUBE'!A85 -> COP080 | B79: ='[1]COPPER TUBE'!B85 -> 0.026 X 100FT | E79: ='[1]COPPER TUBE'!$I85 -> 63.082679
A80: ='[1]COPPER TUBE'!A86 -> COP081 | B80: ='[1]COPPER TUBE'!B86 -> 0.028 X 100FT | E80: ='[1]COPPER TUBE'!$I86 -> 61.531932
A81: ='[1]COPPER TUBE'!A87 -> COP084 | B81: ='[1]COPPER TUBE'!B87 -> 0.036 X 100FT | E81: ='[1]COPPER TUBE'!$I87 -> 87.747606
A82: ='[1]COPPER TUBE'!A88 -> COP085 | B82: ='[1]COPPER TUBE'!B88 -> 0.039 X 100FT | E82: ='[1]COPPER TUBE'!$I88 -> 84.266747
A83: ='[1]COPPER TUBE'!A89 -> COP086 | B83: ='[1]COPPER TUBE'!B89 -> 0.042 X 100FT | E83: ='[1]COPPER TUBE'!$I89 -> 97.76936
A84: ='[1]COPPER TUBE'!A90 -> COP087 | B84: ='[1]COPPER TUBE'!B90 -> 0.046 X 100FT | E84: ='[1]COPPER TUBE'!$I90 -> 100.56277
A85: ='[1]COPPER TUBE'!A91 -> COP088 | B85: ='[1]COPPER TUBE'!B91 -> 0.049 X 100FT | E85: ='[1]COPPER TUBE'!$I91 -> 104.85609
A86: ='[1]COPPER TUBE'!A92 -> COP089 | B86: ='[1]COPPER TUBE'!B92 -> 0.055 X 100FT | E86: ='[1]COPPER TUBE'!$I92 -> 118.06631
A87: ='[1]COPPER TUBE'!A93 -> COP090 | B87: ='[1]COPPER TUBE'!B93 -> 0.059 X 100FT | E87: ='[1]COPPER TUBE'!$I93 -> 127.97397
A88: ='[1]COPPER TUBE'!A94 -> COP091 | B88: ='[1]COPPER TUBE'!B94 -> 0.064 X 100FT | E88: ='[1]COPPER TUBE'!$I94 -> 161.58313
A89: ='[1]COPPER TUBE'!A95 -> COP092 | B89: ='[1]COPPER TUBE'!B95 -> 0.070 X 100FT | E89: ='[1]COPPER TUBE'!$I95 -> 167.51785
... A92: ='[1]COPPER TUBE'!A98 -> COP095 | B92: ='[1]COPPER TUBE'!B98 -> 0.085 X 100FT | E92: ='[1]COPPER TUBE'!$I98 -> 210.94616
A94: less than 10lgths charges rm150 for transport
A95: ='[1]COPPER TUBE'!A101 -> ITEM | B95: ='[1]COPPER TUBE'!B101 -> Pu jacket c/w insulation | C95: ='[1]COPPER TUBE'!C101 -> size pu jaket | D95: ='[1]COPPER TUBE'!I101 -> DEALER (RM) 1pipe in 1jacket | E95: ='[1]COPPER TUBE'!J101 -> DEALER (RM) 2pipe in 1jacket
A96: ='[1]COPPER TUBE'!A102 -> PU001 | B96: ='[1]COPPER TUBE'!B102 -> 5/8 X 5.8M X 0.71mm | C96: ='[1]COPPER TUBE'!C102 -> 80 | D96: ='[1]COPPER TUBE'!I102 -> 140 | E96: ='[1]COPPER TUBE'!J102 -> 152.85714
A97: ='[1]COPPER TUBE'!A103 -> 0 | B97: ='[1]COPPER TUBE'!B103 -> 3/4 X 5.8M X 0.71mm | C97: ='[1]COPPER TUBE'!C103 -> 80 | D97: ='[1]COPPER TUBE'!I103 -> 140 | E97: ='[1]COPPER TUBE'!J103 -> 152.85714
A98: ='[1]COPPER TUBE'!A104 -> 0 | B98: ='[1]COPPER TUBE'!B104 -> 7/8 X 5.8M X 0.71mm | C98: ='[1]COPPER TUBE'!C104 -> 80 | D98: ='[1]COPPER TUBE'!I104 -> 140 | E98: ='[1]COPPER TUBE'!J104 -> 152.85714
A99: ='[1]COPPER TUBE'!A105 -> PU002 | B99: ='[1]COPPER TUBE'!B105 -> 3/4 X 5.8M X 0.71mm | C99: ='[1]COPPER TUBE'!C105 -> 100 | D99: ='[1]COPPER TUBE'!I105 -> 162.85714 | E99: ='[1]COPPER TUBE'!J105 -> 185.71429
A100: ='[1]COPPER TUBE'!A106 -> 0 | B100: ='[1]COPPER TUBE'!B106 -> 7/8 X 5.8M X 0.71mm | C100: ='[1]COPPER TUBE'!C106 -> 100 | D100: ='[1]COPPER TUBE'!I106 -> 162.85714 | E100: ='[1]COPPER TUBE'!J106 -> 185.71429
A101: ='[1]COPPER TUBE'!A107 -> 0 | B101: ='[1]COPPER TUBE'!B107 -> 1 1/8 X 5.8M X 0.71mm | C101: ='[1]COPPER TUBE'!C107 -> 100 | D101: ='[1]COPPER TUBE'!I107 -> 162.85714 | E101: ='[1]COPPER TUBE'!J107 -> 185.71429
A102: ='[1]COPPER TUBE'!A108 -> PU003 | B102: ='[1]COPPER TUBE'!B108 -> 1 3/8 X 5.8M X 0.81mm | C102: ='[1]COPPER TUBE'!C108 -> 127 | D102: ='[1]COPPER TUBE'!I108 -> 191.42857 | E102: ='[1]COPPER TUBE'!J108 -> 215.71429
A103: ='[1]COPPER TUBE'!A109 -> 0 | B103: ='[1]COPPER TUBE'!B109 -> 1 5/8 X 5.8M X 0.81mm | C103: ='[1]COPPER TUBE'!C109 -> 127 | D103: ='[1]COPPER TUBE'!I109 -> 191.42857 | E103: ='[1]COPPER TUBE'!J109 -> 215.71429
A104: ='[1]COPPER TUBE'!A110 -> PU004 | B104: ='[1]COPPER TUBE'!B110 -> 2 1/8 X 5.8M X 1.22mm | C104: ='[1]COPPER TUBE'!C110 -> 152 | D104: ='[1]COPPER TUBE'!I110 -> 222.85714 | E104: ='[1]COPPER TUBE'!J110 -> 238.57143
A105: ='[1]COPPER TUBE'!A111 -> 0 | B105: ='[1]COPPER TUBE'!B111 -> 2 5/8 X 5.8M X 1.22mm | C105: ='[1]COPPER TUBE'!C111 -> 180 | D105: ='[1]COPPER TUBE'!I111 -> 287.14286 | E105: ='[1]COPPER TUBE'!J111 -> 307.14286
A106: ='[1]COPPER TUBE'!A112 -> 0 | B106: ='[1]COPPER TUBE'!B112 -> 2 5/8 X 5.8M X 1.23mm | C106: ='[1]COPPER TUBE'!C112 -> 160 | D106: ='[1]COPPER TUBE'!I112 -> 238.57143 | E106: ='[1]COPPER TUBE'!J112 -> 261.42857
... A108: ='[1]COPPER TUBE'!A114 -> 0 | B108: ='[1]COPPER TUBE'!B114 -> 4 1/8 X 5.8M X 1.34mm | C108: ='[1]COPPER TUBE'!C114 -> 180 | D108: ='[1]COPPER TUBE'!I114 -> 287.14286 | E108: ='[1]COPPER TUBE'!J114 -> 307.14286

Sheet insulation
A2: ='COPPER TUBE'!A2 -> DATE :28.9.26
A3: Item code | B3: Size inch | C3: Application | D3: lgth/ctn | E3: =[2]insulation!$F$7 -> (RM) | F3: =[1]insulation!M7 -> Item code | G3: =[1]insulation!N7 -> Size inch | H3: =[1]insulation!$R7 -> ex stock | I3: =[1]insulation!$T7 -> RM
A4: =[1]insulation!$A8 -> 0 | B4: =[1]insulation!$B8 -> 1/4 X 3/8 | C4: 3/8" THICKNESS FOR AIR-COND USAGE +20C | D4: 156 | E4: =[1]insulation!$F8 -> 2.1428571
A5: =[1]insulation!$A9 -> IT000.1 | B5: =[1]insulation!$B9 -> 3/8 X 3/8 | D5: 120 | E5: =[1]insulation!$F9 -> 2.2857143 | F5: =[1]insulation!M9 -> ITY000.1 | G5: =[1]insulation!N9 -> 3/8 X 3/8
A6: =[1]insulation!$A10 -> IT001 | B6: =[1]insulation!$B10 -> 1/2 X 3/8 | D6: 100 | E6: =[1]insulation!$F10 -> 2.6428571 | F6: =[1]insulation!M10 -> ITY001 | G6: =[1]insulation!N10 -> 1/2 X 3/8
A7: =[1]insulation!$A11 -> IT002 | B7: =[1]insulation!$B11 -> 5/8 X 3/8 * | D7: 90 | E7: =[1]insulation!$F11 -> 1.6428571
A8: =[1]insulation!$A12 -> IT003 | B8: =[1]insulation!$B12 -> 3/4 X 3/8 * | D8: 72 | E8: =[1]insulation!$F12 -> 1.8571429
A9: =[1]insulation!$A13 -> IT004 | B9: =[1]insulation!$B13 -> 7/8 X 3/8 * | D9: 64 | E9: =[1]insulation!$F13 -> 2.0714286
A10: =[1]insulation!$A14 -> 0 | B10: =[1]insulation!$B14 -> 1 X 3/8 | D10: 56 | E10: =[1]insulation!$F14 -> 4.7142857
A11: =[1]insulation!$A15 -> IT005 | B11: =[1]insulation!$B15 -> 1 1/8 X 3/8 * | D11: 49 | E11: =[1]insulation!$F15 -> 3.4285714 | F11: =[1]insulation!M15 -> ITY002 | G11: =[1]insulation!N15 -> 1 1/8 X 3/8 * | H11: =[1]insulation!$R15 -> 298 | I11: =[1]insulation!$T15 -> 3.6194008
A12: =[1]insulation!$A16 -> 0 | B12: =[1]insulation!$B16 -> 1 1/4 X 3/8 | D12: 42 | E12: =[1]insulation!$F16 -> 5.2571429
A13: =[1]insulation!$A17 -> IT006 | B13: =[1]insulation!$B17 -> 1 3/8 X 3/8 * | D13: 36 | E13: =[1]insulation!$F17 -> 5.1 | F13: =[1]insulation!M17 -> ITY003 | G13: =[1]insulation!N17 -> 1 3/8 X 3/8 * | H13: =[1]insulation!$R17 -> 1194 | I13: =[1]insulation!$T17 -> 4.2449566
A14: =[1]insulation!#REF! -> #REF! | B14: =[1]insulation!#REF! -> #REF! | D14: 34 | E14: =[1]insulation!#REF! -> #REF!
A15: =[1]insulation!$A18 -> IT007 | B15: =[1]insulation!$B18 -> 1 5/8 X 3/8 | D15: 30 | E15: =[1]insulation!$F18 -> 7.3571429 | F15: =[1]insulation!M18 -> ITY004 | G15: =[1]insulation!N18 -> 1 5/8 X 3/8 | H15: =[1]insulation!$R18 -> 120 | I15: =[1]insulation!$T18 -> 5.2438669
A16: =[1]insulation!$A19 -> 0 | B16: =[1]insulation!$B19 -> 1 7/8 X 3/8 | D16: 28 | E16: =[1]insulation!$F19 -> 8.2857143
A17: =[1]insulation!$A20 -> 0 | B17: =[1]insulation!$B20 -> 2 X 3/8 | D17: 24 | E17: =[1]insulation!$F20 -> 8.8571429
A18: =[1]insulation!$A21 -> IT008 | B18: =[1]insulation!$B21 -> 2 1/8 X 3/8 | D18: 21 | E18: =[1]insulation!$F21 -> 8.7142857
A19: =[1]insulation!$A22 -> 0 | B19: =[1]insulation!$B22 -> 2 3/8 X 3/8 | D19: 20 | E19: =[1]insulation!$F22 -> 9.2142857
A20: =[1]insulation!$A23 -> 0 | B20: =[1]insulation!$B23 -> 2 1/2 x 3/8 | E20: =[1]insulation!$F23 -> 9.6428571
A21: =[1]insulation!$A24 -> 0 | B21: =[1]insulation!$B24 -> 2 5/8 X 3/8 | D21: 18 | E21: =[1]insulation!$F24 -> 9.6428571
A22: =[1]insulation!$A25 -> 0 | B22: =[1]insulation!$B25 -> 2 7/8 X 3/8 | D22: 18 | E22: =[1]insulation!$F25 -> 10
A23: =[1]insulation!$A26 -> 0 | B23: =[1]insulation!$B26 -> 3 X 3/8 | D23: 18 | E23: =[1]insulation!$F26 -> 10.928571
A24: =[1]insulation!$A27 -> 0 | B24: =[1]insulation!$B27 -> 3 1/8 X 3/8 | D24: 16 | E24: =[1]insulation!$F27 -> 10.857143
A25: =[1]insulation!$A28 -> 0 | B25: =[1]insulation!$B28 -> 3 1/2 X 3/8 | D25: 16 | E25: =[1]insulation!$F28 -> 11.285714
A26: =[1]insulation!$A29 -> 0 | B26: =[1]insulation!$B29 -> 4 x 3/8 | D26: 14 | E26: =[1]insulation!$F29 -> 14.428571
A27: =[1]insulation!#REF! -> #REF! | B27: =[1]insulation!#REF! -> #REF! | D27: 14 | E27: =[1]insulation!#REF! -> #REF!
A28: =[1]insulation!#REF! -> #REF! | B28: =[1]insulation!#REF! -> #REF! | D28: 14 | E28: =[1]insulation!#REF! -> #REF!
A29: =[1]insulation!$A30 -> 0 | B29: =[1]insulation!$B30 -> 4 1/2 x 3/8 | D29: 14 | E29: =[1]insulation!$F30 -> 14.428571
A30: =[1]insulation!#REF! -> #REF! | B30: =[1]insulation!#REF! -> #REF! | D30: 10 | E30: =[1]insulation!#REF! -> #REF!
A31: =[1]insulation!#REF! -> #REF! | B31: =[1]insulation!#REF! -> #REF! | D31: 10 | E31: =[1]insulation!#REF! -> #REF!
A32: =[1]insulation!#REF! -> #REF! | B32: =[1]insulation!#REF! -> #REF! | D32: 10 | E32: =[1]insulation!#REF! -> #REF!
A33: =[1]insulation!#REF! -> #REF! | B33: =[1]insulation!#REF! -> #REF! | D33: 10 | E33: =[1]insulation!#REF! -> #REF!
A34: =[1]insulation!#REF! -> #REF! | B34: =[1]insulation!#REF! -> #REF! | E34: =[1]insulation!#REF! -> #REF!
A35: =[1]insulation!#REF! -> #REF! | B35: =[1]insulation!#REF! -> #REF! | E35: =[1]insulation!#REF! -> #REF!
A36: =[1]insulation!#REF! -> #REF! | B36: =[1]insulation!#REF! -> #REF! | E36: =[1]insulation!#REF! -> #REF!
A37: =[1]insulation!$A31 -> 0 | B37: =[1]insulation!$B31 -> 1/4 X 1/2 | C37: 1/2" THICKNESS FOR REFRIGERATOR USAGE +5C ~ 0C | D37: 110 | E37: =[1]insulation!$F31 -> 3.1428571
A38: =[1]insulation!$A32 -> 0 | B38: =[1]insulation!$B32 -> 3/8 X 1/2 | D38: 90 | E38: =[1]insulation!$F32 -> 3.3571429
A39: =[1]insulation!$A33 -> IT008.1 | B39: =[1]insulation!$B33 -> 1/2 X 1/2 | D39: 72 | E39: =[1]insulation!$F33 -> 4.6428571
A40: =[1]insulation!$A34 -> IT009 | B40: =[1]insulation!$B34 -> 5/8 X 1/2 * | D40: 63 | E40: =[1]insulation!$F34 -> 3.5 | F40: =[1]insulation!M34 -> ITY006 | G40: =[1]insulation!N34 -> 5/8 X 1/2 * | H40: =[1]insulation!$R34 -> 53 | I40: =[1]insulation!$T34 -> 4.3824245
A41: =[1]insulation!$A35 -> IT010 | B41: =[1]insulation!$B35 -> 3/4 X 1/2 * | D41: 56 | E41: =[1]insulation!$F35 -> 3.7142857 | F41: =[1]insulation!M35 -> ITY007 | G41: =[1]insulation!N35 -> 3/4 X 1/2 * | H41: =[1]insulation!$R35 -> 461 | I41: =[1]insulation!$T35 -> 4.9046732
A42: =[1]insulation!$A36 -> IT011 | B42: =[1]insulation!$B36 -> 7/8 X 1/2 * | D42: 48 | E42: =[1]insulation!$F36 -> 4.4285714
A43: =[1]insulation!$A37 -> 0 | B43: =[1]insulation!$B37 -> 1 X 1/2 | D43: 42 | E43: =[1]insulation!$F37 -> 7.5
A44: =[1]insulation!$A38 -> IT012 | B44: =[1]insulation!$B38 -> 1 1/8 X 1/2 * | D44: 36 | E44: =[1]insulation!$F38 -> 5.0714286 | F44: =[1]insulation!M38 -> ITY009 | G44: =[1]insulation!N38 -> 1 1/8 X 1/2 * | H44: =[1]insulation!$R38 -> 39 | I44: =[1]insulation!$T38 -> 6.3574516
A45: =[1]insulation!$A39 -> 0 | B45: =[1]insulation!$B39 -> 1 1/4 X 1/2 | D45: 30 | E45: =[1]insulation!$F39 -> 8.7428571
A46: =[1]insulation!$A40 -> IT013 | B46: =[1]insulation!$B40 -> 1 3/8 X 1/2 * | D46: 30 | E46: =[1]insulation!$F40 -> 8.5285714 | F46: =[1]insulation!M40 -> ITY010 | G46: =[1]insulation!N40 -> 1 3/8 X 1/2 * | H46: =[1]insulation!$R40 -> 1055 | I46: =[1]insulation!$T40 -> 7.8882324
A47: =[1]insulation!#REF! -> #REF! | B47: =[1]insulation!#REF! -> #REF! | D47: 25 | E47: =[1]insulation!#REF! -> #REF!
A48: =[1]insulation!$A41 -> IT014 | B48: =[1]insulation!$B41 -> 1 5/8 X 1/2 | D48: 25 | E48: =[1]insulation!$F41 -> 11.228571 | F48: =[1]insulation!M41 -> ITY011 | G48: =[1]insulation!N41 -> 1 5/8 X 1/2 | H48: =[1]insulation!$R41 -> 907 | I48: =[1]insulation!$T41 -> 10.397202
A49: =[1]insulation!$A42 -> 0 | B49: =[1]insulation!$B42 -> 1 7/8 X 1/2 | D49: 20 | E49: =[1]insulation!$F42 -> 12.428571
A50: =[1]insulation!$A43 -> 0 | B50: =[1]insulation!$B43 -> 2 X 1/2 | D50: 20 | E50: =[1]insulation!$F43 -> 13.857143
A51: =[1]insulation!$A44 -> IT015 | B51: =[1]insulation!$B44 -> 2 1/8 X 1/2 | D51: 20 | E51: =[1]insulation!$F44 -> 13.642857 | F51: =[1]insulation!M44 -> ITY012 | G51: =[1]insulation!N44 -> 2 1/8 X 1/2 | H51: =[1]insulation!$R44 -> 682 | I51: =[1]insulation!$T44 -> 12.766476
A52: =[1]insulation!$A45 -> 0 | B52: =[1]insulation!$B45 -> 2 3/8 X 1/2 | D52: 18 | E52: =[1]insulation!$F45 -> 0
A53: =[1]insulation!$A46 -> 0 | B53: =[1]insulation!$B46 -> 2 1/2 x 1/2 | D53: 15 | E53: =[1]insulation!$F46 -> 0
A54: =[1]insulation!$A47 -> 0 | B54: =[1]insulation!$B47 -> 2 5/8 X 1/2 | D54: 13 | E54: =[1]insulation!$F47 -> 0
A55: =[1]insulation!$A48 -> 0 | B55: =[1]insulation!$B48 -> 2 7/8 X 1/2 | D55: 12 | E55: =[1]insulation!$F48 -> 0
A56: =[1]insulation!$A49 -> 0 | B56: =[1]insulation!$B49 -> 3 X 1/2 | D56: 12 | E56: =[1]insulation!$F49 -> 0
A57: =[1]insulation!$A50 -> 0 | B57: =[1]insulation!$B50 -> 3 1/8 X 1/2 | D57: 12 | E57: =[1]insulation!$F50 -> 0
A58: =[1]insulation!$A51 -> 0 | B58: =[1]insulation!$B51 -> 3 1/2 X 1/2 | D58: 12 | E58: =[1]insulation!$F51 -> 0
A59: =[1]insulation!$A52 -> 0 | B59: =[1]insulation!$B52 -> 4 x 1/2 | D59: 12 | E59: =[1]insulation!$F52 -> 0
A60: =[1]insulation!$A53 -> 0 | B60: =[1]insulation!$B53 -> 4 1/8 x 1/2 | D60: 12 | E60: =[1]insulation!$F53 -> 0
A61: =[1]insulation!$A54 -> 0 | B61: =[1]insulation!$B54 -> 4 1/4 x 1/2 | D61: 12 | E61: =[1]insulation!$F54 -> 0
A62: =[1]insulation!$A55 -> 0 | B62: =[1]insulation!$B55 -> 4 1/2 x 1/2 | D62: 9 | E62: =[1]insulation!$F55 -> 0
A63: =[1]insulation!$A56 -> 0 | B63: =[1]insulation!$B56 -> 5 x 1/2 | D63: 9 | E63: =[1]insulation!$F56 -> 0
... A65: =[1]insulation!$A58 -> 0 | B65: =[1]insulation!$B58 -> 5 1/4 x 1/2 | D65: 8 | E65: =[1]insulation!$F58 -> 0
A66: =[1]insulation!$A59 -> 0 | B66: =[1]insulation!$B59 -> 5 1/2 x 1/2 | E66: =[1]insulation!$F59 -> 0
A67: =[1]insulation!$A60 -> 0 | B67: =[1]insulation!$B60 -> 6 x 1/2 | E67: =[1]insulation!$F60 -> 0
A68: =[1]insulation!$A61 -> 0 | B68: =[1]insulation!$B61 -> 6 1/4 x 1/2 | E68: =[1]insulation!$F61 -> 0
A69: =[1]insulation!$A62 -> IT015.18 | B69: =[1]insulation!$B62 -> 6 1/2 x 1/2 | E69: =[1]insulation!$F62 -> 0
A70: =[1]insulation!$A63 -> 0 | B70: =[1]insulation!$B63 -> 1/4 X 3/4 | C70: 3/4" THICKNESS FOR COLDROOM USAGE -10C ~ -23C | D70: 49 | E70: =[1]insulation!$F63 -> 6.1428571
A71: =[1]insulation!$A64 -> 0 | B71: =[1]insulation!$B64 -> 3/8 X 3/4 | D71: 42 | E71: =[1]insulation!$F64 -> 6.9285714
A72: =[1]insulation!$A65 -> 0 | B72: =[1]insulation!$B65 -> 1/2 X 3/4 | D72: 36 | E72: =[1]insulation!$F65 -> 7.7857143
A73: =[1]insulation!$A66 -> IT016 | B73: =[1]insulation!$B66 -> 5/8 X 3/4 | D73: 36 | E73: =[1]insulation!$F66 -> 8.7142857 | F73: =[1]insulation!M66 -> ITY013 | G73: =[1]insulation!N66 -> 5/8 X 3/4 | H73: =[1]insulation!$R66 -> 436 | I73: =[1]insulation!$T66 -> 7.3601948
A74: =[1]insulation!$A67 -> IT017 | B74: =[1]insulation!$B67 -> 3/4 X 3/4 | D74: 30 | E74: =[1]insulation!$F67 -> 8.7857143 | F74: =[1]insulation!M67 -> ITY014 | G74: =[1]insulation!N67 -> 3/4 X 3/4 | H74: =[1]insulation!$R67 -> 151 | I74: =[1]insulation!$T67 -> 7.6970869
A75: =[1]insulation!$A68 -> IT018 | B75: =[1]insulation!$B68 -> 7/8 X 3/4 | D75: 25 | E75: =[1]insulation!$F68 -> 9.8571429 | F75: =[1]insulation!M68 -> ITY015 | G75: =[1]insulation!N68 -> 7/8 X 3/4 | H75: =[1]insulation!$R68 -> 410 | I75: =[1]insulation!$T68 -> 8.3175971
A76: =[1]insulation!$A69 -> 0 | B76: =[1]insulation!$B69 -> 1 X 3/4 | D76: 20 | E76: =[1]insulation!$F69 -> 11.357143
A77: =[1]insulation!$A70 -> IT019 | B77: =[1]insulation!$B70 -> 1 1/8 X 3/4 | D77: 20 | E77: =[1]insulation!$F70 -> 11.857143 | F77: =[1]insulation!M70 -> ITY016 | G77: =[1]insulation!N70 -> 1 1/8 X 3/4 | H77: =[1]insulation!$R70 -> 321 | I77: =[1]insulation!$T70 -> 10.269729
A78: =[1]insulation!$A71 -> 0 | B78: =[1]insulation!$B71 -> 1 1/4 X 3/4 | D78: 20 | E78: =[1]insulation!$F71 -> 13.942857
A79: =[1]insulation!$A72 -> IT020 | B79: =[1]insulation!$B72 -> 1 3/8 X 3/4 | D79: 16 | E79: =[1]insulation!$F72 -> 14.642857 | F79: =[1]insulation!M72 -> ITY017 | G79: =[1]insulation!N72 -> 1 3/8 X 3/4 | H79: =[1]insulation!$R72 -> 86 | I79: =[1]insulation!$T72 -> 12.505811
A80: =[1]insulation!$A73 -> 0 | B80: =[1]insulation!$B73 -> 1 1/2 X 3/4 | D80: 16 | E80: =[1]insulation!$F73 -> 0
A81: =[1]insulation!$A74 -> IT021 | B81: =[1]insulation!$B74 -> 1 5/8 X 3/4 | D81: 16 | E81: =[1]insulation!$F74 -> 16.642857
A82: =[1]insulation!$A75 -> 0 | B82: =[1]insulation!$B75 -> 1 7/8 X 3/4 | D82: 15 | E82: =[1]insulation!$F75 -> 19.142857
A83: =[1]insulation!$A76 -> 0 | B83: =[1]insulation!$B76 -> 2 X 3/4 | D83: 12 | E83: =[1]insulation!$F76 -> 21.571429
A84: =[1]insulation!$A77 -> IT022 | B84: =[1]insulation!$B77 -> 2 1/8 X 3/4 | D84: 12 | E84: =[1]insulation!$F77 -> 21.071429 | F84: =[1]insulation!M77 -> ITY019 | G84: =[1]insulation!N77 -> 2 1/8 X 3/4 | H84: =[1]insulation!$R77 -> 448 | I84: =[1]insulation!$T77 -> 18.723186
A85: =[1]insulation!$A78 -> 0 | B85: =[1]insulation!$B78 -> 2 3/8 X 3/4 | D85: 12 | E85: =[1]insulation!$F78 -> 23.571429
A86: =[1]insulation!$A79 -> 0 | B86: =[1]insulation!$B79 -> 2 1/2 x 3/4 | E86: =[1]insulation!$F79 -> 0
A87: =[1]insulation!$A80 -> 0 | B87: =[1]insulation!$B80 -> 2 5/8 X 3/4 | D87: 9 | E87: =[1]insulation!$F80 -> 25.5
A88: =[1]insulation!$A81 -> 0 | B88: =[1]insulation!$B81 -> 2 7/8 X 3/4 | D88: 9 | E88: =[1]insulation!$F81 -> 27.4
A89: =[1]insulation!$A82 -> 0 | B89: =[1]insulation!$B82 -> 3 X 3/4 | D89: 8 | E89: =[1]insulation!$F82 -> 30.714286
A90: =[1]insulation!$A83 -> IT022.1 | B90: =[1]insulation!$B83 -> 3 1/8 X 3/4 | D90: 8 | E90: =[1]insulation!$F83 -> 31.571429
A91: =[1]insulation!$A84 -> 0 | B91: =[1]insulation!$B84 -> 3 1/2 X 3/4 | D91: 8 | E91: =[1]insulation!$F84 -> 0
A92: =[1]insulation!$A85 -> 0 | B92: =[1]insulation!$B85 -> 4 x 3/4 | D92: 6 | E92: =[1]insulation!$F85 -> 0
A93: =[1]insulation!$A86 -> 0 | B93: =[1]insulation!$B86 -> 4 1/8 x 3/4 | D93: 6 | E93: =[1]insulation!$F86 -> 0
A94: =[1]insulation!$A87 -> 0 | B94: =[1]insulation!$B87 -> 4 1/4 x 3/4 | D94: 6 | E94: =[1]insulation!$F87 -> 0
A95: =[1]insulation!$A88 -> 0 | B95: =[1]insulation!$B88 -> 4 1/2 x 3/4 | D95: 6 | E95: =[1]insulation!$F88 -> 0
A96: =[1]insulation!$A89 -> 0 | B96: =[1]insulation!$B89 -> 5 x 3/4 | D96: 5 | E96: =[1]insulation!$F89 -> 0
A97: =[1]insulation!$A90 -> 0 | B97: =[1]insulation!$B90 -> 5 1/8 x 3/4 | D97: 5 | E97: =[1]insulation!$F90 -> 0
A98: =[1]insulation!$A91 -> 0 | B98: =[1]insulation!$B91 -> 5 1/4 x 3/4 | D98: 5 | E98: =[1]insulation!$F91 -> 0
... A100: =[1]insulation!$A93 -> 0 | B100: =[1]insulation!$B93 -> 6 x 3/4 | D100: 4 | E100: =[1]insulation!$F93 -> 0
A101: =[1]insulation!$A94 -> 0 | B101: =[1]insulation!$B94 -> 6 1/4 x 3/4 | E101: =[1]insulation!$F94 -> 0
A102: =[1]insulation!$A95 -> 0 | B102: =[1]insulation!$B95 -> 6 1/2 x 3/4 | D102: 4 | E102: =[1]insulation!$F95 -> 0
A103: =[1]insulation!$A96 -> 0 | B103: =[1]insulation!$B96 -> 1/4 X 1 | C103: 1" THICKNESS FOR COLDROOM USAGE -15C ~ -30C | D103: 30 | E103: =[1]insulation!$F96 -> 9.2857143
...

Sheet GAS
A2: =insulation!A2 -> DATE :28.9.26 | C2: =[1]GAS!$G$3 -> Cash or account customers-10%~13%
A3: ITEM CODE | B3: DESCRIPTION | C3: =[2]GAS!$I7 -> (RM)
A4: =[1]GAS!$A9 -> GAS001 | B4: =[1]GAS!$B9 -> R-22 X 13.6KGS REF GAS | C4: =[1]GAS!G9 -> 242.66667
A5: =[1]GAS!$A10 -> GAS001.1 | B5: =[1]GAS!$B10 -> R-507 X 11.3KGS REF GAS | C5: =[1]GAS!G10 -> 402.66667
A6: =[1]GAS!$A11 -> GAS001.2 | B6: =[1]GAS!$B11 -> R-404 X 10.9KGS REF GAS | C6: =[1]GAS!G11 -> 396
A7: =[1]GAS!$A12 -> GAS001.3 | B7: =[1]GAS!$B12 -> R-134A X 13.6KGS REF GAS | C7: =[1]GAS!G12 -> 660.75949
A8: =[1]GAS!$A13 -> GAS001.4 | B8: =[1]GAS!$B13 -> R-410a X 10KGS REF GAS | C8: =[1]GAS!G13 -> 529.33333
A9: =[1]GAS!$A14 -> GAS001.5 | B9: =[1]GAS!$B14 -> R-290 X 5KGS GAS | C9: =[1]GAS!G14 -> 185.23256
A10: =[1]GAS!$A15 -> GAS001.6 | B10: =[1]GAS!$B15 -> R-407c X 11.3KGS REF GAS | C10: =[1]GAS!G15 -> 589.33333
A11: =[1]GAS!$A16 -> GAS002 | B11: =[1]GAS!$B16 -> R-600A X 6.5KGS GAS | C11: =[1]GAS!G16 -> 185.13313
A12: =[1]GAS!$A17 -> GAS003 | B12: =[1]GAS!$B17 -> R-32 X 9.5KGS GAS | C12: =[1]GAS!G17 -> 516

Sheet Dixell & Thermometer
A2: =Suniso!A2 -> DATE :28.9.26
A3: ='[2]Dixell & thermometer'!A7 -> ITEM CODE | B3: ='[2]Dixell & thermometer'!B7 -> Model No. | C3: ='[2]Dixell & thermometer'!C7 -> Function | D3: ='[2]Dixell & thermometer'!$H7 -> (RM) | E3: PICTURE
A4: ='[1]Dixell & thermometer'!A8 -> DOT001 | B4: ='[1]Dixell & thermometer'!B8 -> MX32S-16P00-F (chiller 1hp-2hp) | C4: ='[1]Dixell & thermometer'!C8 -> Smart Cellar Controller (Comp 16amp cut in/out only with defrost timer) | D4: ='[1]Dixell & thermometer'!J8 -> ~
A5: ='[1]Dixell & thermometer'!A9 -> DOT002 | B5: ='[1]Dixell & thermometer'!B9 -> MX32SD-30P00 (chiller with defrost heater 1hp-3.5hp) | C5: ='[1]Dixell & thermometer'!C9 -> Smart Cellar Controller (Comp 30amp cut in/out with defrost 16amp) | D5: ='[1]Dixell & thermometer'!J9 -> 938.55368
A6: ='[1]Dixell & thermometer'!A10 -> DOT003 | B6: ='[1]Dixell & thermometer'!B10 -> MX32SR-16P00 (frezzer 1hp-2hp) | C6: ='[1]Dixell & thermometer'!C10 -> Smart Cellar Controller (Comp 16amp cut in/out with defrost 16amp,evaporator fan 10a and 2 auxillary 10a & 16a) | D6: ='[1]Dixell & thermometer'!J10 -> 1043.3221
A7: ='[1]Dixell & thermometer'!A11 -> DOT004 | B7: ='[1]Dixell & thermometer'!B11 -> MX32SR-30P00 (frezzer 1hp-3hp) | C7: ='[1]Dixell & thermometer'!C11 -> Smart Cellar Controller (Comp 30amp cut in/out with defrost 16amp,evaporator fan 10a and 2 auxillary 10a & 30a) | D7: ='[1]Dixell & thermometer'!J11 -> 1078.2449
A8: ='[1]Dixell & thermometer'!A12 -> DOT005 | B8: ='[1]Dixell & thermometer'!B12 -> DPR-TH01-ET*3M TEMP PROBE | C8: ='[1]Dixell & thermometer'!C12 -> Temp sensor probe | D8: ='[1]Dixell & thermometer'!J12 -> 9.499
A9: ='[1]Dixell & thermometer'!A13 -> DIX001 | B9: ='[1]Dixell & thermometer'!B13 -> XR02CX | C9: ='[1]Dixell & thermometer'!C13 -> Setting range： -40℃ ~ 110℃ Setting、Sensing accuracy： 1℃ ,Compressor 20(8)A/250VAC, Compressor Sensor：One NTC sensor, LED :RED ,chiller | D9: ='[1]Dixell & thermometer'!J13 -> 122.10012
A10: ='[1]Dixell & thermometer'!A14 -> DIX002 | B10: ='[1]Dixell & thermometer'!B14 -> XR06CX | C10: ='[1]Dixell & thermometer'!C14 -> Setting range： -40℃ ~ 110℃ Setting、Sensing accuracy： 1℃ ,Compressor 20(8)A/250VAC, Compressor Sensor：TWO NTC sensor, LED :RED | D10: ='[1]Dixell & thermometer'!J14 -> 169.87843
A11: ='[1]Dixell & thermometer'!A15 -> DIX002.1 | B11: ='[1]Dixell & thermometer'!B15 -> XR30CX-5R1C1 DIXELL DIGITAL CONTROLLER | C11: ='[1]Dixell & thermometer'!C15 -> Setting range： -40℃ ~ 110℃ Setting、Sensing accuracy： 1℃ ,Compressor 20(8)A/250VAC, Compressor Sensor：One NTC sensor, LED :RED ,chiller | D11: ='[1]Dixell & thermometer'!J15 -> 231.13642
A12: ='[1]Dixell & thermometer'!A17 -> DIX003 | B12: ='[1]Dixell & thermometer'!B17 -> PJEZS0H010 CAREL CONTROLLER CHILLER | C12: ='[1]Dixell & thermometer'!C17 -> Setting range： -40℃ ~ 110℃ Setting、Sensing accuracy： 1℃ ,Compressor 20(8)A/250VAC, Compressor Sensor：One NTC sensor, LED :RED ,chiller | D12: ='[1]Dixell & thermometer'!J17 -> 104.92786
A13: ='[1]Dixell & thermometer'!A18 -> DIX004 | B13: ='[1]Dixell & thermometer'!B18 -> PJEZC0H010 CAREL CONTROLLER FREZZER | C13: ='[1]Dixell & thermometer'!C18 -> Setting range： -40℃ ~ 110℃ Setting、Sensing accuracy： 1℃ ,Compressor 20(8)A/250VAC, Compressor Sensor：TWO NTC sensor, LED :RED | D13: ='[1]Dixell & thermometer'!J18 -> 160.53199
A14: ='[1]Dixell & thermometer'!A19 -> DIX005 | B14: ='[1]Dixell & thermometer'!B19 -> NTC015HP00 CAREL SENSOR 1.5M | C14: ='[1]Dixell & thermometer'!C19 -> 0 | D14: ='[1]Dixell & thermometer'!J19 -> 13.511052
A15: ='[1]Dixell & thermometer'!A20 -> 0 | B15: ='[1]Dixell & thermometer'!B20 -> XT121C-5C1TU | C15: ='[1]Dixell & thermometer'!C20 -> 2 stage digital controller (230v) c/w 1.5m ntc probe (FOR WATER CHILLER) | D15: ='[1]Dixell & thermometer'!J20 -> ~
A16: ='[1]Dixell & thermometer'!A21 -> 0 | B16: ='[1]Dixell & thermometer'!B21 -> XT151D-5CITU | C16: ='[1]Dixell & thermometer'!C21 -> 3 stage digital controller (230v) c/w 1.5m ntc probe (FOR WATER CHILLER) | D16: ='[1]Dixell & thermometer'!J21 -> ~
A17: ='[1]Dixell & thermometer'!A22 -> 0 | B17: ='[1]Dixell & thermometer'!B22 -> XT160D-5C0TU | C17: ='[1]Dixell & thermometer'!C22 -> 4 stage digital controller (230v) c/w 1.5m ntc probe (FOR WATER CHILLER) | D17: ='[1]Dixell & thermometer'!J22 -> ~
A18: ='[1]Dixell & thermometer'!A23 -> DIX007 | B18: ='[1]Dixell & thermometer'!B23 -> XR64CX-5N1C3 | C18: ='[1]Dixell & thermometer'!C23 -> 230vac , 3pcs 1.5m ntc probe ,to control (1) compressor ,(1) fan ,(2) defrost. | D18: ='[1]Dixell & thermometer'!J23 -> 394.755
A19: ='[1]Dixell & thermometer'!A24 -> 0 | B19: ='[1]Dixell & thermometer'!B24 -> XR72CX-0N0C8 | C19: ='[1]Dixell & thermometer'!C24 -> 12vac, 2pcs 1.5m ntc probe ,to control (2) compressor ,(1) fan ,(1) defrost. | D19: ='[1]Dixell & thermometer'!J24 -> ~
A20: ='[1]Dixell & thermometer'!A25 -> 0 | B20: ='[1]Dixell & thermometer'!B25 -> XLR470-500C1 | C20: ='[1]Dixell & thermometer'!C25 -> 230vac , 4pcs 1.5m ntc probe ,to control (2) compressor ,(2) fan ,(2) defrost. | D20: ='[1]Dixell & thermometer'!J25 -> ~
A21: ='[1]Dixell & thermometer'!A26 -> THE001 | B21: ='[1]Dixell & thermometer'!B26 -> T-01B-1 SQUARE TYPE | C21: ='[1]Dixell & thermometer'!C26 -> Range -40~+40C,capillary length 1.5M ANALOG THERMOMETER | D21: ='[1]Dixell & thermometer'!J26 -> 19.903382
A22: ='[1]Dixell & thermometer'!A27 -> THE002 | B22: ='[1]Dixell & thermometer'!B27 -> RT-01A ROUND TYPE | C22: ='[1]Dixell & thermometer'!C27 -> Range -40~+40C,capillary length 1.5M,plastic case,size 4" ANALOG THERMOMETER | D22: ='[1]Dixell & thermometer'!J27 -> ~
A23: ='[1]Dixell & thermometer'!A28 -> THE002.1 | B23: ='[1]Dixell & thermometer'!B28 -> 2460 THERMOMETER (100mm round) | C23: ='[1]Dixell & thermometer'!C28 -> Range -40~+40C,capillary length 1.5M,plastic case,size 4" ANALOG THERMOMETER | D23: ='[1]Dixell & thermometer'!J28 -> 66.391774
A24: ='[1]Dixell & thermometer'!A29 -> THE003 | B24: ='[1]Dixell & thermometer'!B29 -> W-9000T Digital Thermometer (9 3/4" x 5 5/8") on celcius | D24: ='[1]Dixell & thermometer'!J29 -> 151.66034
A25: ='[1]Dixell & thermometer'!A30 -> THE004 | B25: ='[1]Dixell & thermometer'!B30 -> W-9002TC Digital Thermometer/Humidity (9 3/4" x 5 5/8") on celcius | D25: ='[1]Dixell & thermometer'!J30 -> 261.95876
A26: ='[1]Dixell & thermometer'!A31 -> THE005 | B26: ='[1]Dixell & thermometer'!B31 -> THERMOMETER industrial 20mm -30+50C | D26: ='[1]Dixell & thermometer'!J31 -> 65.217391
A27: ='[1]Dixell & thermometer'!A32 -> THE006 | B27: ='[1]Dixell & thermometer'!B32 -> THERMOMETER industrial 40mm -30+50C | D27: ='[1]Dixell & thermometer'!J32 -> 65.217391
A28: ='[1]Dixell & thermometer'!A33 -> THE007 | B28: ='[1]Dixell & thermometer'!B33 -> THERMOMETER industrial 63mm -30+50C | D28: ='[1]Dixell & thermometer'!J33 -> 67.028986
A29: ='[1]Dixell & thermometer'!A34 -> THE008 | B29: ='[1]Dixell & thermometer'!B34 -> THERMOMETER industrial 80mm -30+50C | D29: ='[1]Dixell & thermometer'!J34 -> 69.755003
A30: ='[1]Dixell & thermometer'!A35 -> THE009 | B30: ='[1]Dixell & thermometer'!B35 -> THERMO MANOMETER l 63mm connection 80mm dial 0+120C , 0-6bar | D30: ='[1]Dixell & thermometer'!J35 -> 56.834328
A31: ='[1]Dixell & thermometer'!A36 -> THE010 | B31: ='[1]Dixell & thermometer'!B36 -> ELECTRIS PRESSURE GAUGE 100mm | D31: ='[1]Dixell & thermometer'!J36 -> 497.30059
A32: ='[1]Dixell & thermometer'!A37 -> THE011 | B32: ='[1]Dixell & thermometer'!B37 -> PT560 PRESSURE TRANSMITTER 24VDC (4-20mA) | D32: ='[1]Dixell & thermometer'!J37 -> 303.48959
A33: ='[1]Dixell & thermometer'!A38 -> SF001 | B33: ='[1]Dixell & thermometer'!B38 -> SF-121L | C33: ='[1]Dixell & thermometer'!C38 -> Chiller (cut in/out ) | D33: ='[1]Dixell & thermometer'!J38 -> 54.224588
A34: ='[1]Dixell & thermometer'!A39 -> DIX010 | B34: ='[1]Dixell & thermometer'!B39 -> YK-282 | C34: ='[1]Dixell & thermometer'!C39 -> CHILLER | D34: ='[1]Dixell & thermometer'!J39 -> 73.942621
A35: ='[1]Dixell & thermometer'!A40 -> DIX011 | B35: ='[1]Dixell & thermometer'!B40 -> YK-283 | C35: ='[1]Dixell & thermometer'!C40 -> FREEZER | D35: ='[1]Dixell & thermometer'!J40 -> 96.618357
A36: ='[1]Dixell & thermometer'!A41 -> DIX012 | B36: ='[1]Dixell & thermometer'!B41 -> YK-301B | C36: ='[1]Dixell & thermometer'!C41 -> CHILLER (C/W ALARM) | D36: ='[1]Dixell & thermometer'!J41 -> 93.660653
A37: ='[1]Dixell & thermometer'!A42 -> DIX013 | B37: ='[1]Dixell & thermometer'!B42 -> YK-302 | C37: ='[1]Dixell & thermometer'!C42 -> CHILLER + HUMIDIFIER (C/W ALARM) | D37: ='[1]Dixell & thermometer'!J42 -> 113.37868
A38: ='[1]Dixell & thermometer'!A43 -> DIX014 | B38: ='[1]Dixell & thermometer'!B43 -> YK202 | C38: ='[1]Dixell & thermometer'!C43 -> CHILLER + LIGHT | D38: ='[1]Dixell & thermometer'!J43 -> 64.083604
A39: ='[1]Dixell & thermometer'!A44 -> DIX015 | B39: ='[1]Dixell & thermometer'!B44 -> YK-205 | C39: ='[1]Dixell & thermometer'!C44 -> FREEZER + LIGHT | D39: ='[1]Dixell & thermometer'!J44 -> 93.660653
A40: ='[1]Dixell & thermometer'!A45 -> DIX016 | B40: ='[1]Dixell & thermometer'!B45 -> YK-252 | C40: ='[1]Dixell & thermometer'!C45 -> CHILLER + 1 LIGHT | D40: ='[1]Dixell & thermometer'!J45 -> 64.083604
A41: ='[1]Dixell & thermometer'!A46 -> DIX017 | B41: ='[1]Dixell & thermometer'!B46 -> YK-253 | C41: ='[1]Dixell & thermometer'!C46 -> CHILLER + 2 LIGHT | D41: ='[1]Dixell & thermometer'!J46 -> 76.900325
A42: ='[1]Dixell & thermometer'!A47 -> DIX018 | B42: ='[1]Dixell & thermometer'!B47 -> YK-604 | C42: ='[1]Dixell & thermometer'!C47 -> CHILLER + LIGHT | D42: ='[1]Dixell & thermometer'!J47 -> 73.942621
A43: ='[1]Dixell & thermometer'!A48 -> DIX019 | B43: ='[1]Dixell & thermometer'!B48 -> YK-605 | C43: ='[1]Dixell & thermometer'!C48 -> FREEZER | D43: ='[1]Dixell & thermometer'!J48 -> 88.731145
A44: ='[1]Dixell & thermometer'!A49 -> DIX020 | B44: ='[1]Dixell & thermometer'!B49 -> YK-615 | C44: ='[1]Dixell & thermometer'!C49 -> FREEZER + DOOR TRIP | D44: ='[1]Dixell & thermometer'!J49 -> 93.660653
... A79: ='[1]Dixell & thermometer'!A84 -> DIX055 | B79: ='[1]Dixell & thermometer'!B84 -> MX32SR-30P00 | C79: ='[1]Dixell & thermometer'!C84 -> SMART CELLAR CONTROLLER | D79: ='[1]Dixell & thermometer'!J84 -> 557.22222

Sheet Elitech
A2: ='Dixell & Thermometer'!A2 -> DATE :28.9.26
A3: ITEM CODE | B3: Model No. | C3: Function | D3: Main selling Points | E3: Bench product | F3: Application | G3: =[2]Elitech!$L$7 -> (RM) | H3: Wiring diagram | I3: Picture
A4: =[1]Elitech!A8 -> ELI001.1 | B4: =[1]Elitech!B8 -> STC-1000HX | C4: =[1]Elitech!$C8 -> Refrigeration and heating（set by program） | G4: =[1]Elitech!L8 -> 53.305275
A5: =[1]Elitech!A9 -> ELI003 | B5: =[1]Elitech!B9 -> STC-8080A+ | C5: =[1]Elitech!$C9 -> Refrigeration, defrost w/o alarm | D5: Refrigeration,defrost,temperature upper/lower limit setting, ease of operation | E5: w/o alarm | F5: cold cabinet, cold storage, kitchen refrigerator/freezer | G5: =[1]Elitech!L9 -> 71.757952
A6: =[1]Elitech!A10 -> ELI003.1 | B6: =[1]Elitech!B10 -> STC-8080AX | C6: =[1]Elitech!$C10 -> 0 | G6: =[1]Elitech!L10 -> 61.416947
A7: =[1]Elitech!A12 -> ELI004 | B7: =[1]Elitech!B12 -> STC-8080A (12V) | C7: =[1]Elitech!$C12 -> Refrigeration, defrost | D7: Refrigeration,defrost,temperature upper/lower limit setting, ease of operation | E7: w/o alarm | F7: cold cabinet, cold storage, kitchen refrigerator/freezer | G7: =[1]Elitech!L12 -> 86.823864
A8: =[1]Elitech!A13 -> ELI006 | B8: =[1]Elitech!B13 -> TPM-910+ | C8: =[1]Elitech!$C13 -> LED display | D8: Waterproof level:IP65 | F8: Display cases,cold cabinet,etc | G8: =[1]Elitech!L13 -> 35.198864
A9: =[1]Elitech!A14 -> ELI007 | B9: =[1]Elitech!B14 -> TPM-900+ | C9: =[1]Elitech!$C14 -> LED display | D9: Smart and elegant appearance | F9: Display cases,cold cabinet,etc | G9: =[1]Elitech!L14 -> 35.198864
A10: =[1]Elitech!A15 -> ELI008 | B10: =[1]Elitech!B15 -> TPM-10F | C10: =[1]Elitech!$C15 -> LED display | D10: plug-in connection,with long life time,reliable performance | F10: beverage cabinet,display cases,etc | G10: =[1]Elitech!L15 -> 9.4645833
A11: =[1]Elitech!A16 -> ELI009 | B11: =[1]Elitech!B16 -> TPM-30 | C11: =[1]Elitech!$C16 -> LED display | D11: Pre-positive battery installation,ease of replacement | F11: beverage cabinet,display cases,etc | G11: =[1]Elitech!L16 -> 19.554924
A12: =[1]Elitech!A17 -> ELI010 | B12: =[1]Elitech!B17 -> ST-2 | C12: =[1]Elitech!$C17 -> Thermometer | D12: dual way temperature measuring,big LCD display | F12: water temperature measuring for aquarium | G12: =[1]Elitech!L17 -> 14.861742
A13: =[1]Elitech!A18 -> ELI17 | B13: =[1]Elitech!B18 -> DS-1 | C13: =[1]Elitech!$C18 -> Thermometer | D13: dual way temperature measuring,easy placement,temperature switch between ℃ and ℉ | F13: home,office,etc | G13: =[1]Elitech!L18 -> 12.515152
A14: =[1]Elitech!A19 -> ELI011 | B14: =[1]Elitech!B19 -> WT-1B | C14: =[1]Elitech!$C19 -> plug in thermometer | D14: temperature range: -50℃--+300℃, switch between ℃ and ℉ | F14: foodstuff and chemical industry | G14: =[1]Elitech!L19 -> 19.946023
A15: =[1]Elitech!A20 -> ELI012 | B15: =[1]Elitech!B20 -> BT-2 | C15: =[1]Elitech!$C20 -> thermometer and hygrometer | D15: dual way temperature and one way humidity,big LCD display,with elegant appearance | F15: home,office,etc | G15: =[1]Elitech!L20 -> 54.753788
A16: =[1]Elitech!A21 -> ELI013 | B16: =[1]Elitech!B21 -> BT-3 | C16: =[1]Elitech!$C21 -> thermometer and hygrometer | D16: dual way temperature and one way humidity,big LCD display,with elegant appearance | F16: home,office,etc | G16: =[1]Elitech!L21 -> 62.575758
A17: =[1]Elitech!A22 -> ELI014 | B17: =[1]Elitech!B22 -> DT-3 | C17: =[1]Elitech!$C22 -> thermometer and hygrometer | D17: display dual way temperature and one way humidity | F17: home,office,etc | G17: =[1]Elitech!L22 -> 46.931818
A18: =[1]Elitech!A23 -> ELI26 | B18: =[1]Elitech!B23 -> LT-2 | C18: =[1]Elitech!$C23 -> thermometer and hygrometer | D18: display one way temperature and one way humidity,with elegant appearance | F18: home,office,etc | G18: =[1]Elitech!L23 -> 27.376894
A19: =[1]Elitech!A24 -> ELI36.1 | B19: =[1]Elitech!B24 -> DR-210A New | C19: =[1]Elitech!$C24 -> Two ways temperature and humidity data recorder, Thermal or stylus printer optional, Big recording capacity, Big LCD | D19: Temperature measuring range: -50℃~+120℃ Sensor: NTC | E19: DR-400A New | F19: widely used in industries of foodstuff, medicine, cold-chain transportation and other industries accordant with HACCP system certification. Lab, | G19: =[1]Elitech!L24 -> 871.59091
A20: =[1]Elitech!A25 -> 0 | B20: =[1]Elitech!B25 -> MTC-6020 New | C20: =[1]Elitech!$C25 -> Easy operation Water pump Fan Double screen Alarm | D20: Measuring range:-50℃~+50℃ Sensor:2 NTC | E20: MTC-6020 | F20: mainly suitable for cold storage control | G20: =[1]Elitech!L25 -> 103.92045
A21: =[1]Elitech!A26 -> ELI015 | B21: =[1]Elitech!B26 -> DHC-100+ New | C21: =[1]Elitech!$C26 -> Humidification Dehumidification Humidity sensor Pass word lock High measuring accuracy | D21: Measuring range: 0%RH~99%RH Controlling range: 10%RH~99%RH | E21: DHC-100+ | F21: Widely used in humidifier, dehumidifier, air humidity adjuster, humidity control equipment | G21: =[1]Elitech!L26 -> 155.2795
A22: =[1]Elitech!A27 -> ELI016 | B22: =[1]Elitech!B27 -> ETC-902 | C22: =[1]Elitech!$C27 -> Temperature measuring and display ℃/ ℉optional Refrigeration/heating optional Front panel waterproof level IP 65 Password lock Copy card （The function is the same as Eliwell IC902) | D22: Measuring range：-50℃～99℃ (-58℉~210℉) NCT sensor 1pc | E22: ETC-902 | F22: Suitable for display cabinet, freezing cabinet etc. | G22: =[1]Elitech!L27 -> 70.581592
A23: =[1]Elitech!A28 -> ELI017 | B23: =[1]Elitech!B28 -> ETC-902 (12V) | C23: =[1]Elitech!$C28 -> Temperature measuring and display ℃/ ℉optional Refrigeration/heating optional Front panel waterproof level IP 65 Password lock Copy card （The function is the same as Eliwell IC902) | D23: Measuring range：-50℃～99℃ (-58℉~210℉) NCT sensor 1pc | E23: ETC-903 | F23: Suitable for display cabinet, freezing cabinet etc. | G23: =[1]Elitech!L28 -> 67.045455
A24: =[1]Elitech!A29 -> ELI018 | B24: =[1]Elitech!B29 -> ETC-961 | C24: =[1]Elitech!$C29 -> Temperature measuring and display ℃/ ℉optional Refrigeration/heating optional Front panel waterproof level IP 65 Password lock Copy card （The function is the same as Eliwell IC961) | D24: Measuring range：-50℃～99℃ (-58℉~210℉) NCT sensor 1pc | F24: Suitable for display cabinet, freezing cabinet etc. | G24: =[1]Elitech!L29 -> 70.397727
A25: =[1]Elitech!A30 -> ELI019 | B25: =[1]Elitech!B30 -> ETC-974A | C25: =[1]Elitech!$C30 -> Temperature measuring and display ℃/ ℉optional NTC/PTC Optional Front panel waterproof level IP 65 Password lock Copy card （the function is the same as EliwelI ID974) | D25: Measuring range： NTC:–50～110℃ (-58...230℉) PTC:–55～140℃ (-67...284℉) NCT sensor： 2pc | E25: ETC-974 | F25: Suitable for display cabinet, freezing cabinet etc. | G25: =[1]Elitech!L30 -> 78.219697
A26: =[1]Elitech!A31 -> ELI020 | B26: =[1]Elitech!B31 -> ETC-974 (12V) | C26: =[1]Elitech!$C31 -> Temperature measuring and display ℃/ ℉optional NTC/PTC Optional Front panel waterproof level IP 65 Password lock Copy card （the function is the same as EliwelI ID974) | D26: Measuring range： NTC:–50～110℃ (-58...230℉) PTC:–55～140℃ (-67...284℉) NCT sensor： 2pc | E26: ETC-974 | F26: Suitable for display cabinet, freezing cabinet etc. | G26: =[1]Elitech!L31 -> 95.204545
A27: =[1]Elitech!A32 -> ELI021 | B27: =[1]Elitech!B32 -> SENSOR DIGITAL THERMOSTAT | C27: =[1]Elitech!$C32 -> 0 | G27: =[1]Elitech!L32 -> 9.8130165
A28: =[1]Elitech!A33 -> ELI021.1 | B28: =[1]Elitech!B33 -> ECB-1000P | C28: =[1]Elitech!$C33 -> CHILLER 1ph | G28: =[1]Elitech!L33 -> 367.54735
A29: =[1]Elitech!A34 -> ELI021.2 | B29: =[1]Elitech!B34 -> ECB-1000PLUS | C29: =[1]Elitech!$C34 -> CHILLER/FREEZER C/W comp,defrost,fan,light,alarm with high power | G29: =[1]Elitech!L34 -> 469.31818
A30: =[1]Elitech!A35 -> ELI021.3 | B30: =[1]Elitech!B35 -> ECB-1000PLUS wifi | C30: =[1]Elitech!$C35 -> CHILLER/FREEZER C/W comp,defrost,fan,light,alarm with high power | G30: =[1]Elitech!L35 -> 547.53788
A31: =[1]Elitech!A37 -> ELI022 | B31: =[1]Elitech!B37 -> RCW-800TDE | C31: =[1]Elitech!$C37 -> Smart wireless data logger -dual temperature channel 20000 points,with alarm output | G31: =[1]Elitech!L37 -> 503.95257
A32: =[1]Elitech!A38 -> ELI023 | B32: =[1]Elitech!B38 -> RCW-800THE | C32: =[1]Elitech!$C38 -> Smart wireless data logger -dual temperature ,humidity channel 20000 points,with alarm output | G32: =[1]Elitech!L38 -> 494.07115
A33: =[1]Elitech!A40 -> ELI026 | B33: =[1]Elitech!B40 -> LTC-1626 | C33: =[1]Elitech!$C40 -> CHILLER DIGITAL c/w ligth on/off, power on/off (137.5mm*33mm) | G33: =[1]Elitech!L40 -> 93.863636
A34: =[1]Elitech!A41 -> ELI027 | B34: =[1]Elitech!B41 -> LTC-1815 | C34: =[1]Elitech!$C41 -> FREZZER DIGITAL c/w light on/off(137.5mm*33mm) | G34: =[1]Elitech!L41 -> 132.97348
A35: =[1]Elitech!A42 -> ELI027.1 | B35: =[1]Elitech!B42 -> LTC-100 | C35: =[1]Elitech!$C42 -> SPLIT CONTROLLER | G35: =[1]Elitech!L42 -> 305.05682
A36: =[1]Elitech!A43 -> ELI027.2 | B36: =[1]Elitech!B43 -> SF-203F DIGITAL TEMPERATURE CONTROLLER | G36: =[1]Elitech!L43 -> 90.57971
A37: =[1]Elitech!A44 -> ELI027.3 | B37: =[1]Elitech!B44 -> SF-205 DIGITAL TEMPERATURE CONTROLLER | G37: =[1]Elitech!L44 -> 141.16318
A38: =[1]Elitech!A45 -> ELI027.4 | B38: =[1]Elitech!B45 -> SF-128SW DIGITAL TEMPERATURE CONTROLLER | G38: =[1]Elitech!L45 -> 247.03557
A39: =[1]Elitech!A46 -> ELI027.5 | B39: =[1]Elitech!B46 -> SF-487 DIGITAL TEMPERATURE CONTROLLER | G39: =[1]Elitech!L46 -> 447.01675
A40: =[1]Elitech!A47 -> ELI027.6 | B40: =[1]Elitech!B47 -> SF-486 DIGITAL TEMPERATURE CONTROLLER | G40: =[1]Elitech!L47 -> 823.45191
A41: =[1]Elitech!A48 -> ELI027.7 | B41: =[1]Elitech!B48 -> SF-415P DIGITAL TEMPERATURE CONTROLLER | G41: =[1]Elitech!L48 -> 164.69038
A42: =[1]Elitech!A49 -> ELI028 | B42: =[1]Elitech!B49 -> ECS-02CX | C42: =[1]Elitech!$C49 -> replace dixell XR-02 | G42: =[1]Elitech!L49 -> 64.765909
A43: =[1]Elitech!A50 -> ELI028.1 | B43: =[1]Elitech!B50 -> ECS-06CX | C43: =[1]Elitech!$C50 -> replace dixell XR-06 | G43: =[1]Elitech!L50 -> 86.041667
A44: =[1]Elitech!A51 -> ELI029 | B44: =[1]Elitech!B51 -> ECS-974NEO | C44: =[1]Elitech!$C51 -> 0 | G44: =[1]Elitech!L51 -> 66.486742
A45: =[1]Elitech!A52 -> ELI030 | B45: =[1]Elitech!B52 -> LogEt 8 PTE Data Logger | C45: =[1]Elitech!$C52 -> Measurement: -85°C ~ 150°C Range: -121°F ~ 302°F | G45: =[1]Elitech!L52 -> 351.98864
A46: =[1]Elitech!A53 -> ELI031 | B46: =[1]Elitech!B53 -> LogEt 8 UTE Data Logger | C46: =[1]Elitech!$C53 -> Measurement: -196°C ~ 150°C Range: -320.8°F ~ 302°F | G46: =[1]Elitech!L53 -> 430.20833
A47: =[1]Elitech!A54 -> ELI032 | B47: =[1]Elitech!B54 -> ECS-2012neo | C47: =[1]Elitech!$C54 -> 50c ~ -150c | G47: =[1]Elitech!L54 -> 211.19318
A48: =[1]Elitech!A55 -> ELI033 | B48: =[1]Elitech!B55 -> ECB-LS230WIFI(5HP) | C48: =[1]Elitech!$C55 -> 0 | G48: =[1]Elitech!L55 -> 758.12937
A49: =[1]Elitech!A56 -> ELI034 | B49: =[1]Elitech!B56 -> CK-H10 Water chiller controller | C49: =[1]Elitech!$C56 -> 0 | G49: =[1]Elitech!L56 -> 274.37063
A50: =[1]Elitech!A57 -> ELI035 | B50: =[1]Elitech!B57 -> ECS-2180neo A(16.10.05.05) Digital controller | C50: =[1]Elitech!$C57 -> use for comercial refrigerator c/w lamp on/off,door switch,alarm,16amp comp,10a defrost,5a fan | G50: =[1]Elitech!L57 -> 93.863636
A51: =[1]Elitech!A58 -> ELI036 | B51: =[1]Elitech!B58 -> MS-1000S DIGITAL MANIFOLD | C51: =[1]Elitech!$C58 -> 0 | G51: =[1]Elitech!L58 -> 899.52652
A52: =[1]Elitech!A59 -> ELI036.1 | B52: =[1]Elitech!B59 -> MS-2000S DIGITAL MANIFOLD | C52: =[1]Elitech!$C59 -> 0 | G52: =[1]Elitech!L59 -> 2151.0417
A53: =[1]Elitech!A60 -> ELI036.2 | B53: =[1]Elitech!B60 -> MS-4000S DIGITAL MANIFOLD | C53: =[1]Elitech!$C60 -> 0 | G53: =[1]Elitech!L60 -> 2424.8106
... A58: =[1]Elitech!A65 -> ELI044 | B58: =[1]Elitech!B65 -> LMC-100F+ Refrigeration scale | C58: =[1]Elitech!$C65 -> 0 | G58: =[1]Elitech!L65 -> 342.29474
A59: WITH STOCK
A60: PRICE VALID : For intend order only and ex-factory at K.L price
A61: *PLEASE EMAIL OR FAX OVER THE BANK IN SLIP
A62: BANK ACC :HONG LEONG BANK BHD 36600016285 , PUBLIC BANK BHD 3119617816
A63: BENEFICIARY :WELLER AIR-COND PARTS ENTERPRICE SDN BHD
A64: Generated by computer

Sheet ICE CUBE
A2: =GAS!A2 -> DATE :28.9.26 | I2: ='[1]ICE CUBE'!$S$6 -> -15% warrantly 1year on parts only | J2: ='[1]ICE CUBE'!W6 -> 1year warrantly on all parts include site visit KLANG VALLEY | K2: ='[1]ICE CUBE'!X6 -> warrantly 2years on parts and site services KLANG VALLEY | L2: ='[1]ICE CUBE'!Y6 -> dealer -10% | M2: ='[1]ICE CUBE'!Z6 -> dealer -15% | N2: ='[1]ICE CUBE'!AA6 -> dealer -20%
A3: ='[3]ICE CUBE'!A4 -> ITEM CODE | B3: ='[3]ICE CUBE'!B4 -> MODEL | C3: ='[3]ICE CUBE'!C4 -> capacity comp hp | D3: ='[3]ICE CUBE'!D4 -> up(column) | E3: ='[3]ICE CUBE'!E4 -> straight(row) | F3: ='[3]ICE CUBE'!F4 -> QUANTITY OF ICE CUBE | G3: ='[3]ICE CUBE'!G4 -> CAPACITY KG/DAY | H3: ='[3]ICE CUBE'!H4 -> EXTERNAL DIMENSION mm (H*W*L) | I3: ='[3]ICE CUBE'!$K$4 -> ice evaporator only (RM) | J3: ='[1]ICE CUBE'!W7 -> (RM) ICE CUBE MACHINE warrantly 1year | K3: ='[1]ICE CUBE'!X7 -> (RM) ICE CUBE MACHINE warrantly 2 years | L3: ='[1]ICE CUBE'!Y7 -> 1year installment cw warrantly 18months | M3: ='[1]ICE CUBE'!Z7 -> 2year installment | N3: ='[1]ICE CUBE'!AA7 -> 3years installment | O3: PICTURE
A4: ='[1]ICE CUBE'!A8 -> ICE001 | B4: ='[1]ICE CUBE'!B8 -> 13X12 | C4: ='[1]ICE CUBE'!C8 -> 1hp 13*12 | D4: ='[1]ICE CUBE'!F8 -> 13 | E4: ='[1]ICE CUBE'!G8 -> 12 | F4: ='[1]ICE CUBE'!H8 -> 156 | G4: ='[1]ICE CUBE'!I8 -> 149.76 | H4: ='[1]ICE CUBE'!M8 -> 0 | I4: ='[1]ICE CUBE'!S8 -> 1058.6611 | L4: ='[1]ICE CUBE'!Y8 -> 0 | M4: ='[1]ICE CUBE'!Z8 -> 0 | N4: ='[1]ICE CUBE'!AA8 -> 0
A5: ='[1]ICE CUBE'!A9 -> ICE002 | B5: ='[1]ICE CUBE'!B9 -> 13X14 | C5: ='[1]ICE CUBE'!C9 -> 1.25hp 13*14 | D5: ='[1]ICE CUBE'!F9 -> 13 | E5: ='[1]ICE CUBE'!G9 -> 14 | F5: ='[1]ICE CUBE'!H9 -> 182 | G5: ='[1]ICE CUBE'!I9 -> 174.72 | H5: ='[1]ICE CUBE'!M9 -> 0 | I5: ='[1]ICE CUBE'!S9 -> 1235.1047 | L5: ='[1]ICE CUBE'!Y9 -> 0 | M5: ='[1]ICE CUBE'!Z9 -> 0 | N5: ='[1]ICE CUBE'!AA9 -> 0
A6: ='[1]ICE CUBE'!A10 -> ICE002.1 | B6: ='[1]ICE CUBE'!B10 -> 13X18 | C6: ='[1]ICE CUBE'!C10 -> 1.5hp 13*18 | D6: ='[1]ICE CUBE'!F10 -> 13 | E6: ='[1]ICE CUBE'!G10 -> 18 | F6: ='[1]ICE CUBE'!H10 -> 234 | G6: ='[1]ICE CUBE'!I10 -> 224.64 | H6: ='[1]ICE CUBE'!M10 -> 0 | I6: ='[1]ICE CUBE'!S10 -> 1587.9917 | L6: ='[1]ICE CUBE'!Y10 -> 0 | M6: ='[1]ICE CUBE'!Z10 -> 0 | N6: ='[1]ICE CUBE'!AA10 -> 0
A7: ='[1]ICE CUBE'!A11 -> ICE003 | B7: ='[1]ICE CUBE'!B11 -> 19X18 | C7: ='[1]ICE CUBE'!C11 -> 2hp 19*18 | D7: ='[1]ICE CUBE'!F11 -> 19 | E7: ='[1]ICE CUBE'!G11 -> 18 | F7: ='[1]ICE CUBE'!H11 -> 342 | G7: ='[1]ICE CUBE'!I11 -> 328.32 | H7: ='[1]ICE CUBE'!M11 -> 0 | I7: ='[1]ICE CUBE'!S11 -> 2320.911 | L7: ='[1]ICE CUBE'!Y11 -> 0 | M7: ='[1]ICE CUBE'!Z11 -> 0 | N7: ='[1]ICE CUBE'!AA11 -> 0
A8: ='[1]ICE CUBE'!A12 -> ICE004 | B8: ='[1]ICE CUBE'!B12 -> 22X18 | C8: ='[1]ICE CUBE'!C12 -> 2.5hp 22*18 | D8: ='[1]ICE CUBE'!F12 -> 22 | E8: ='[1]ICE CUBE'!G12 -> 18 | F8: ='[1]ICE CUBE'!H12 -> 396 | G8: ='[1]ICE CUBE'!I12 -> 380.16 | H8: ='[1]ICE CUBE'!M12 -> 0 | I8: ='[1]ICE CUBE'!S12 -> 2687.3706 | L8: ='[1]ICE CUBE'!Y12 -> 0 | M8: ='[1]ICE CUBE'!Z12 -> 0 | N8: ='[1]ICE CUBE'!AA12 -> 0
A9: ='[1]ICE CUBE'!A13 -> ICE005 | B9: ='[1]ICE CUBE'!B13 -> 22X20 | C9: ='[1]ICE CUBE'!C13 -> 3hp 22*20 | D9: ='[1]ICE CUBE'!F13 -> 22 | E9: ='[1]ICE CUBE'!G13 -> 20 | F9: ='[1]ICE CUBE'!H13 -> 440 | G9: ='[1]ICE CUBE'!I13 -> 422.4 | H9: ='[1]ICE CUBE'!M13 -> 0 | I9: ='[1]ICE CUBE'!S13 -> 2985.9673 | L9: ='[1]ICE CUBE'!Y13 -> 0 | M9: ='[1]ICE CUBE'!Z13 -> 0 | N9: ='[1]ICE CUBE'!AA13 -> 0
A10: ='[1]ICE CUBE'!A14 -> ICE005.1 | B10: ='[1]ICE CUBE'!B14 -> 24X20 | C10: ='[1]ICE CUBE'!C14 -> 3hp 3ph 24*20 | D10: ='[1]ICE CUBE'!F14 -> 24 | E10: ='[1]ICE CUBE'!G14 -> 20 | F10: ='[1]ICE CUBE'!H14 -> 480 | G10: ='[1]ICE CUBE'!I14 -> 460.8 | H10: ='[1]ICE CUBE'!M14 -> 0 | I10: ='[1]ICE CUBE'!S14 -> 3257.4189 | L10: ='[1]ICE CUBE'!Y14 -> 0 | M10: ='[1]ICE CUBE'!Z14 -> 0 | N10: ='[1]ICE CUBE'!AA14 -> 0
A11: ='[1]ICE CUBE'!A15 -> ICE006 | B11: ='[1]ICE CUBE'!B15 -> QICM-150 (150kgs) 13*12 | C11: ='[1]ICE CUBE'!C15 -> 1hp (4.35amp)13*12 | D11: ='[1]ICE CUBE'!F15 -> 13 | E11: ='[1]ICE CUBE'!G15 -> 12 | F11: ='[1]ICE CUBE'!H15 -> 156 | G11: ='[1]ICE CUBE'!I15 -> 149.76 | H11: ='[1]ICE CUBE'!M15 -> 1630*560*800 | I11: ='[1]ICE CUBE'!S15 -> 1058.6611 | J11: ='[1]ICE CUBE'!$W15 -> 5611.9839 | K11: ='[1]ICE CUBE'!X15 -> 6602.334 | L11: ='[1]ICE CUBE'!Y15 -> 647.28765 | M11: ='[1]ICE CUBE'!Z15 -> 392.99607 | N11: ='[1]ICE CUBE'!AA15 -> 333.45121
A12: ='[1]ICE CUBE'!A16 -> ICE007 | B12: ='[1]ICE CUBE'!B16 -> QICM-180 (180kgs) 13*14 | C12: ='[1]ICE CUBE'!C16 -> 1.25hp (4.6amp)13*14 | D12: ='[1]ICE CUBE'!F16 -> 13 | E12: ='[1]ICE CUBE'!G16 -> 14 | F12: ='[1]ICE CUBE'!H16 -> 182 | G12: ='[1]ICE CUBE'!I16 -> 174.72 | H12: ='[1]ICE CUBE'!M16 -> 1730*560*800 | I12: ='[1]ICE CUBE'!S16 -> 1235.1047 | J12: ='[1]ICE CUBE'!$W16 -> 6196.5656 | K12: ='[1]ICE CUBE'!X16 -> 7290.0772 | L12: ='[1]ICE CUBE'!Y16 -> 714.71345 | M12: ='[1]ICE CUBE'!Z16 -> 433.93316 | N12: ='[1]ICE CUBE'!AA16 -> 368.18571
A13: ='[1]ICE CUBE'!A17 -> ICE009 | B13: ='[1]ICE CUBE'!B17 -> QICM-250 (250kgs) 13*18 | C13: ='[1]ICE CUBE'!C17 -> 1.5hp (5.7amp)13*18 | D13: ='[1]ICE CUBE'!F17 -> 13 | E13: ='[1]ICE CUBE'!G17 -> 18 | F13: ='[1]ICE CUBE'!H17 -> 234 | G13: ='[1]ICE CUBE'!I17 -> 224.64 | H13: ='[1]ICE CUBE'!M17 -> 1730*760*800 | I13: ='[1]ICE CUBE'!S17 -> 1587.9917 | J13: ='[1]ICE CUBE'!$W17 -> 7599.5616 | K13: ='[1]ICE CUBE'!X17 -> 8940.6607 | L13: ='[1]ICE CUBE'!Y17 -> 876.53536 | M13: ='[1]ICE CUBE'!Z17 -> 532.18218 | N13: ='[1]ICE CUBE'!AA17 -> 451.54852
A14: ='[1]ICE CUBE'!A18 -> ICE011 | B14: ='[1]ICE CUBE'!B18 -> QICM-350 (350kgs) 19*18 | C14: ='[1]ICE CUBE'!C18 -> 2hp (8.12amp)19*18 | D14: ='[1]ICE CUBE'!F18 -> 19 | E14: ='[1]ICE CUBE'!G18 -> 18 | F14: ='[1]ICE CUBE'!H18 -> 342 | G14: ='[1]ICE CUBE'!I18 -> 328.32 | H14: ='[1]ICE CUBE'!M18 -> 1930*760*800 | I14: ='[1]ICE CUBE'!S18 -> 2320.911 | J14: ='[1]ICE CUBE'!$W18 -> 9470.2229 | K14: ='[1]ICE CUBE'!X18 -> 11141.439 | L14: ='[1]ICE CUBE'!Y18 -> 1092.2979 | M14: ='[1]ICE CUBE'!Z18 -> 663.18087 | N14: ='[1]ICE CUBE'!AA18 -> 562.69892
A15: ='[1]ICE CUBE'!A19 -> ICE012 | B15: ='[1]ICE CUBE'!B19 -> QICM-400 (400kgs) 22*18 | C15: ='[1]ICE CUBE'!C19 -> 2.5hp (11amp)22*18 | D15: ='[1]ICE CUBE'!F19 -> 22 | E15: ='[1]ICE CUBE'!G19 -> 18 | F15: ='[1]ICE CUBE'!H19 -> 396 | G15: ='[1]ICE CUBE'!I19 -> 380.16 | H15: ='[1]ICE CUBE'!M19 -> 1930*760*800 | I15: ='[1]ICE CUBE'!S19 -> 2687.3706 | J15: ='[1]ICE CUBE'!$W19 -> 10288.637 | K15: ='[1]ICE CUBE'!X19 -> 12104.279 | L15: ='[1]ICE CUBE'!Y19 -> 1186.694 | M15: ='[1]ICE CUBE'!Z19 -> 720.4928 | N15: ='[1]ICE CUBE'!AA19 -> 611.32722
A16: ='[1]ICE CUBE'!A20 -> ICE012.1 | B16: ='[1]ICE CUBE'!B20 -> QICM-450 (450kgs) 22*20 | C16: ='[1]ICE CUBE'!C20 -> 3hp (11.8amp)22*20 | D16: ='[1]ICE CUBE'!F20 -> 22 | E16: ='[1]ICE CUBE'!G20 -> 20 | F16: ='[1]ICE CUBE'!H20 -> 440 | G16: ='[1]ICE CUBE'!I20 -> 422.4 | H16: ='[1]ICE CUBE'!M20 -> 1930*760*802 | I16: ='[1]ICE CUBE'!S20 -> 2985.9673 | J16: ='[1]ICE CUBE'!$W20 -> ~ | K16: ='[1]ICE CUBE'!X20 -> ~ | L16: ='[1]ICE CUBE'!Y20 -> ~ | M16: ='[1]ICE CUBE'!Z20 -> ~ | N16: ='[1]ICE CUBE'!AA20 -> ~
A17: ='[1]ICE CUBE'!A21 -> ICE013 | B17: ='[1]ICE CUBE'!B21 -> QICM-480 (480kgs) 24*20 | C17: ='[1]ICE CUBE'!C21 -> 3hp 3ph (5.1amp) 24*20 | D17: ='[1]ICE CUBE'!F21 -> 24 | E17: ='[1]ICE CUBE'!G21 -> 20 | F17: ='[1]ICE CUBE'!H21 -> 480 | G17: ='[1]ICE CUBE'!I21 -> 460.8 | H17: ='[1]ICE CUBE'!M21 -> 1930*760*800 | I17: ='[1]ICE CUBE'!S21 -> 3257.4189 | J17: ='[1]ICE CUBE'!$W21 -> 13886.579 | K17: ='[1]ICE CUBE'!X21 -> 16337.152 | L17: ='[1]ICE CUBE'!Y21 -> 1601.6815 | M17: ='[1]ICE CUBE'!Z21 -> 972.44949 | N17: ='[1]ICE CUBE'!AA21 -> 825.10866
A18: ='[1]ICE CUBE'!A22 -> ICE013.01 | B18: ='[1]ICE CUBE'!B22 -> QICM-500 (500kgs) 14*18*2 | H18: ='[1]ICE CUBE'!M22 -> 1890*780*1320 | I18: ='[1]ICE CUBE'!S22 -> ~ | J18: ='[1]ICE CUBE'!$W22 -> 16134.454 | K18: ='[1]ICE CUBE'!X22 -> 18981.71 | L18: ='[1]ICE CUBE'!Y22 -> 1860.952 | M18: ='[1]ICE CUBE'!Z22 -> 1129.8637 | N18: ='[1]ICE CUBE'!AA22 -> 958.67224
A19: ='[1]ICE CUBE'!A23 -> ICE013.02 | B19: ='[1]ICE CUBE'!B23 -> QICM-760 (760kgs) 19*20*2 | H19: ='[1]ICE CUBE'!M23 -> 2050*780*1320 | I19: ='[1]ICE CUBE'!S23 -> ~ | J19: ='[1]ICE CUBE'!$W23 -> 19758.86 | K19: ='[1]ICE CUBE'!X23 -> 23245.718 | L19: ='[1]ICE CUBE'!Y23 -> 2278.9919 | M19: ='[1]ICE CUBE'!Z23 -> 1383.6737 | N19: ='[1]ICE CUBE'!AA23 -> 1174.0261
A20: ='[1]ICE CUBE'!A24 -> ICE015 | B20: ='[1]ICE CUBE'!B24 -> ICY BOARD WZB1115 | C20: ='[1]ICE CUBE'!C24 -> 0 | D20: ='[1]ICE CUBE'!F24 -> 0 | E20: ='[1]ICE CUBE'!G24 -> 0 | F20: ='[1]ICE CUBE'!H24 -> 0 | G20: ='[1]ICE CUBE'!I24 -> 0 | H20: ='[1]ICE CUBE'!M24 -> 0 | I20: ='[1]ICE CUBE'!S24 -> 302.72979
A21: ='[1]ICE CUBE'!A25 -> ICE016 | B21: ='[1]ICE CUBE'!B25 -> SOLENOID VALVE FDF-6A | C21: ='[1]ICE CUBE'!C25 -> 0 | D21: ='[1]ICE CUBE'!F25 -> 0 | E21: ='[1]ICE CUBE'!G25 -> 0 | F21: ='[1]ICE CUBE'!H25 -> 0 | G21: ='[1]ICE CUBE'!I25 -> 0 | H21: ='[1]ICE CUBE'!M25 -> 0 | I21: ='[1]ICE CUBE'!S25 -> 62.842528
A22: ='[1]ICE CUBE'!A26 -> ICE017 | B22: ='[1]ICE CUBE'!B26 -> FCD-270A INLET VALVE | I22: ='[1]ICE CUBE'!S26 -> 17.746229
A23: ='[1]ICE CUBE'!A27 -> ICE017.1 | B23: ='[1]ICE CUBE'!B27 -> FPD-360L INLET VALVE | I23: ='[1]ICE CUBE'!S27 -> 21.921812
A24: ='[1]ICE CUBE'!A28 -> ICE018 | B24: ='[1]ICE CUBE'!B28 -> FDP-90A 排水阀 (Drain Valve) | I24: ='[1]ICE CUBE'!S28 -> 38.363171
A25: ='[1]ICE CUBE'!A29 -> ICE018.1 | B25: ='[1]ICE CUBE'!B29 -> WATER PRESSURE CONTROL VALVE 3/4" | I25: ='[1]ICE CUBE'!S29 -> 219.21812
A26: ='[1]ICE CUBE'!A30 -> ICE019 | B26: ='[1]ICE CUBE'!B30 -> 300P 储冰桶 (ICE BIN) | I26: ='[1]ICE CUBE'!S30 -> 1164.5963
A27: ='[1]ICE CUBE'!A31 -> ICE020 | B27: ='[1]ICE CUBE'!B31 -> 500P 储冰桶 (ICE BIN) | I27: ='[1]ICE CUBE'!S31 -> 1293.9959
A28: ='[1]ICE CUBE'!A32 -> ICE020.01 | B28: ='[1]ICE CUBE'!B32 -> 600P 储冰桶 (ICE BIN) | I28: ='[1]ICE CUBE'!S32 -> 1682.1946
A29: ='[1]ICE CUBE'!A33 -> ICE021 | B29: ='[1]ICE CUBE'!B33 -> 2000P 储冰桶 (ICE BIN) c/w top cover | I29: ='[1]ICE CUBE'!S33 -> 3105.5901
A30: ='[1]ICE CUBE'!A34 -> ICE021.01 | B30: ='[1]ICE CUBE'!B34 -> 2500P 储冰桶 (ICE BIN) c/w top cover | I30: ='[1]ICE CUBE'!S34 -> 4399.5859
A31: ='[1]ICE CUBE'!A35 -> ICE022 | B31: ='[1]ICE CUBE'!B35 -> 新款200P内胆 (New model Inner) | I31: ='[1]ICE CUBE'!S35 -> 175.3745
A32: ='[1]ICE CUBE'!A37 -> ICE024 | B32: ='[1]ICE CUBE'!B37 -> 500P 内胆 (Inner)(760mm) | I32: ='[1]ICE CUBE'!S37 -> 277.67629
A33: ='[1]ICE CUBE'!A39 -> ICE025 | B33: ='[1]ICE CUBE'!B39 -> 2000P 内胆 (Inner)(1220mm) | I33: ='[1]ICE CUBE'!S39 -> 526.12349
A34: ='[1]ICE CUBE'!A40 -> ICE025.01 | B34: ='[1]ICE CUBE'!B40 -> 2500P 内胆 (Inner)(1500mm) | I34: ='[1]ICE CUBE'!S40 -> 672.26891
A35: ='[1]ICE CUBE'!A41 -> ICE026 | B35: ='[1]ICE CUBE'!B41 -> 500P T型水槽 Sink 700*240 | I35: ='[1]ICE CUBE'!S41 -> 30.690537
A36: ='[1]ICE CUBE'!A42 -> ICE027 | B36: ='[1]ICE CUBE'!B42 -> 2000P T型水槽 (Sink) | I36: ='[1]ICE CUBE'!S42 -> 219.21812
A37: ='[1]ICE CUBE'!A43 -> ICE028 | B37: ='[1]ICE CUBE'!B43 -> 新款200P门框 (New model Door Frame) | I37: ='[1]ICE CUBE'!S43 -> 146.14541
A38: ='[1]ICE CUBE'!A44 -> ICE029 | B38: ='[1]ICE CUBE'!B44 -> 300P 门板 Door Panel 590*460 | I38: ='[1]ICE CUBE'!S44 -> 67.226891
A39: ='[1]ICE CUBE'!A45 -> ICE030 | B39: ='[1]ICE CUBE'!B45 -> 500P 门板 Door Panel 780*460 | I39: ='[1]ICE CUBE'!S45 -> 81.841432
A40: ='[1]ICE CUBE'!A46 -> ICE031 | B40: ='[1]ICE CUBE'!B46 -> 2000P 门板 Door Panel 1245*460 | I40: ='[1]ICE CUBE'!S46 -> 175.3745
A41: ='[1]ICE CUBE'!A47 -> ICE032 | B41: ='[1]ICE CUBE'!B47 -> 4*6 进水管 (1.5m) Inlet pipe | I41: ='[1]ICE CUBE'!S47 -> 18.268177
A42: ='[1]ICE CUBE'!A48 -> ICE033 | B42: ='[1]ICE CUBE'!B48 -> 4*4 进水管 (1m) Inlet pipe | I42: ='[1]ICE CUBE'!S48 -> 16.441359
A43: ='[1]ICE CUBE'!A49 -> ICE034 | B43: ='[1]ICE CUBE'!B49 -> 10"寸单级净水透明过滤器(pp) (Single-stage water purification transparent filter) | I43: ='[1]ICE CUBE'!S49 -> 58.458166
A44: ='[1]ICE CUBE'!A50 -> ICE035 | B44: ='[1]ICE CUBE'!B50 -> 小号冰铲 (Small Ice Shovel) | I44: ='[1]ICE CUBE'!S50 -> 9.1340884
... A62: ='[1]ICE CUBE'!A68 -> 0 | B62: ='[1]ICE CUBE'!B68 -> DTH488LC3-3ph | I62: ='[1]ICE CUBE'!S68 -> 0

Sheet hardware 
A2: =GAS!A2 -> DATE :28.9.26
A3: ITEM CODE | B3: MODEL | C3: DIMENSION (MM) | D3: ='[2]hardware '!$H$7 -> (RM) | E3: PICTURE
A4: ='[1]hardware '!$A9 -> HAR001 | B4: ='[1]hardware '!B9 -> TABLE LIFT 350KGS (1.3M HIGH) | C4: 910*500*52 | D4: ='[1]hardware '!$H9 -> 1411.9658
A5: ='[1]hardware '!$A10 -> HAR002 | B5: ='[1]hardware '!B10 -> TABLE LIFT 800KGS (1.5M HIGH) | C5: 1220x610x60 | D5: ='[1]hardware '!$H10 -> 2470.9402
A6: ='[1]hardware '!$A11 -> HAR003 | B6: ='[1]hardware '!B11 -> SYPIIK 2T PALLET TRUCK 550*1150mm DOUBLE PU WHEEL | C6: 915mm(L)*520mm(W) | D6: ='[1]hardware '!$H11 -> 938.95726
A7: ='[1]hardware '!$A12 -> HAR004 | B7: ='[1]hardware '!B12 -> SYPIIK 2T PALLET TRUCK 520*915mm DOUBLE PU WHEEL | C7: 1100mm(L)*540mm(W) | D7: ='[1]hardware '!$H12 -> 917.77778
A8: ='[1]hardware '!$A13 -> HAR005 | B8: ='[1]hardware '!B13 -> SYPIIK 2.5T PALLET TRUCK 685*1220mm DOUBLE PU WHEEL | C8: 1220mm(L)*685mm(W) | D8: ='[1]hardware '!$H13 -> 1044.8547
A9: ='[1]hardware '!$A14 -> HAR006 | B9: ='[1]hardware '!B14 -> PALLET TRUCK SCALE 2T 550*1150MM | D9: ='[1]hardware '!$H14 -> 2753.3333
A10: ='[1]hardware '!$A16 -> HAR007 | B10: ='[1]hardware '!B16 -> SYG-1020 HAND STACKER 1T/2M/fork size (300-680)*1070mm | D10: ='[1]hardware '!$H16 -> 3247.5214
A11: ='[1]hardware '!$A17 -> HAR007.1 | B11: ='[1]hardware '!B17 -> SDYG1030 SEMI ELECTRIC STACKER (1TON / 3M) | D11: ='[1]hardware '!$H17 -> 8542.3932
A12: ='[1]hardware '!$A18 -> HAR007.2 | B12: ='[1]hardware '!B18 -> SDYG1035 SEMI ELECTRIC STACKER (1TON / 3.5M) | D12: ='[1]hardware '!$H18 -> 8542.3932
A13: ='[1]hardware '!$A19 -> HAR008 | B13: ='[1]hardware '!B19 -> SDYG1520 SEMI ELECTRIC STACKER | D13: ='[1]hardware '!$H19 -> 8895.3846
A14: ='[1]hardware '!$A20 -> HAR009 | B14: ='[1]hardware '!B20 -> SDYG2016 SEMI STACKER /2T/1.6M | D14: ='[1]hardware '!$H20 -> 8895.3846
A15: ='[1]hardware '!$A21 -> HAR009.01 | B15: ='[1]hardware '!B21 -> ELE15-4M ELECTRIC PALLET TRUCK 4M height | D15: ='[1]hardware '!$H21 -> 10865.077
A16: ='[1]hardware '!$A22 -> HAR010 | B16: ='[1]hardware '!B22 -> SYP-Y DRUM TRUCK | D16: ='[1]hardware '!$H22 -> 897.01357
A17: ='[1]hardware '!$A23 -> HAR011 | B17: ='[1]hardware '!B23 -> SDYG-Z 0513 SELF -LIFT STACKER (500kgs) | D17: ='[1]hardware '!$H23 -> 9742.5641
A18: ='[1]hardware '!$A24 -> HAR011.01 | B18: ='[1]hardware '!B24 -> SDYG-Z 1016 SELF -LIFT STACKER (1ton) | D18: ='[1]hardware '!$H24 -> 12707.692
A19: ='[1]hardware '!$A25 -> HAR012 | B19: ='[1]hardware '!B25 -> SYG-Q 0415MINI HAND STACKER 400KG 1.5m | D19: ='[1]hardware '!$H25 -> 2093.0317
A20: ='[1]hardware '!$A26 -> HAR013 | B20: ='[1]hardware '!B26 -> PALLET TRUCK PU WHEEL 74*70 | D20: ='[1]hardware '!$H26 -> 28.40543
A21: ='[1]hardware '!$A27 -> HAR014 | B21: ='[1]hardware '!B27 -> PALLET TRUCK PU WHEEL 180*50 | D21: ='[1]hardware '!$H27 -> 44.850679
A22: ='[1]hardware '!$A29 -> HAR015 | B22: ='[1]hardware '!B29 -> SMA-M5.5 ALUMINIUM LIFT | D22: ='[1]hardware '!$H29 -> 9418.6425
A23: ='[1]hardware '!$A30 -> HAR016 | B23: ='[1]hardware '!B30 -> SMA-M7.5 ALUMINIUM LIFT | D23: ='[1]hardware '!$H30 -> 11362.172
A24: ='[1]hardware '!$A31 -> HAR017 | B24: ='[1]hardware '!B31 -> GTW-2-12 ELETRIC ALUMINIUM LIFT | D24: ='[1]hardware '!$H31 -> 19134.571
A25: ='[1]hardware '!$A32 -> HAR017.01 | B25: ='[1]hardware '!B32 -> GTJZ12-320KGS Self propelled scissor lift | D25: ='[1]hardware '!$H32 -> 58280.106
A26: ='[1]hardware '!#REF! -> #REF! | B26: ='[1]hardware '!#REF! -> #REF! | D26: ='[1]hardware '!#REF! -> #REF!
A27: ='[1]hardware '!#REF! -> #REF! | B27: ='[1]hardware '!#REF! -> #REF! | D27: ='[1]hardware '!#REF! -> #REF!
A28: ='[1]hardware '!#REF! -> #REF! | B28: ='[1]hardware '!#REF! -> #REF! | D28: ='[1]hardware '!#REF! -> #REF!
A29: ='[1]hardware '!#REF! -> #REF! | B29: ='[1]hardware '!#REF! -> #REF! | D29: ='[1]hardware '!#REF! -> #REF!
A30: ='[1]hardware '!#REF! -> #REF! | B30: ='[1]hardware '!#REF! -> #REF! | D30: ='[1]hardware '!#REF! -> #REF!
A31: ='[1]hardware '!#REF! -> #REF! | B31: ='[1]hardware '!#REF! -> #REF! | D31: ='[1]hardware '!#REF! -> #REF!
A32: ='[1]hardware '!$A33 -> HAR018 | B32: ='[1]hardware '!B33 -> 3" pp castor wheel black | D32: ='[1]hardware '!$H33 -> 6.0451058
A33: ='[1]hardware '!$A34 -> HAR019 | B33: ='[1]hardware '!B34 -> 3" pp castor wheel adjustable black | D33: ='[1]hardware '!$H34 -> 6.3772545
A34: ='[1]hardware '!$A35 -> HAR020 | B34: ='[1]hardware '!B35 -> 3" pp castor wheel adjustable c/w stopper black | D34: ='[1]hardware '!$H35 -> 8.8351546
A35: ='[1]hardware '!$A36 -> HAR020.1 | B35: ='[1]hardware '!B36 -> 4" pp castor wheel adjustable | D35: ='[1]hardware '!$H36 -> 6.8800764
A36: ='[1]hardware '!$A37 -> HAR020.2 | B36: ='[1]hardware '!B37 -> 5" pp castor wheel adjustable | D36: ='[1]hardware '!$H37 -> ~
A37: ='[1]hardware '!$A38 -> HAR020.3 | B37: ='[1]hardware '!B38 -> 4" pp castor wheel adjustable c/w stopper | D37: ='[1]hardware '!$H38 -> 8.993564
A38: ='[1]hardware '!$A39 -> HAR020.4 | B38: ='[1]hardware '!B39 -> 5" pp castor wheel adjustable c/w stopper | D38: ='[1]hardware '!$H39 -> ~
A39: ='[1]hardware '!$A40 -> HAR021 | B39: ='[1]hardware '!B40 -> 60F heavy duty castor wheel | D39: ='[1]hardware '!$H40 -> 50.220879
A40: ='[1]hardware '!$A41 -> HAR022 | B40: ='[1]hardware '!B41 -> 80F heavy duty castor wheel | D40: ='[1]hardware '!$H41 -> 68.156907
A41: ='[1]hardware '!$A42 -> HAR023 | B41: ='[1]hardware '!B42 -> 100F heavy duty castor wheel | D41: ='[1]hardware '!$H42 -> 87.886538
A42: ='[1]hardware '!$A43 -> HAR024 | B42: ='[1]hardware '!B43 -> 4"HD pu castor wheel adjustable | D42: ='[1]hardware '!$H43 -> 43.046468
A43: ='[1]hardware '!$A44 -> HAR025 | B43: ='[1]hardware '!B44 -> 5"HD pu castor wheel adjustable c/w stopper | D43: ='[1]hardware '!$H44 -> 64.569701
... A150: ='[1]hardware '!$A151 -> HAR122 | B150: ='[1]hardware '!B151 -> Hydraulic press brake WC67K-63T/2500 CW CNC CYBELEC CYBTOUCH 8 | D150: ='[1]hardware '!$H151 -> 72766.667

Sheet HOIST
A1: ='hardware '!A2 -> DATE :28.9.26
A7: ITEM CODE | B7: MODEL | C7: DIMENSION (MM) | D7: =[2]HOIST!$H$7 -> (RM) | E7: PICTURE
A8: =[1]HOIST!#REF! -> #REF! | B8: =[1]HOIST!#REF! -> #REF! | C8: =[1]HOIST!#REF! -> #REF! | D8: =[1]HOIST!#REF! -> #REF!
A9: =[1]HOIST!A9 -> HOI001 | B9: =[1]HOIST!B9 -> 0.5 TON KITO CHAIN HOIST (6M) 6.8M/1MIN | C9: =[1]HOIST!C9 -> (6M) 6.8M/1MIN | D9: =[1]HOIST!H9 -> ~
A10: =[1]HOIST!A10 -> HOI002 | B10: =[1]HOIST!B10 -> 1 TON KITO CHAIN HOIST (6M) 4.6M/1MIN | C10: =[1]HOIST!C10 -> (6M) 4.6M/1MIN | D10: =[1]HOIST!H10 -> 1360.5442
A11: =[1]HOIST!#REF! -> #REF! | B11: =[1]HOIST!#REF! -> #REF! | C11: =[1]HOIST!#REF! -> #REF! | D11: =[1]HOIST!#REF! -> #REF!
A12: =[1]HOIST!#REF! -> #REF! | B12: =[1]HOIST!#REF! -> #REF! | C12: =[1]HOIST!#REF! -> #REF! | D12: =[1]HOIST!#REF! -> #REF!
A13: =[1]HOIST!A11 -> HOI003 | B13: =[1]HOIST!B11 -> 2 TON KITO CHAIN HOIST (6M) 6.6M/1MIN | C13: =[1]HOIST!C11 -> (6M) 6.6M/1MIN | D13: =[1]HOIST!H11 -> 2237.9966
A14: =[1]HOIST!#REF! -> #REF! | B14: =[1]HOIST!#REF! -> #REF! | C14: =[1]HOIST!#REF! -> #REF! | D14: =[1]HOIST!#REF! -> #REF!
A15: =[1]HOIST!#REF! -> #REF! | B15: =[1]HOIST!#REF! -> #REF! | C15: =[1]HOIST!#REF! -> #REF! | D15: =[1]HOIST!#REF! -> #REF!
A16: =[1]HOIST!#REF! -> #REF! | B16: =[1]HOIST!#REF! -> #REF! | C16: =[1]HOIST!#REF! -> #REF! | D16: =[1]HOIST!#REF! -> #REF!
A17: =[1]HOIST!A12 -> HOI006 | B17: =[1]HOIST!B12 -> 3 TON KITO CHAIN HOIST (10M) 6.6M/1MIN | C17: =[1]HOIST!C12 -> (10M) 6.6M/1MIN | D17: =[1]HOIST!H12 -> 2346.4458
A18: =[1]HOIST!A13 -> HOI007 | B18: =[1]HOIST!B13 -> 0.5 TON HITACHI CHAIN HOIST (6M ) 4.6M/1MIN | C18: =[1]HOIST!C13 -> (6M ) 4.6M/1MIN | D18: =[1]HOIST!H13 -> 1577.4426
A19: =[1]HOIST!A14 -> HOI008 | B19: =[1]HOIST!B14 -> 1 TON HITACHI CHAIN HOIST (6M ) 4.6M/1MIN | C19: =[1]HOIST!C14 -> (6M ) 4.6M/1MIN | D19: =[1]HOIST!H14 -> 2464.754
A20: =[1]HOIST!A15 -> HOI009 | B20: =[1]HOIST!B15 -> 2 TON HITACHI CHAIN HOIST (6M) 6.8M/1MIN | C20: =[1]HOIST!C15 -> (6M) 6.8M/1MIN | D20: =[1]HOIST!H15 -> 3943.6064
A21: =[1]HOIST!A16 -> HOI010 | B21: =[1]HOIST!B16 -> 1TON (3M MANUAL CHAIN HOIST) | C21: =[1]HOIST!C16 -> 0 | D21: =[1]HOIST!H16 -> 189.78606
A22: =[1]HOIST!A17 -> HOI011 | B22: =[1]HOIST!B17 -> 2TON (3M MANUAL CHAIN HOIST) | C22: =[1]HOIST!C17 -> 0 | D22: =[1]HOIST!H17 -> 253.04808
A23: =[1]HOIST!A18 -> HOI012 | B23: =[1]HOIST!B18 -> 1TON (5M MANUAL CHAIN HOIST) | C23: =[1]HOIST!C18 -> 0 | D23: =[1]HOIST!H18 -> 253.04808
A24: =[1]HOIST!A19 -> HOI013 | B24: =[1]HOIST!B19 -> 2TON (5M MANUAL CHAIN HOIST) | C24: =[1]HOIST!C19 -> 0 | D24: =[1]HOIST!H19 -> 356.56775
A25: =[1]HOIST!A20 -> HOI014 | B25: =[1]HOIST!B20 -> CHAIN FOR 1TON/METER | C25: =[1]HOIST!C20 -> METER | D25: =[1]HOIST!H20 -> 37.160907
A26: =[1]HOIST!A21 -> HOI015 | B26: =[1]HOIST!B21 -> CHAIN FOR 2TON/METER | C26: =[1]HOIST!C21 -> METER | D26: =[1]HOIST!H21 -> 84.939215
A27: =[1]HOIST!A22 -> HOI016 | B27: =[1]HOIST!B22 -> CHAIN FOR 2TON/METER | C27: =[1]HOIST!C22 -> METER | D27: =[1]HOIST!H22 -> 106.17402
A28: =[1]HOIST!#REF! -> #REF! | B28: =[1]HOIST!#REF! -> #REF! | C28: =[1]HOIST!#REF! -> #REF! | D28: =[1]HOIST!#REF! -> #REF!
A29: =[1]HOIST!#REF! -> #REF! | B29: =[1]HOIST!#REF! -> #REF! | C29: =[1]HOIST!#REF! -> #REF! | D29: =[1]HOIST!#REF! -> #REF!
A30: =[1]HOIST!A23 -> HOI017 | B30: =[1]HOIST!B23 -> ROLLER 0.5TON | C30: =[1]HOIST!C23 -> 0 | D30: =[1]HOIST!H23 -> 92.017483
A31: =[1]HOIST!A24 -> HOI018 | B31: =[1]HOIST!B24 -> ROLLER 1TON | C31: =[1]HOIST!C24 -> 0 | D31: =[1]HOIST!H24 -> 97.768576
A32: =[1]HOIST!A25 -> HOI019 | B32: =[1]HOIST!B25 -> ROLLER 1TON PULL | C32: =[1]HOIST!C25 -> 0 | D32: =[1]HOIST!H25 -> 172.53278
A33: =[1]HOIST!A26 -> HOI020 | B33: =[1]HOIST!B26 -> ROLLER 3TON PULL | C33: =[1]HOIST!C26 -> 0 | D33: =[1]HOIST!H26 -> 368.06993
A34: =[1]HOIST!A27 -> 0 | B34: =[1]HOIST!B27 -> ON/OFF (UP/DOWN) | C34: =[1]HOIST!C27 -> 0 | D34: =[1]HOIST!H27 -> 53.08701
A35: =[1]HOIST!A28 -> 0 | B35: =[1]HOIST!B28 -> ON/OFF (UP/DOWN and RIGHT/LEFT) | C35: =[1]HOIST!C28 -> 415V | D35: =[1]HOIST!H28 -> 42.469608
A36: =[1]HOIST!A29 -> 0 | B36: =[1]HOIST!B29 -> ON/OFF (UP/DOWN, RIGHT/LEFT and FRONT/BACK) | C36: =[1]HOIST!C29 -> 415V | D36: =[1]HOIST!H29 -> 53.08701
A37: =[1]HOIST!A30 -> 0 | B37: =[1]HOIST!B30 -> HOIST MOTORIZED TROLLEY 1TON | C37: =[1]HOIST!C30 -> 0 | D37: =[1]HOIST!H30 -> 1133.7868
A38: =[1]HOIST!A31 -> 0 | B38: =[1]HOIST!B31 -> HOIST MOTORIZED TROLLEY 2TON | C38: =[1]HOIST!C31 -> 0 | D38: =[1]HOIST!H31 -> 1281.6721
A39: =[1]HOIST!A32 -> 0 | B39: =[1]HOIST!B32 -> HOIST MOTORIZED TROLLEY 3TON | C39: =[1]HOIST!C32 -> 0 | D39: =[1]HOIST!H32 -> 1577.4426

Sheet Vaccum pump
A1: =HOIST!A1 -> DATE :28.9.26
A2: ITEM CODE | B2: Model | C2: CFM (L/Min) | D2: ='[2]Vaccum pump'!$I$7 -> (RM) | E2: Single Stage Vacuum Pump
A3: ='[1]Vaccum pump'!A8 -> VAC001 | B3: ='[1]Vaccum pump'!B8 -> XZ-1A VACUUM PUMP | C3: ='[1]Vaccum pump'!C8 -> 1.8cfm 50l/min | D3: ='[1]Vaccum pump'!$I8 -> ~
A4: ='[1]Vaccum pump'!A9 -> VAC002 | B4: ='[1]Vaccum pump'!B9 -> XZ-1.5A VACUUM PUMP | C4: ='[1]Vaccum pump'!C9 -> 2.5cfm 70l/min | D4: ='[1]Vaccum pump'!$I9 -> 258.19023
A5: ='[1]Vaccum pump'!A10 -> VAC003 | B5: ='[1]Vaccum pump'!B10 -> XZ-2A VACUUM PUMP | C5: ='[1]Vaccum pump'!C10 -> 3.5cfm 100l/min | D5: ='[1]Vaccum pump'!$I10 -> 341.00597
A6: ='[1]Vaccum pump'!A11 -> VAC004 | B6: ='[1]Vaccum pump'!B11 -> XZ-2.5A VACUUM PUMP | C6: ='[1]Vaccum pump'!C11 -> 4.5cfm 128l/min | D6: ='[1]Vaccum pump'!$I11 -> 379.97808
A7: ='[1]Vaccum pump'!A12 -> VAC005 | B7: ='[1]Vaccum pump'!B12 -> XZ-3A VACUUM PUMP | C7: ='[1]Vaccum pump'!C12 -> 6cfm 170l/min | D7: ='[1]Vaccum pump'!$I12 -> ~
A8: ='[1]Vaccum pump'!A13 -> VAC006 | B8: ='[1]Vaccum pump'!B13 -> XZ-4A VACUUM PUMP | C8: ='[1]Vaccum pump'!C13 -> 8cfm 226l/min | D8: ='[1]Vaccum pump'!$I13 -> ~
A9: ='[1]Vaccum pump'!A14 -> 0 | B9: ='[1]Vaccum pump'!B14 -> XZ-5A VACUUM PUMP | C9: ='[1]Vaccum pump'!C14 -> 10cfm 283l/min | D9: ='[1]Vaccum pump'!$I14 -> ~
A10: ='[1]Vaccum pump'!A15 -> VAC008 | B10: ='[1]Vaccum pump'!B15 -> 2XZ-2A Dual Stage Vacuum Pump | C10: ='[1]Vaccum pump'!C15 -> 4.5cfm 128l/min | D10: ='[1]Vaccum pump'!$I15 -> ~
A11: ='[1]Vaccum pump'!A16 -> VAC009 | B11: ='[1]Vaccum pump'!B16 -> 2XZ-3A Dual Stage Vacuum Pump | C11: ='[1]Vaccum pump'!C16 -> 6cfm 170l/min | D11: ='[1]Vaccum pump'!$I16 -> ~
A12: ='[1]Vaccum pump'!A17 -> VAC010 | B12: ='[1]Vaccum pump'!B17 -> 2XZ-4A Dual Stage Vacuum Pump | C12: ='[1]Vaccum pump'!C17 -> 8cfm 226l/min | D12: ='[1]Vaccum pump'!$I17 -> ~
A13: ='[1]Vaccum pump'!A18 -> 0 | B13: ='[1]Vaccum pump'!B18 -> 2XZ-5A Dual Stage Vacuum Pump | C13: ='[1]Vaccum pump'!C18 -> 10cfm 283l/min | D13: ='[1]Vaccum pump'!$I18 -> ~
A14: ='[1]Vaccum pump'!A19 -> 0 | B14: ='[1]Vaccum pump'!B19 -> XZ-1AN Vacuum Pump(New Ref Gas) | C14: ='[1]Vaccum pump'!C19 -> 1.8cfm 50l/min | D14: ='[1]Vaccum pump'!$I19 -> 292.29083
... A22: ='[1]Vaccum pump'!A27 -> VAC022 | B22: ='[1]Vaccum pump'!B27 -> PC-40B CONDENSATE PUMP | C22: ='[1]Vaccum pump'!C27 -> Water flow rate: 40L/h at zero head,40L/H,10M | D22: ='[1]Vaccum pump'!$I27 -> 193.38889
A23: *PLEASE EMAIL OR FAX OVER THE BANK IN SLIP
A24: BANK ACC :HONG LEONG BANK BHD 36600016285 , PUBLIC BANK BHD 3119617816
A25: BENEFICIARY :WELLER AIR-COND PARTS ENTERPRICE SDN BHD
A26: COMPUTER PRINT GENERATE ONLY

Sheet TESTO
A1: =HOIST!A1 -> DATE :28.9.26
A2: ITEM CODE | B2: MODEL | C2: Dealer (RM) cash -5% | D2: PIC
A3: =[2]TESTO!$A8 -> TES001 | B3: VAC Smart Probe kit* -testo 405i Thermal Anemometer,testo 410i Vane Anemometer,testo 605i Thermo-hygrometer,testo 805i Infrared Thermometer,in the testo Smart Case | C3: =[2]TESTO!$F8 -> 1537.8
A4: =[2]TESTO!$A9 -> TES002 | B4: AC/R kit -(2x) testo 549i Refrigeration pressure gauge,(2x) testo 115i Pipe-clamp thermometers ,in the testo Smart Case | C4: =[2]TESTO!$F9 -> 1042.8
A5: =[2]TESTO!$A10 -> TES004 | B5: Model : 0572 0561 , -30c ~ +70c | C5: =[2]TESTO!$F10 -> 710.16
A6: =[2]TESTO!$A11 -> TES005 | B6: Model : 05720566 174-H | C6: =[2]TESTO!$F11 -> 455.4
A7: =[2]TESTO!$A12 -> TES006 | B7: Model : 05632061 206 ,PH1 Instrument Kit | C7: =[2]TESTO!$F12 -> 472.164
