Workbook

Sheet C.tower parts
A2: ='[1]C.tower parts'!$A$4 -> DATE :28.9.26
A7: ITEM CODE | B7: Name | C7: Model | D7: Spec | E7: unit | F7: ='[2]C.tower parts'!$J$7 -> (RM) | G7: Picture
A8: ='[1]C.tower parts'!$A8 -> CTP001 | B8: ABS Sprinkler head | C8: 8T-10T | D8: 1.5"(4 Blades) | E8: PC | F8: ='[1]C.tower parts'!$J8 -> 47.341312
A9: ='[1]C.tower parts'!$A9 -> CTP002 | C9: 15T-20T | D9: 2"(4 Blades) | E9: PC | F9: ='[1]C.tower parts'!$J9 -> 56.809574
A10: ='[1]C.tower parts'!$A10 -> CTP003 | C10: 15T-20T | D10: 2"(6 Blades) | E10: PC | F10: ='[1]C.tower parts'!$J10 -> 66.277837
A11: ='[1]C.tower parts'!$A11 -> CTP004 | C11: Liang Chi | D11: 2.5"(4 Blades) | E11: PC | F11: ='[1]C.tower parts'!$J11 -> 97.387842
A12: ='[1]C.tower parts'!$A12 -> CTP005 | C12: 25T-50T | D12: 3"(4 Blades) | E12: PC | F12: ='[1]C.tower parts'!$J12 -> 75.746099
A13: ='[1]C.tower parts'!$A13 -> CTP006 | C13: 25T-50T | D13: 3"(6 Blades) | E13: PC | F13: ='[1]C.tower parts'!$J13 -> 85.214361
A14: ='[1]C.tower parts'!$A14 -> CTP007 | C14: 60T-80T | D14: 4"(4 Blades) | E14: PC | F14: ='[1]C.tower parts'!$J14 -> 157.80437
A15: ='[1]C.tower parts'!$A15 -> CTP008 | C15: 60T-80T | D15: 4"(6 Blades) | E15: PC | F15: ='[1]C.tower parts'!$J15 -> 170.42872
A16: ='[1]C.tower parts'!$A16 -> CTP009 | C16: 100T-125T5"4吼 | D16: 5"(4 Blades) | E16: PC | F16: ='[1]C.tower parts'!$J16 -> 285.671
A17: ='[1]C.tower parts'!$A17 -> CTP010 | B17: Standard ABS fan | C17: 8T | D17: 55CM(Dia) | E17: PC | F17: ='[1]C.tower parts'!$J17 -> 108.20871
A18: ='[1]C.tower parts'!$A18 -> CTP011 | C18: 10T-15T | D18: 63.5CM(Dia) | E18: PC | F18: ='[1]C.tower parts'!$J18 -> 104.15089
A19: ='[1]C.tower parts'!$A19 -> CTP012 | C19: 20T | D19: 77CM(Dia) | E19: PC | F19: ='[1]C.tower parts'!$J19 -> 104.15089
A20: ='[1]C.tower parts'!$A20 -> CTP013 | C20: 25T-30T | D20: 77CM(Dia) | E20: PC | F20: ='[1]C.tower parts'!$J20 -> 108.20871
A21: ='[1]C.tower parts'!$A21 -> CTP014 | C21: 40T-50T | D21: 93CM(Dia) | E21: PC | F21: ='[1]C.tower parts'!$J21 -> 108.20871
A22: ='[1]C.tower parts'!$A22 -> CTP015 | C22: 60T-80T | D22: 118CM(Dia) | E22: PC | F22: ='[1]C.tower parts'!$J22 -> 216.41743
A23: ='[1]C.tower parts'!$A23 -> CTP016 | B23: Low noise ABS fan | C23: 8T-10T | D23: 58CM(Dia) | E23: PC | F23: ='[1]C.tower parts'!$J23 -> 180.34785
A24: ='[1]C.tower parts'!$A24 -> CTP017 | C24: 15T-25T | D24: 76CM(Dia) | E24: PC | F24: ='[1]C.tower parts'!$J24 -> 216.41743
A25: ='[1]C.tower parts'!$A25 -> CTP018 | C25: 30T-50T | D25: 88.4CM(Dia) | E25: PC | F25: ='[1]C.tower parts'!$J25 -> 234.45221
A26: ='[1]C.tower parts'!$A26 -> CTP019 | C26: 60T | D26: 98CM(Dia) | E26: SET | F26: ='[1]C.tower parts'!$J26 -> 400.37224
A27: ='[1]C.tower parts'!$A27 -> CTP020 | C27: 70T | D27: 118CM(Dia) | E27: SET | F27: ='[1]C.tower parts'!$J27 -> 452.67312
A28: ='[1]C.tower parts'!$A28 -> CTP021 | B28: Center hoop | C28: 8T-20T | D28: 2"(3 Blades) | E28: SET | F28: ='[1]C.tower parts'!$J28 -> 27.052178
A29: ='[1]C.tower parts'!$A29 -> CTP022 | C29: 25T-40T | D29: 3"(6 Blades) | E29: SET | F29: ='[1]C.tower parts'!$J29 -> 54.104356
A30: ='[1]C.tower parts'!$A30 -> CTP023 | C30: 50T | D30: 3"(8 Blades) | E30: PC | F30: ='[1]C.tower parts'!$J30 -> 63.121749
A31: ='[1]C.tower parts'!$A31 -> CTP024 | C31: 60T-80T | D31: 4"(8 Blades) | E31: PC | F31: ='[1]C.tower parts'!$J31 -> 72.139142
A32: ='[1]C.tower parts'!$A32 -> CTP025 | B32: Liang Chi ABS fan | C32: 15T-25T | D32: 64CM(Dia) | E32: pc | F32: ='[1]C.tower parts'!$J32 -> 142.8355
A33: ='[1]C.tower parts'!$A33 -> CTP026 | C33: 30T-50T | D33: 76CM(Dia) | E33: pc | F33: ='[1]C.tower parts'!$J33 -> 168.80559
A34: ='[1]C.tower parts'!$A34 -> CTP026.1 | B34: ABS strut | C34: 8T-20T | D34: 23cm(Height) | E34: pc | F34: ='[1]C.tower parts'!$J34 -> 27.052178
A35: ='[1]C.tower parts'!$A35 -> CTP026.2 | C35: 25T-50T | D35: 30cm(Height) | E35: pc | F35: ='[1]C.tower parts'!$J35 -> 36.069571
A36: ='[1]C.tower parts'!$A36 -> CTP026.3 | D36: 34cm(Height) | E36: set | F36: ='[1]C.tower parts'!$J36 -> 36.069571
A37: ='[1]C.tower parts'!$A37 -> CTP026.4 | C37: 60T-80T | D37: 40cm(Height) | E37: set | F37: ='[1]C.tower parts'!$J37 -> 54.104356
A38: ='[1]C.tower parts'!$A38 -> CTP026.5 | B38: Waterproof net | C38: 8T-10T | D38: 1.5" | E38: set | F38: ='[1]C.tower parts'!$J38 -> 21.641743
A39: ='[1]C.tower parts'!$A39 -> CTP026.6 | C39: 15T-20T | D39: 2" | E39: set | F39: ='[1]C.tower parts'!$J39 -> 21.641743
A40: ='[1]C.tower parts'!$A40 -> CTP026.7 | C40: 25T-50T | D40: 3" | E40: pc | F40: ='[1]C.tower parts'!$J40 -> 21.641743
A41: ='[1]C.tower parts'!$A41 -> CTP026.8 | C41: 60T-80T | D41: 4" | E41: pc | F41: ='[1]C.tower parts'!$J41 -> 27.052178
A42: ='[1]C.tower parts'!$A42 -> CTP026.9 | B42: High temp resisant socket | C42: 8T-50T | D42: 0.5" | E42: pc | F42: ='[1]C.tower parts'!$J42 -> 18.034785
A43: ='[1]C.tower parts'!$A43 -> CTP026.10 | C43: 60T-80T | D43: 0.75" | E43: pc | F43: ='[1]C.tower parts'!$J43 -> 21.641743
A44: ='[1]C.tower parts'!$A44 -> CTP026.11 | C44: 8T-80T | D44: 1" | E44: pc | F44: ='[1]C.tower parts'!$J44 -> 27.052178
A45: ='[1]C.tower parts'!$A45 -> CTP026.12 | C45: 8T-10T | D45: 1.5" | E45: pc | F45: ='[1]C.tower parts'!$J45 -> 27.052178
...

Sheet COOLING TOWER
A2: ='C.tower parts'!A2 -> DATE :28.9.26
A7: ITEM CODE | B7: Model | C7: Water flow rate(m3/h) | E7: Tower Dimension (mm) | F7: Motor (kw) | G7: Fan Diameter (mm) | H7: Air Flow Rate (m3/h) | I7: WEIGHT | K7: ='[2]COOLING TOWER'!$P$7 -> Standard model
C8: 27'C | D8: 28'C | E8: Standard&Low noise | I8: Standard model | K8: ='[2]COOLING TOWER'!$P$8 -> (RM)
E9: Diameter Do | I9: DRY | J9: WET
A10: ='[1]COOLING TOWER'!$A10 -> COT001 | B10: ='[1]COOLING TOWER'!$B10 -> WT-8 | C10: 6.4 | D10: 5.6 | E10: 930 | F10: 0.18 | G10: 584 | H10: 4200 | I10: 51 | J10: 120 | K10: ='[1]COOLING TOWER'!P10 -> 1397.5155
A11: ='[1]COOLING TOWER'!$A11 -> COT002 | B11: ='[1]COOLING TOWER'!$B11 -> WT-10 | C11: 8 | D11: 7 | E11: 930 | F11: 0.18 | G11: 584 | H11: 5100 | I11: 55 | J11: 137 | K11: ='[1]COOLING TOWER'!P11 -> 1677.0186
A12: ='[1]COOLING TOWER'!$A12 -> COT003 | B12: ='[1]COOLING TOWER'!$B12 -> WT-15 | C12: 12 | D12: 11 | E12: 1175 | F12: 0.37 | G12: 760 | H12: 8400 | I12: 80 | J12: 215 | K12: ='[1]COOLING TOWER'!P12 -> 2236.0248
A13: ='[1]COOLING TOWER'!$A13 -> COT004 | B13: ='[1]COOLING TOWER'!$B13 -> WT-20 | C13: 16 | D13: 14 | E13: 1375 | F13: 0.37 | G13: 760 | H13: 10800 | I13: 102 | J13: 260 | K13: ='[1]COOLING TOWER'!P13 -> 2445.6522
A14: ='[1]COOLING TOWER'!$A14 -> COT005 | B14: ='[1]COOLING TOWER'!$B14 -> WT-25 | C14: 20 | D14: 18 | E14: 1375 | F14: 0.55 | G14: 760 | H14: 13200 | I14: 110 | J14: 325 | K14: ='[1]COOLING TOWER'!P14 -> 3214.2857
A15: ='[1]COOLING TOWER'!$A15 -> COT006 | B15: ='[1]COOLING TOWER'!$B15 -> WT-30 | C15: 24 | D15: 21 | E15: 1615 | F15: 0.75 | G15: 884 | H15: 14400 | I15: 150 | J15: 355 | K15: ='[1]COOLING TOWER'!P15 -> 3563.6646
A16: ='[1]COOLING TOWER'!$A16 -> COT007 | B16: ='[1]COOLING TOWER'!$B16 -> WT-40 | C16: 32 | D16: 28 | E16: 1780 | F16: 0.75 | G16: 884 | H16: 17400 | I16: 165 | J16: 405 | K16: ='[1]COOLING TOWER'!P16 -> 3913.0435
A17: ='[1]COOLING TOWER'!$A17 -> COT008 | B17: ='[1]COOLING TOWER'!$B17 -> WT-50 | C17: 40 | D17: 35 | E17: 1870 | F17: 1.1 | G17: 884 | H17: 19200 | I17: 200 | J17: 500 | K17: ='[1]COOLING TOWER'!P17 -> 5170.8075
A18: ='[1]COOLING TOWER'!$A18 -> COT009 | B18: ='[1]COOLING TOWER'!$B18 -> WT-60 | C18: 48 | D18: 42 | E18: 1870 | F18: 1.5 | G18: 1184 | H18: 24600 | I18: 250 | J18: 560 | K18: ='[1]COOLING TOWER'!P18 -> 6568.323
A19: ='[1]COOLING TOWER'!$A19 -> COT010 | B19: ='[1]COOLING TOWER'!$B19 -> WT-80 | C19: 64 | D19: 56 | E19: 2100 | F19: 1.5 | G19: 1184 | H19: 26400 | I19: 430 | J19: 790 | K19: ='[1]COOLING TOWER'!P19 -> 7127.3292
A20: ='[1]COOLING TOWER'!$A20 -> COT011 | B20: ='[1]COOLING TOWER'!$B20 -> WT-100 | C20: 80 | D20: 70 | E20: 2965 | F20: 2.2 | G20: 1470 | H20: 36600 | I20: 510 | J20: 1340 | K20: ='[1]COOLING TOWER'!P20 -> 12298.137
A21: ='[1]COOLING TOWER'!$A21 -> 0 | B21: ='[1]COOLING TOWER'!$B21 -> WT-125 | C21: 100 | D21: 88 | E21: 2965 | F21: 2.2 | G21: 1470 | H21: 43200 | I21: 620 | J21: 1480 | K21: ='[1]COOLING TOWER'!P21 -> 11961.089
... A27: ='[1]COOLING TOWER'!$A27 -> 0 | B27: ='[1]COOLING TOWER'!$B27 -> WT-300 | C27: 240 | D27: 211 | E27: 4410 | F27: 5.5 | G27: 2360 | H27: 114000 | I27: 1750 | J27: 3460 | K27: ='[1]COOLING TOWER'!P27 -> ~
A28: ='[1]COOLING TOWER'!$A28 -> 0 | B28: ='[1]COOLING TOWER'!$B28 -> WT-350 | K28: ='[1]COOLING TOWER'!P28 -> ~
A29: ='[1]COOLING TOWER'!$A29 -> 0 | B29: ='[1]COOLING TOWER'!$B29 -> WT-400 | K29: ='[1]COOLING TOWER'!P29 -> ~
A30: ='[1]COOLING TOWER'!$A30 -> 0 | B30: ='[1]COOLING TOWER'!$B30 -> WT-500 | K30: ='[1]COOLING TOWER'!P30 -> ~
A32: PRICE VALID : For intend order only and ex-factory at K.L price
A33: *PRICE WILL BE CHANGE ON THE FINAL PAYMENT DUE TO THE CURRENCY RATE
A34: *PLEASE EMAIL OR FAX OVER THE BANK IN SLIP
A35: BANK ACC :HONG LEONG BANK BHD 36600016285 , PUBLIC BANK BHD 3119617816
A36: BENEFICIARY :WELLER AIR-COND PARTS ENTERPRICE SDN BHD
A37: COMPUTER PRINT GENERATE ONLY

Sheet HEATER
A1: PRICE WILL UPDATE OR CHANGE EVERYWEEK DUE TO THE DATE
A2: ='COOLING TOWER'!A2 -> DATE :28.9.26
A3: ITEM CODE | B3: MODEL | C3: APPLICATION | D3: Size (Meter) | E3: =[2]HEATER!$K$7 -> (RM) | F3: Picture
A4: =[1]HEATER!A8 -> HEA001 | B4: =[1]HEATER!B8 -> 70" usa straight heater | C4: USA straight heater (220v-240v) | D4: =[1]HEATER!$D8 -> 1.68 | E4: =[1]HEATER!J8 -> 89.622921
A5: =[1]HEATER!A9 -> HEA002 | B5: =[1]HEATER!B9 -> 90" usa straight heater | D5: =[1]HEATER!$D9 -> 2.29 | E5: =[1]HEATER!J9 -> 105.80484
A6: =[1]HEATER!A10 -> HEA003 | B6: =[1]HEATER!B10 -> 138" usa straight heater | D6: =[1]HEATER!$D10 -> 3.5 | E6: =[1]HEATER!J10 -> 143.14772
A7: =[1]HEATER!A11 -> HEA004 | B7: =[1]HEATER!B11 -> 47" USA Blower heater | C7: USA Unit blower heater (220v-240v) | D7: =[1]HEATER!$D11 -> 1.2 | E7: =[1]HEATER!J11 -> 67.934783 | G7: cl301,cl401,ce301
A8: =[1]HEATER!A12 -> HEA005 | B8: =[1]HEATER!B12 -> 55" USA Blower heater | D8: =[1]HEATER!$D12 -> 1.4 | E8: =[1]HEATER!J12 -> 70.168498 | G8: cle301,cle401
A9: =[1]HEATER!A13 -> HEA006 | B9: =[1]HEATER!B13 -> 63" USA Blower heater | D9: =[1]HEATER!$D13 -> 1.6 | E9: =[1]HEATER!J13 -> 81.741608
A10: =[1]HEATER!A14 -> HEA007 | B10: =[1]HEATER!B14 -> 71" USA Blower heater | D10: =[1]HEATER!$D14 -> 1.8 | E10: =[1]HEATER!J14 -> 88.731145
A11: =[1]HEATER!A15 -> HEA008 | B11: =[1]HEATER!B15 -> 79" USA Blower heater | D11: =[1]HEATER!$D15 -> 2 | E11: =[1]HEATER!J15 -> 97.604259 | G11: cl302,nt501
A12: =[1]HEATER!A16 -> HEA009 | B12: =[1]HEATER!B16 -> 87" USA Blower heater | D12: =[1]HEATER!$D16 -> 2.2 | E12: =[1]HEATER!J16 -> 106.47737 | G12: cle302,nte501
A13: =[1]HEATER!A17 -> HEA010 | B13: =[1]HEATER!B17 -> 94" USA Blower heater | D13: =[1]HEATER!$D17 -> 2.4 | E13: =[1]HEATER!J17 -> 115.35049 | G13: cl402,ce302,cle402
A14: =[1]HEATER!A18 -> HEA011 | B14: =[1]HEATER!B18 -> 102" USA Blower heater | D14: =[1]HEATER!$D18 -> 2.6 | E14: =[1]HEATER!J18 -> 124.2236
A15: =[1]HEATER!A19 -> HEA012 | B15: =[1]HEATER!B19 -> 110" USA Blower heater | D15: =[1]HEATER!$D19 -> 2.8 | E15: =[1]HEATER!J19 -> 133.09672 | G15: cl303
A16: =[1]HEATER!A20 -> HEA013 | B16: =[1]HEATER!B20 -> 118" USA Blower heater | D16: =[1]HEATER!$D20 -> 3 | E16: =[1]HEATER!J20 -> 141.96983 | G16: cle303
A17: =[1]HEATER!A21 -> HEA014 | B17: =[1]HEATER!B21 -> 125" USA Blower heater | D17: =[1]HEATER!$D21 -> 3.2 | E17: =[1]HEATER!J21 -> 150.84295
A18: =[1]HEATER!A22 -> HEA015 | B18: =[1]HEATER!B22 -> 133" USA Blower heater | D18: =[1]HEATER!$D22 -> 3.4 | E18: =[1]HEATER!J22 -> 155.58177 | G18: cl403,nt502,ce303
A19: =[1]HEATER!A23 -> HEA016 | B19: =[1]HEATER!B23 -> 142" USA Blower heater | D19: =[1]HEATER!$D23 -> 3.6 | E19: =[1]HEATER!J23 -> 168.58917 | G19: cle403,nte502
A20: =[1]HEATER!A24 -> HEA017 | B20: =[1]HEATER!B24 -> 149" USA Blower heater | D20: =[1]HEATER!$D24 -> 3.8 | E20: =[1]HEATER!J24 -> 176.8831
A21: =[1]HEATER!A25 -> HEA018 | B21: =[1]HEATER!B25 -> 157" USA Blower heater | D21: =[1]HEATER!$D25 -> 4 | E21: =[1]HEATER!J25 -> 181.98778
A22: =[1]HEATER!A26 -> HEA019 | B22: =[1]HEATER!B26 -> 164" USA Blower heater | D22: =[1]HEATER!$D26 -> 4.2 | E22: =[1]HEATER!J26 -> 195.20852 | G22: cl404,nt632
A23: =[1]HEATER!A27 -> HEA020 | B23: =[1]HEATER!B27 -> 174" USA Blower heater | D23: =[1]HEATER!$D27 -> 4.4 | E23: =[1]HEATER!J27 -> 204.08163
A24: =[1]HEATER!A28 -> HEA021 | B24: =[1]HEATER!B28 -> 181" USA Blower heater | D24: =[1]HEATER!$D28 -> 4.6 | E24: =[1]HEATER!J28 -> 204.83896 | G24: cle404
A25: =[1]HEATER!A29 -> HEA022 | B25: =[1]HEATER!B29 -> 189" USA Blower heater | D25: =[1]HEATER!$D29 -> 4.8 | E25: =[1]HEATER!J29 -> 213.45151 | G25: nte802
A26: =[1]HEATER!A30 -> HEA023 | B26: =[1]HEATER!B30 -> 196" USA Blower heater | D26: =[1]HEATER!$D30 -> 5 | E26: =[1]HEATER!J30 -> 226.02117 | G26: nt503
A27: =[1]HEATER!A31 -> HEA024 | B27: =[1]HEATER!B31 -> 204" USA Blower heater | D27: =[1]HEATER!$D31 -> 5.2 | E27: =[1]HEATER!J31 -> 239.57409
A28: =[1]HEATER!A32 -> HEA025 | B28: =[1]HEATER!B32 -> 213" USA Blower heater | D28: =[1]HEATER!$D32 -> 5.4 | E28: =[1]HEATER!J32 -> 248.4472 | G28: cl405,nte503
A29: =[1]HEATER!A33 -> HEA026 | B29: =[1]HEATER!B33 -> 219" USA Blower heater | D29: =[1]HEATER!$D33 -> 5.6 | E29: =[1]HEATER!J33 -> 257.32032
A30: =[1]HEATER!A34 -> HEA027 | B30: =[1]HEATER!B34 -> 228" USA Blower heater | D30: =[1]HEATER!$D34 -> 5.8 | E30: =[1]HEATER!J34 -> 257.47009
A31: =[1]HEATER!A35 -> HEA028 | B31: =[1]HEATER!B35 -> 236" USA Blower heater | D31: =[1]HEATER!$D35 -> 6 | E31: =[1]HEATER!J35 -> 275.06655
A32: =[1]HEATER!A36 -> HEA029 | B32: =[1]HEATER!B36 -> 243" USA Blower heater | D32: =[1]HEATER!$D36 -> 6.2 | E32: =[1]HEATER!J36 -> 283.93966
A33: =[1]HEATER!A37 -> HEA030 | B33: =[1]HEATER!B37 -> 251" USA Blower heater | D33: =[1]HEATER!$D37 -> 6.4 | E33: =[1]HEATER!J37 -> 292.81278 | G33: nt504,nt633
A34: =[1]HEATER!A38 -> HEA031 | B34: =[1]HEATER!B38 -> 258" USA Blower heater | D34: =[1]HEATER!$D38 -> 6.6 | E34: =[1]HEATER!J38 -> 301.68589
A35: =[1]HEATER!A39 -> HEA032 | B35: =[1]HEATER!B39 -> 266" USA Blower heater | D35: =[1]HEATER!$D39 -> 6.8 | E35: =[1]HEATER!J39 -> 310.55901 | G35: nte504
A36: =[1]HEATER!A40 -> HEA033 | B36: =[1]HEATER!B40 -> 279" USA Blower heater | D36: =[1]HEATER!$D40 -> 7.1 | E36: =[1]HEATER!J40 -> 325.34753 | G36: nte803
A37: =[1]HEATER!A41 -> HEA033.1 | B37: =[1]HEATER!B41 -> 180" heater (NT632)3ph | C37: 3ph blower heater | D37: =[1]HEATER!$D41 -> 4.57 | E37: =[1]HEATER!J41 -> 201.86335
A38: =[1]HEATER!A42 -> HEA033.2 | B38: =[1]HEATER!B42 -> 212" heater (NT503)3ph | D38: =[1]HEATER!$D42 -> 5.38 | E38: =[1]HEATER!J42 -> 226.26442
A39: =[1]HEATER!A43 -> HEA033.3 | B39: =[1]HEATER!B43 -> 260" heater (NT504,NT633)3ph | D39: =[1]HEATER!$D43 -> 6.6 | E39: =[1]HEATER!J43 -> 277.28483
A40: =[1]HEATER!A44 -> HEA034 | B40: =[1]HEATER!B44 -> SF-CD (5.5m/220w/240v) USA | C40: Coldroom door heater USA | D40: =[1]HEATER!$D44 -> 5.5m | E40: =[1]HEATER!J44 -> 40.562809
...

Sheet AC PARTS
A2: =HEATER!A2 -> DATE :28.9.26
A3: ITEM CODE | B3: AIR-COND PARTS | C3: ='[2]AC PARTS'!$C7 -> packing | D3: ='[2]AC PARTS'!$H$7 -> (RM)
A4: ='[1]AC PARTS'!A9 -> AC001 | B4: ='[1]AC PARTS'!$B9 -> 1 UF FAN CAPACITOR | D4: ='[1]AC PARTS'!H9 -> 1.863354
A5: ='[1]AC PARTS'!A10 -> AC002 | B5: ='[1]AC PARTS'!$B10 -> 1.2 UF FAN CAPACITOR | D5: ='[1]AC PARTS'!H10 -> 1.9047619
A6: ='[1]AC PARTS'!A11 -> AC003 | B6: ='[1]AC PARTS'!$B11 -> 1.5 UF FAN CAPACITOR | D6: ='[1]AC PARTS'!H11 -> 2.1118012
A7: ='[1]AC PARTS'!A12 -> AC004 | B7: ='[1]AC PARTS'!$B12 -> 1.75 UF FAN CAPACITOR | D7: ='[1]AC PARTS'!H12 -> 2.1808144
A8: ='[1]AC PARTS'!A13 -> AC005 | B8: ='[1]AC PARTS'!$B13 -> 2 UF FAN CAPACITOR | D8: ='[1]AC PARTS'!H13 -> 2.2360248
A9: ='[1]AC PARTS'!A14 -> AC006 | B9: ='[1]AC PARTS'!$B14 -> 2.5 UF FAN CAPACITOR | D9: ='[1]AC PARTS'!H14 -> 2.3878537
A10: ='[1]AC PARTS'!A15 -> AC007 | B10: ='[1]AC PARTS'!$B15 -> 3 UF FAN CAPACITOR | D10: ='[1]AC PARTS'!H15 -> 2.5258799
A11: ='[1]AC PARTS'!A16 -> AC008 | B11: ='[1]AC PARTS'!$B16 -> 3.5 UF FAN CAPACITOR | D11: ='[1]AC PARTS'!H16 -> 2.6501035
A12: ='[1]AC PARTS'!A17 -> AC009 | B12: ='[1]AC PARTS'!$B17 -> 4 UF FAN CAPACITOR | D12: ='[1]AC PARTS'!H17 -> 2.7329193
A13: ='[1]AC PARTS'!A18 -> AC010 | B13: ='[1]AC PARTS'!$B18 -> 4.5 UF FAN CAPACITOR | D13: ='[1]AC PARTS'!H18 -> 2.8709455
A14: ='[1]AC PARTS'!A19 -> AC010.1 | B14: ='[1]AC PARTS'!$B19 -> 5 UF FAN CAPACITOR | D14: ='[1]AC PARTS'!H19 -> 3.0365769
A15: ='[1]AC PARTS'!A20 -> AC010.2 | B15: ='[1]AC PARTS'!$B20 -> 6 UF FAN CAPACITOR | D15: ='[1]AC PARTS'!H20 -> 3.216011
... A167: ='[1]AC PARTS'!A172 -> 0 | B167: ='[1]AC PARTS'!$B172 -> 0 | D167: ='[1]AC PARTS'!H172 -> 0

Sheet RG TUBE
A2: ='AC PARTS'!A2 -> DATE :28.9.26
A3: ITEM CODE | B3: Model | C3: ='[2]RG TUBE'!$H$7 -> (RM) | D3: Picture
A4: ='[1]RG TUBE'!A8 -> RG001 | B4: ='[1]RG TUBE'!B8 -> RG-01FS STRAIGHT KIT SET (2.6mm) | C4: ='[1]RG TUBE'!$H8 -> 4.9689441
A5: ='[1]RG TUBE'!A9 -> RG001.1 | B5: ='[1]RG TUBE'!B9 -> RG-01FS STRAIGHT KIT c/w access (2.6mm) | C5: ='[1]RG TUBE'!$H9 -> 5.2612349
A6: ='[1]RG TUBE'!A10 -> RG001.2 | B6: ='[1]RG TUBE'!B10 -> JH-01TT copper coupling | C6: ='[1]RG TUBE'!$H10 -> 0.84033613
A7: ='[1]RG TUBE'!A11 -> RG002 | B7: ='[1]RG TUBE'!B11 -> RG-016T TEE KIT (2.6mm) | C7: ='[1]RG TUBE'!$H11 -> 5.8458166
A8: ='[1]RG TUBE'!A12 -> RG003 | B8: ='[1]RG TUBE'!B12 -> RG-01TN TEE KIT C/W NUT (2.6mm) | C8: ='[1]RG TUBE'!$H12 -> 7.8187797
A9: ='[1]RG TUBE'!A13 -> RG004 | B9: ='[1]RG TUBE'!B13 -> RG-01E ELBOW KIT c/w NUT (2.6mm) | C9: ='[1]RG TUBE'!$H13 -> 6.1381074
A10: ='[1]RG TUBE'!A14 -> RG005 | B10: ='[1]RG TUBE'!B14 -> RG-01FT FLEXIBLE TUBE /Meter (2.6mm) | C10: ='[1]RG TUBE'!$H14 -> 6.7226891
A11: ='[1]RG TUBE'!A15 -> RG006 | B11: ='[1]RG TUBE'!B15 -> RG-01H FLEXIBLE TUBE / ROLL 100METER (2.6mm) | C11: ='[1]RG TUBE'!$H15 -> 611.15355
A12: ='[1]RG TUBE'!A16 -> RG007 | B12: ='[1]RG TUBE'!B16 -> RG-01SS c/w 1m tube,2sets straight kit | C12: ='[1]RG TUBE'!$H16 -> 18.511753
A13: ='[1]RG TUBE'!A17 -> RG008 | B13: ='[1]RG TUBE'!B17 -> RG-01SE c/w 1m tube,straight kit,elbow kit. | C13: ='[1]RG TUBE'!$H17 -> 19.810823
A14: ='[1]RG TUBE'!A18 -> RG009 | B14: ='[1]RG TUBE'!B18 -> RKY-162-09 Crimping Tool | C14: ='[1]RG TUBE'!$H18 -> 235.89937
A15: ='[1]RG TUBE'!A19 -> RG010 | B15: ='[1]RG TUBE'!B19 -> RG-01CD Crimping Tool DIE | C15: ='[1]RG TUBE'!$H19 -> 94.645833
... A29: ='[1]RG TUBE'!A33 -> RG024 | B29: ='[1]RG TUBE'!B33 -> HYDRAULIC CRIMPING TOOLS ZCO-300B | C29: ='[1]RG TUBE'!$H33 -> 575.10927
A30: ='[1]RG TUBE'!#REF! -> #REF! | B30: ='[1]RG TUBE'!#REF! -> #REF! | C30: ='[1]RG TUBE'!#REF! -> #REF!

Sheet Suniso
A2: ='RG TUBE'!A2 -> DATE :28.9.26
A3: ITEM CODE | B3: SPECIFICATIONS | C3: USAGE | D3: =[2]Suniso!$J$7 -> (RM) | E3: Picture
A4: =[1]Suniso!$A8 -> SU001 | B4: =[1]Suniso!B8 -> SUNISO OIL SL 32 X 4 LITRES | C4: =[1]Suniso!C8 -> for -15c ~ -40c (freezer) r 134a,r404a,r507c | D4: =[1]Suniso!I8 -> ~
A5: =[1]Suniso!$A9 -> SU002 | B5: =[1]Suniso!B9 -> SUNISO OIL SL 68 X 4 LITRES | C5: =[1]Suniso!C9 -> for 0c(chiller) r 134a,r404a,r507c,r410a | D5: =[1]Suniso!I9 -> ~
A6: =[1]Suniso!$A10 -> SU003 | B6: =[1]Suniso!B10 -> SUNISO OIL SL 100 X 4 LITRES | C6: =[1]Suniso!C10 -> for screw compressor low temp r22 | D6: =[1]Suniso!I10 -> 297.02517
A7: =[1]Suniso!$A11 -> SU004 | B7: =[1]Suniso!B11 -> SUNISO OIL SL 170 X 4 LITRES | C7: =[1]Suniso!C11 -> for screw compressor low temp r507 | D7: =[1]Suniso!I11 -> 397.42857
A8: =[1]Suniso!$A12 -> SU005 | B8: =[1]Suniso!B12 -> 3GS X 1GAL SUNISO OIL | C8: =[1]Suniso!C12 -> for -25c ~ -40c (freezer) r22 | D8: =[1]Suniso!I12 -> ~
A9: =[1]Suniso!$A13 -> SU008 | B9: =[1]Suniso!B13 -> 4GS X 1GAL SUNISO OIL | C9: =[1]Suniso!C13 -> for 0c(chiller) r22 | D9: =[1]Suniso!I13 -> ~
A10: =[1]Suniso!$A14 -> SU009 | B10: =[1]Suniso!B14 -> SUNICE OIL SL 32 X 200 LITRES | C10: =[1]Suniso!C14 -> for -15c ~ -40c (freezer) r 134a,r404a,r507c | D10: =[1]Suniso!I14 -> 14285.714
A11: =[1]Suniso!$A15 -> SU009.1 | B11: =[1]Suniso!B15 -> SUNICE OIL SL 68 X 200 LITRES | C11: =[1]Suniso!C15 -> for 0c(chiller) r 134a,r404a,r507c | D11: =[1]Suniso!I15 -> 14285.714
A12: =[1]Suniso!$A16 -> SU010 | B12: =[1]Suniso!B16 -> Vacuum pump oil 1 litre | C12: =[1]Suniso!C16 -> vaccum pump use | D12: =[1]Suniso!I16 -> 25.877193
A13: =[1]Suniso!$A17 -> SU011 | B13: =[1]Suniso!B17 -> Vacuum pump oil 5 litre | C13: =[1]Suniso!C17 -> vaccum pump use | D13: =[1]Suniso!I17 -> 113.85965
A14: =[1]Suniso!$A18 -> SU012 | B14: =[1]Suniso!B18 -> SUNICE OIL SL 32 X 4 LITRES | C14: =[1]Suniso!C18 -> for -15c ~ -40c (freezer) r 134a,r404a,r507c | D14: =[1]Suniso!I18 -> 311.71429
A15: =[1]Suniso!$A19 -> SU013 | B15: =[1]Suniso!B19 -> SUNICE OIL SL 68 X 4 LITRES | C15: =[1]Suniso!C19 -> for 0c(chiller) r 134a,r404a,r507c | D15: =[1]Suniso!I19 -> 311.71429
A16: =[1]Suniso!$A20 -> SU014 | B16: =[1]Suniso!B20 -> SUNICE OIL SL 100 X 4 LITRES | C16: =[1]Suniso!C20 -> for screw compressor low temp | D16: =[1]Suniso!I20 -> ~
A17: =[1]Suniso!$A22 -> SU015.3 | B17: =[1]Suniso!B22 -> SUNOCO OIL PV100 X 1 LITRE | C17: =[1]Suniso!C22 -> for car ac r134a | D17: =[1]Suniso!I22 -> 42.857143
A18: =[1]Suniso!$A23 -> SU016 | B18: =[1]Suniso!B23 -> 3GS X 4LIT SUNOCO OIL | C18: =[1]Suniso!C23 -> for -25c ~ -40c (freezer) r22 | D18: =[1]Suniso!I23 -> 110.28571
A19: =[1]Suniso!$A24 -> SU017.1 | B19: =[1]Suniso!B24 -> 3GS X 205LITS SUNISO OIL | C19: =[1]Suniso!C24 -> for -25c ~ -40c (freezer) r22 | D19: =[1]Suniso!I24 -> ~
A20: =[1]Suniso!$A25 -> SU019 | B20: =[1]Suniso!B25 -> 4GS X 4LIT SUNOCO OIL | C20: =[1]Suniso!C25 -> for 0c(chiller) r23 | D20: =[1]Suniso!I25 -> 110.28571
A21: =[1]Suniso!$A26 -> SU019.1 | B21: =[1]Suniso!B26 -> 4GS X 205LITS SUNISO OIL | C21: =[1]Suniso!C26 -> for 0c(chiller) r24 | D21: =[1]Suniso!I26 -> ~
A22: =[1]Suniso!$A27 -> SU020 | B22: =[1]Suniso!B27 -> PCO-01 | C22: =[1]Suniso!C27 -> Oil charging pump (50ml ,200psi) | D22: =[1]Suniso!I27 -> 250.00856
A23: =[1]Suniso!$A28 -> SU021 | B23: =[1]Suniso!B28 -> PCO-02 | C23: =[1]Suniso!C28 -> Oil charging pump (75ml ,250psi) foot stand type | D23: =[1]Suniso!I28 -> 456.72941
A24: =[1]Suniso!$A29 -> SU022 | B24: =[1]Suniso!B29 -> PCO-4 | C24: =[1]Suniso!C29 -> Electric Oil charging pump | D24: =[1]Suniso!I29 -> 1012.2549
A25: =[1]Suniso!$A30 -> SU023 | B25: =[1]Suniso!B30 -> PCV-2 VACUUM PUMP 1.5cfm | C25: =[1]Suniso!C30 -> 1.5cfm | D25: =[1]Suniso!I30 -> 228.57742
A26: =[1]Suniso!$A31 -> SU024 | B26: =[1]Suniso!B31 -> PCV-4 VACUUM PUMP 3cfm | C26: =[1]Suniso!C31 -> 3cfm | D26: =[1]Suniso!I31 -> 376.64839
A27: =[1]Suniso!$A32 -> SU025 | B27: =[1]Suniso!B32 -> PCV-6 VACUUM PUMP 4.5cfm | C27: =[1]Suniso!C32 -> 4.5cfm | D27: =[1]Suniso!I32 -> 437.45222
A28: =[1]Suniso!$A33 -> SU026 | B28: =[1]Suniso!B33 -> PCV-8 VACUUM PUMP 6.5cfm | C28: =[1]Suniso!C33 -> 6.5cfm | D28: =[1]Suniso!I33 -> 555.89094
... A32: =[1]Suniso!$A37 -> SU034 | B32: =[1]Suniso!B37 -> 2PCV-12 VACUUM PUMP 10cfm 2stage | C32: =[1]Suniso!C37 -> 1hp | D32: =[1]Suniso!I37 -> 939.87504
A33: PRICE VALID : For intend order only and ex-factory at K.L price
A34: *PRICE WILL BE CHANGE ON THE FINAL PAYMENT DUE TO THE CURRENCY RATE
A35: *PLEASE EMAIL OR FAX OVER THE BANK IN SLIP
A36: BANK ACC :HONG LEONG BANK BHD 36600016285 , PUBLIC BANK BHD 3119617816
A37: BENEFICIARY :WELLER AIR-COND PARTS ENTERPRICE SDN BHD
A38: COMPUTER PRINT GENERATE ONLY

Sheet Strip curtain
A2: =Elitech!A2 -> DATE :28.9.26
A3: ITEM CODE | B3: MODEL | C3: APPLICATION | D3: SIZE | E3: ='[2]Strip curtain'!$K$7 -> (RM) | F3: PICTURE
A4: ='[1]Strip curtain'!$A8 -> PVC001 | B4: ='[1]Strip curtain'!B8 -> POLAR CLEAR CURTAIN STRIP (FREEZER) 8" X 50M X 2MM | C4: ='[1]Strip curtain'!C8 -> -40C to +50C | D4: ='[1]Strip curtain'!D8 -> 200MM*2MM*50M | E4: ='[1]Strip curtain'!K8 -> 267.22618
A5: ='[1]Strip curtain'!$A9 -> PVC002 | B5: ='[1]Strip curtain'!B9 -> STANDARD CLEAR CURTAIN STRIP (CHILLER) 8" X 50M X 2MM | C5: ='[1]Strip curtain'!C9 -> -15C to +50C | D5: ='[1]Strip curtain'!D9 -> 200MM*2MM*50M | E5: ='[1]Strip curtain'!K9 -> 243.98912
A6: ='[1]Strip curtain'!$A10 -> PVC003 | B6: ='[1]Strip curtain'!B10 -> POLAR RIBBED CURTAIN STRIP (FREZZER) 8" X 50M X 2MM | C6: ='[1]Strip curtain'!C10 -> -40C to +50C | D6: ='[1]Strip curtain'!D10 -> 200MM*2MM*50M | E6: ='[1]Strip curtain'!K10 -> 278.84471
A7: ='[1]Strip curtain'!$A11 -> PVC004 | B7: ='[1]Strip curtain'!B11 -> ANTI INSECT RIBBED ORANGE CURTAIN STRIP (CHILLER) 8" X 50M X 2MM | C7: ='[1]Strip curtain'!C11 -> -15C to +50C | D7: ='[1]Strip curtain'!D11 -> 200MM*2MM*50M | E7: ='[1]Strip curtain'!K11 -> 256.12403
A8: ='[1]Strip curtain'!$A12 -> PVC005 | B8: ='[1]Strip curtain'!B12 -> ANTI INSECT ORANGE CURTAIN STRIP (CHILLER) 8" X 50M X 2MM | C8: ='[1]Strip curtain'!C12 -> -15C to +50C | D8: ='[1]Strip curtain'!D12 -> 200MM*2MM*50M | E8: ='[1]Strip curtain'!K12 -> 256.12403
A9: ='[1]Strip curtain'!$A13 -> PVC005.1 | B9: ='[1]Strip curtain'!B13 -> BLACK CURTAIN STRIP (CHILLER) 8" X 50M X 2MM | C9: ='[1]Strip curtain'!C13 -> -15C to +50C | D9: ='[1]Strip curtain'!D13 -> 200MM*2MM*50M | E9: ='[1]Strip curtain'!K13 -> 256.12403
A10: ='[1]Strip curtain'!$A14 -> PVC006 | B10: ='[1]Strip curtain'!B14 -> STANDARD CLEAR CURTAIN STRIP (FREEZER) 12" X 50M X 3MM | C10: ='[1]Strip curtain'!C14 -> -40C to +50C | D10: ='[1]Strip curtain'!D14 -> 300MM*3MM*50M | E10: ='[1]Strip curtain'!K14 -> 608.29457
A11: ='[1]Strip curtain'!$A15 -> PVC007 | B11: ='[1]Strip curtain'!B15 -> POLAR RIBBED CURTAIN STRIP (FREZZER) 12" X 50M X 3MM | C11: ='[1]Strip curtain'!C15 -> -40C to +50C | D11: ='[1]Strip curtain'!D15 -> 300MM*3MM*50M | E11: ='[1]Strip curtain'!K15 -> 608.29457
A12: ='[1]Strip curtain'!$A17 -> PVC007.1 | B12: ='[1]Strip curtain'!B17 -> MAGNETIC CURTAIN 12" X 50M X 2MM | C12: ='[1]Strip curtain'!C17 -> 0 | D12: ='[1]Strip curtain'!D17 -> 0 | E12: ='[1]Strip curtain'!K17 -> ~
A13: ='[1]Strip curtain'!$A18 -> PVC007.2 | B13: ='[1]Strip curtain'!B18 -> MAGNETIC CURTAIN 16" X 50M X 2MM | C13: ='[1]Strip curtain'!C18 -> 0 | D13: ='[1]Strip curtain'!D18 -> 0 | E13: ='[1]Strip curtain'!K18 -> ~
A14: ='[1]Strip curtain'!$A19 -> PVC007.3 | B14: ='[1]Strip curtain'!B19 -> MAGNETIC CURTAIN 18" X 50M X 2MM | C14: ='[1]Strip curtain'!C19 -> 0 | D14: ='[1]Strip curtain'!D19 -> 0 | E14: ='[1]Strip curtain'!K19 -> ~
A15: ='[1]Strip curtain'!$A20 -> PVC007.4 | B15: ='[1]Strip curtain'!B20 -> RUBBER (A) SHEET 2mm*100mm*1m | C15: ='[1]Strip curtain'!C20 -> 0 | D15: ='[1]Strip curtain'!D20 -> 0 | E15: ='[1]Strip curtain'!K20 -> ~
A16: ='[1]Strip curtain'!$A21 -> PVC007.5 | B16: ='[1]Strip curtain'!B21 -> RUBBER (B) SHEET 2mm*200mm*1m | C16: ='[1]Strip curtain'!C21 -> 0 | D16: ='[1]Strip curtain'!D21 -> 0 | E16: ='[1]Strip curtain'!K21 -> ~
A17: ='[1]Strip curtain'!$A22 -> PVC007.6 | B17: ='[1]Strip curtain'!B22 -> MAGNET BRACKET HANGER 1M | C17: ='[1]Strip curtain'!C22 -> 0 | D17: ='[1]Strip curtain'!D22 -> 0 | E17: ='[1]Strip curtain'!K22 -> ~
A18: ='[1]Strip curtain'!$A23 -> PVC007.7 | B18: ='[1]Strip curtain'!B23 -> PVC STRIP CURTAIN 10mm*1.1m*12m | C18: ='[1]Strip curtain'!C23 -> 0 | D18: ='[1]Strip curtain'!D23 -> 0 | E18: ='[1]Strip curtain'!K23 -> 3020.8177
A19: ='[1]Strip curtain'!$A24 -> PVC007.8 | B19: ='[1]Strip curtain'!B24 -> Protection film 1.2m*500m*0.05mm | C19: ='[1]Strip curtain'!C24 -> 0 | D19: ='[1]Strip curtain'!D24 -> 0 | E19: ='[1]Strip curtain'!K24 -> 652.03339
A20: ='[1]Strip curtain'!$A25 -> PVC008 | B20: ='[1]Strip curtain'!B25 -> S/S HANGER(1mm thickness x 1m) C/W NUTS | C20: ='[1]Strip curtain'!C25 -> 6SETS CLIPS (200MM) | D20: ='[1]Strip curtain'!D25 -> 1MM thick x 1M | E20: ='[1]Strip curtain'!K25 -> 49.56
A21: ='[1]Strip curtain'!$A26 -> PVC009 | B21: ='[1]Strip curtain'!B26 -> S/S HANGER(1mm thickness x 1.2m) C/W NUTS | C21: ='[1]Strip curtain'!C26 -> 7SETS CLIPS (200MM) | D21: ='[1]Strip curtain'!D26 -> 1MM thick x 1.2M | E21: ='[1]Strip curtain'!K26 -> 55.066667
A22: ='[1]Strip curtain'!$A27 -> PVC010 | B22: ='[1]Strip curtain'!B27 -> S/Stell CLIPS (per pair) (150MM ) | C22: ='[1]Strip curtain'!C27 -> 0 | D22: ='[1]Strip curtain'!D27 -> 0 | E22: ='[1]Strip curtain'!K27 -> 4.5888889
A23: ='[1]Strip curtain'!$A28 -> PVC011 | B23: ='[1]Strip curtain'!B28 -> S/Stell CLIPS (per pair) (200MM) | C23: ='[1]Strip curtain'!C28 -> 0 | D23: ='[1]Strip curtain'!D28 -> 0 | E23: ='[1]Strip curtain'!K28 -> 5.546
... A38: ='[1]Strip curtain'!$A43 -> PVC025 | B38: ='[1]Strip curtain'!B43 -> TURNBUCKLE M12 | C38: ='[1]Strip curtain'!C43 -> 0 | D38: ='[1]Strip curtain'!D43 -> 0 | E38: ='[1]Strip curtain'!K43 -> 4.2369122
A39: ='[1]Strip curtain'!$A45 -> PVC025.1 | B39: ='[1]Strip curtain'!B45 -> 150MM * 80MM (M12) 2"-3" PU PANEL HANGER MUSHROOM | C39: ='[1]Strip curtain'!C45 -> 2"~3" PU PANEL | D39: ='[1]Strip curtain'!D45 -> 0 | E39: ='[1]Strip curtain'!K45 -> 8.6358654
A40: ='[1]Strip curtain'!$A46 -> PVC025.2 | B40: ='[1]Strip curtain'!B46 -> 200MM * 80MM (M12) 4"-6" PU PANEL HANGER MUSHROOM | C40: ='[1]Strip curtain'!C46 -> 4"~6" PU PANEL | D40: ='[1]Strip curtain'!D46 -> 0 | E40: ='[1]Strip curtain'!K46 -> 10.230179
A41: ='[1]Strip curtain'!$A47 -> PVC025.3 | B41: ='[1]Strip curtain'!B47 -> 180MM HOOK HEAD MUSHROOM | C41: ='[1]Strip curtain'!C47 -> FOR ALUMINIUM COOLING COIL | D41: ='[1]Strip curtain'!D47 -> 0 | E41: ='[1]Strip curtain'!K47 -> 7.3072707
A42: ='[1]Strip curtain'!$A48 -> PVC025.4 | B42: ='[1]Strip curtain'!B48 -> 260MM HOOK HEAD MUSHROOM | C42: ='[1]Strip curtain'!C48 -> 0 | D42: ='[1]Strip curtain'!D48 -> 0 | E42: ='[1]Strip curtain'!K48 -> 8.0379978
A43: ='[1]Strip curtain'!$A49 -> PVC026 | B43: ='[1]Strip curtain'!B49 -> 140MM BLOWER HANGER S/STEEL 3" | C43: ='[1]Strip curtain'!C49 -> 0 | D43: ='[1]Strip curtain'!D49 -> 0 | E43: ='[1]Strip curtain'!K49 -> 8.7687249
A44: ='[1]Strip curtain'!$A50 -> PVC027 | B44: ='[1]Strip curtain'!B50 -> 170MM (M10) BLOWER HANGER S/STEEL 2"~4" | C44: ='[1]Strip curtain'!C50 -> 0 | D44: ='[1]Strip curtain'!D50 -> 0 | E44: ='[1]Strip curtain'!K50 -> 10.647737
A45: ='[1]Strip curtain'!$A51 -> PVC028 | B45: ='[1]Strip curtain'!B51 -> 200MM (M10) BLOWER HANGER S/STEEL 5~6" | C45: ='[1]Strip curtain'!C51 -> 0 | D45: ='[1]Strip curtain'!D51 -> 0 | E45: ='[1]Strip curtain'!K51 -> 12.012832
A46: ='[1]Strip curtain'!#REF! -> #REF! | B46: ='[1]Strip curtain'!#REF! -> #REF! | C46: ='[1]Strip curtain'!#REF! -> #REF! | D46: ='[1]Strip curtain'!#REF! -> #REF! | E46: ='[1]Strip curtain'!#REF! -> #REF!
A47: ='[1]Strip curtain'!#REF! -> #REF! | B47: ='[1]Strip curtain'!#REF! -> #REF! | C47: ='[1]Strip curtain'!#REF! -> #REF! | D47: ='[1]Strip curtain'!#REF! -> #REF! | E47: ='[1]Strip curtain'!#REF! -> #REF!
A48: ='[1]Strip curtain'!#REF! -> #REF! | B48: ='[1]Strip curtain'!#REF! -> #REF! | C48: ='[1]Strip curtain'!#REF! -> #REF! | D48: ='[1]Strip curtain'!#REF! -> #REF! | E48: ='[1]Strip curtain'!#REF! -> #REF!
A49: ='[1]Strip curtain'!#REF! -> #REF! | B49: ='[1]Strip curtain'!#REF! -> #REF! | C49: ='[1]Strip curtain'!#REF! -> #REF! | D49: ='[1]Strip curtain'!#REF! -> #REF! | E49: ='[1]Strip curtain'!#REF! -> #REF!
A50: ='[1]Strip curtain'!#REF! -> #REF! | B50: ='[1]Strip curtain'!#REF! -> #REF! | C50: ='[1]Strip curtain'!#REF! -> #REF! | D50: ='[1]Strip curtain'!#REF! -> #REF! | E50: ='[1]Strip curtain'!#REF! -> #REF!
A51: ='[1]Strip curtain'!#REF! -> #REF! | B51: ='[1]Strip curtain'!#REF! -> #REF! | C51: ='[1]Strip curtain'!#REF! -> #REF! | D51: ='[1]Strip curtain'!#REF! -> #REF! | E51: ='[1]Strip curtain'!#REF! -> #REF!
A52: ='[1]Strip curtain'!#REF! -> #REF! | B52: ='[1]Strip curtain'!#REF! -> #REF! | C52: ='[1]Strip curtain'!#REF! -> #REF! | D52: ='[1]Strip curtain'!#REF! -> #REF! | E52: ='[1]Strip curtain'!#REF! -> #REF!
A53: ='[1]Strip curtain'!#REF! -> #REF! | B53: ='[1]Strip curtain'!#REF! -> #REF! | C53: ='[1]Strip curtain'!#REF! -> #REF! | D53: ='[1]Strip curtain'!#REF! -> #REF! | E53: ='[1]Strip curtain'!#REF! -> #REF!
A54: ='[1]Strip curtain'!#REF! -> #REF! | B54: ='[1]Strip curtain'!#REF! -> #REF! | C54: ='[1]Strip curtain'!#REF! -> #REF! | D54: ='[1]Strip curtain'!#REF! -> #REF! | E54: ='[1]Strip curtain'!#REF! -> #REF!
A55: ='[1]Strip curtain'!#REF! -> #REF! | B55: ='[1]Strip curtain'!#REF! -> #REF! | C55: ='[1]Strip curtain'!#REF! -> #REF! | D55: ='[1]Strip curtain'!#REF! -> #REF! | E55: ='[1]Strip curtain'!#REF! -> #REF!
...

Sheet LED
A2: ='Strip curtain'!A2 -> DATE :28.9.26
A3: Item code | B3: Model | C3: Description | D3: Material / Qty / Ctn | E3: Size | F3: =[2]LED!$P$7 -> (RM) | G3: Photo
A4: =[1]LED!$A9 -> LED001.3 | B4: =[1]LED!B9 -> 10W Cold Room LED | F4: =[1]LED!J9 -> 20.460358
A5: =[1]LED!$A10 -> LED001.4 | B5: =[1]LED!B10 -> 20W Cold Room LED | E5: 180*180*75mm | F5: =[1]LED!J10 -> 38.058702
A6: =[1]LED!$A11 -> LED001.6 | B6: =[1]LED!B11 -> 30W Cold Room LED | E6: 270*170*46mm | F6: =[1]LED!J11 -> 73.072707
A7: =[1]LED!$A12 -> LED001.7 | B7: =[1]LED!B12 -> 40W Cold Room LED | E7: 270*170*46mm | F7: =[1]LED!J12 -> 87.687249
A8: =[1]LED!$A13 -> LED001.8 | B8: =[1]LED!B13 -> 55W Cold Room LED | E8: 320*200*42mm | F8: =[1]LED!J13 -> 131.53087
A9: =[1]LED!$A14 -> LED003 | B9: =[1]LED!B14 -> Led IP67-50W | C9: Ip67 led flood light, AC90-265V, 50W | D9: 6m height 120pcs led | E9: 190*220*35mm(30m2) | F9: =[1]LED!J14 -> 93.001628
A10: =[1]LED!$A15 -> LED004 | B10: =[1]LED!B15 -> Led IP67-100W | C10: Ip67 led flood light, 6500k, 100W | D10: 8m height 240pcs led | E10: 240*280*43mm(40m2) | F10: =[1]LED!J15 -> 132.85947
A11: =[1]LED!$A16 -> LED005 | B11: =[1]LED!B16 -> Led IP67-150W | C11: Ip67 led flood light, 6500k, 101W | D11: 10m height 360pcs led | E11: 270*315*48mm(50m2) | F11: =[1]LED!J16 -> 232.50407
A12: =[1]LED!$A17 -> LED006 | B12: =[1]LED!B17 -> Led IP67-200W | C12: Ip67 led flood light, AC90-265V, 151W | D12: 12m height 480pcs led | E12: 296*345*46mm(60m2) | F12: =[1]LED!J17 -> 288.0751
A13: =[1]LED!$A18 -> LED006.01 | B13: =[1]LED!B18 -> High shed light 100W | C13: ip66 ,6500k,100w | D13: 10m height,240pcs led | E13: 290*151mm | F13: =[1]LED!J18 -> 252.43299
A14: =[1]LED!$A19 -> LED006.02 | B14: =[1]LED!B19 -> High shed light 150W | C14: ip66 ,6500k,150w | D14: 15m height,360pcs led | E14: 332*151mm | F14: =[1]LED!J19 -> 372.00651
A15: =[1]LED!$A20 -> LED006.03 | B15: =[1]LED!B20 -> High shed light 200W | C15: ip66 ,6500k,200w | D15: 20m height,480pcs led | E15: 380*165mm | F15: =[1]LED!J20 -> 465.00814
A16: =[1]LED!$A21 -> LED007 | B16: =[1]LED!B21 -> COLD STORAGE ALARM | D16: 6W | E16: 600(L)*19.5(W)*13.5(H)mm | F16: =[1]LED!J21 -> 113.66866
A17: =[1]LED!#REF! -> #REF! | B17: =[1]LED!#REF! -> #REF! | C17: 220v转380v变频电控箱 | F17: =[1]LED!#REF! -> #REF!
A18: =[1]LED!#REF! -> #REF! | B18: =[1]LED!#REF! -> #REF! | C18: 220v转380v变频电控箱 | F18: =[1]LED!#REF! -> #REF!
A19: =[1]LED!#REF! -> #REF! | B19: =[1]LED!#REF! -> #REF! | F19: =[1]LED!#REF! -> #REF!
A20: =[1]LED!#REF! -> #REF! | B20: =[1]LED!#REF! -> #REF! | F20: =[1]LED!#REF! -> #REF!
A21: =[1]LED!$A22 -> LED010 | B21: =[1]LED!B22 -> 净化车间专用灯 | C21: 220V不防水款 | F21: =[1]LED!J22 -> 94.99452
A22: =[1]LED!$A23 -> LED011 | B22: =[1]LED!B23 -> 净化车间专用灯 | C22: 220v防水款 | F22: =[1]LED!J23 -> 124.2236
A23: =[1]LED!$A24 -> LED012 | B23: =[1]LED!B24 -> ZKLED-EX-530 | C23: 36W | F23: =[1]LED!J24 -> 0
A24: =[1]LED!$A25 -> LED013 | B24: =[1]LED!B25 -> ZKLED-EX-550 | C24: 50W | F24: =[1]LED!J25 -> 0
A25: =[1]LED!$A26 -> LED014 | B25: =[1]LED!B26 -> ZKLED-EX-540 | C25: 40W | F25: =[1]LED!J26 -> 62.633749
A26: =[1]LED!$A27 -> LED015 | B26: =[1]LED!B27 -> ZKLED-EX-560 | C26: 60W | F26: =[1]LED!J27 -> 109.60906
A27: =[1]LED!$A28 -> LED016 | B27: =[1]LED!B28 -> ZKLED-EX-524 | C27: 24W | F27: =[1]LED!J28 -> 0
A28: =[1]LED!$A29 -> LED017 | B28: =[1]LED!B29 -> ZKLED-EX-536 | C28: 36W | F28: =[1]LED!J29 -> 0
A29: BANK ACC :HONG LEONG BANK BHD 36600016285 , PUBLIC BANK BHD 3119617816
A30: BENEFICIARY :WELLER AIR-COND PARTS ENTERPRICE SDN BHD

Sheet pipe clamps
A6: =LED!A2 -> DATE :28.9.26
A7: ITEM | B7: SIZE OD | C7: Pipe OD (mm) | D7: Description | E7: ='[2]pipe clamps'!$J$7 -> (RM) | F7: Product Pictures
A8: ='[1]pipe clamps'!A9 -> PC001 | B8: ='[1]pipe clamps'!B9 -> 1/4" | C8: ='[1]pipe clamps'!C9 -> 6.4 | D8: Light pipe clamps (welding base) | E8: ='[1]pipe clamps'!K9 -> 3.5042424
A9: ='[1]pipe clamps'!A10 -> PC002 | B9: ='[1]pipe clamps'!B10 -> 3/8" | C9: ='[1]pipe clamps'!C10 -> 9.5 | E9: ='[1]pipe clamps'!K10 -> 3.5042424
A10: ='[1]pipe clamps'!A11 -> PC003 | B10: ='[1]pipe clamps'!B11 -> 1/2" | C10: ='[1]pipe clamps'!C11 -> 12.7 | E10: ='[1]pipe clamps'!K11 -> 4.3385859
A11: ='[1]pipe clamps'!A12 -> PC004 | B11: ='[1]pipe clamps'!B12 -> 5/8" | C11: ='[1]pipe clamps'!C12 -> 16 | E11: ='[1]pipe clamps'!K12 -> 4.3385859
A12: ='[1]pipe clamps'!A13 -> PC005 | B12: ='[1]pipe clamps'!B13 -> 3/4" | C12: ='[1]pipe clamps'!C13 -> 19 | E12: ='[1]pipe clamps'!K13 -> 5.2563636
A13: ='[1]pipe clamps'!A14 -> PC006 | B13: ='[1]pipe clamps'!B14 -> 7/8" | C13: ='[1]pipe clamps'!C14 -> 22 | E13: ='[1]pipe clamps'!K14 -> 5.2563636
A14: ='[1]pipe clamps'!A15 -> PC007 | B14: ='[1]pipe clamps'!B15 -> 1 1/8" | C14: ='[1]pipe clamps'!C15 -> 28 | E14: ='[1]pipe clamps'!K15 -> 6.2575758
A15: ='[1]pipe clamps'!A16 -> PC008 | B15: ='[1]pipe clamps'!B16 -> 1 3/8" | C15: ='[1]pipe clamps'!C16 -> 35 | E15: ='[1]pipe clamps'!K16 -> 7.8428283
A16: ='[1]pipe clamps'!A17 -> PC009 | B16: ='[1]pipe clamps'!B17 -> 1 5/8" | C16: ='[1]pipe clamps'!C17 -> 42 | E16: ='[1]pipe clamps'!K17 -> 7.8428283
A17: ='[1]pipe clamps'!A18 -> PC010 | B17: ='[1]pipe clamps'!B18 -> 2 1/8" | C17: ='[1]pipe clamps'!C18 -> 55 | E17: ='[1]pipe clamps'!K18 -> 13.349495
A18: ='[1]pipe clamps'!A19 -> PC011 | B18: ='[1]pipe clamps'!B19 -> 2 5/8" | C18: ='[1]pipe clamps'!C19 -> 70 | E18: ='[1]pipe clamps'!K19 -> 13.349495
A19: ='[1]pipe clamps'!A20 -> PC012 | B19: ='[1]pipe clamps'!B20 -> 3 1/8" | C19: ='[1]pipe clamps'!C20 -> 80 | E19: ='[1]pipe clamps'!K20 -> 17.521212
A20: ='[1]pipe clamps'!A21 -> PC013 | B20: ='[1]pipe clamps'!B21 -> 1/4" | C20: ='[1]pipe clamps'!C21 -> 6.4 | D20: Light pipe clamps with long base and nut M6 | E20: ='[1]pipe clamps'!K21 -> 4.1717172
A21: ='[1]pipe clamps'!A22 -> PC014 | B21: ='[1]pipe clamps'!B22 -> 3/8" | C21: ='[1]pipe clamps'!C22 -> 9.5 | E21: ='[1]pipe clamps'!K22 -> 4.0882828
A22: ='[1]pipe clamps'!A23 -> PC015 | B22: ='[1]pipe clamps'!B23 -> 1/2" | C22: ='[1]pipe clamps'!C23 -> 12.7 | E22: ='[1]pipe clamps'!K23 -> 4.0882828
A23: ='[1]pipe clamps'!A24 -> PC016 | B23: ='[1]pipe clamps'!B24 -> 5/8" | C23: ='[1]pipe clamps'!C24 -> 16 | E23: ='[1]pipe clamps'!K24 -> 5.723596
A24: ='[1]pipe clamps'!A25 -> PC017 | B24: ='[1]pipe clamps'!B25 -> 3/4" | C24: ='[1]pipe clamps'!C25 -> 19 | E24: ='[1]pipe clamps'!K25 -> 6.549596
A25: ='[1]pipe clamps'!A26 -> PC018 | B25: ='[1]pipe clamps'!B26 -> 7/8" | C25: ='[1]pipe clamps'!C26 -> 22 | E25: ='[1]pipe clamps'!K26 -> 6.549596
A26: ='[1]pipe clamps'!A27 -> PC019 | B26: ='[1]pipe clamps'!B27 -> 1 1/8" | C26: ='[1]pipe clamps'!C27 -> 28 | E26: ='[1]pipe clamps'!K27 -> 7.3422222
A27: ='[1]pipe clamps'!A28 -> PC020 | B27: ='[1]pipe clamps'!B28 -> 1 3/8" | C27: ='[1]pipe clamps'!C28 -> 35 | E27: ='[1]pipe clamps'!K28 -> 8.9942222
A28: ='[1]pipe clamps'!A29 -> PC021 | B28: ='[1]pipe clamps'!B29 -> 1 5/8" | C28: ='[1]pipe clamps'!C29 -> 42 | E28: ='[1]pipe clamps'!K29 -> 8.9942222
A29: ='[1]pipe clamps'!A30 -> PC022 | B29: ='[1]pipe clamps'!B30 -> 2 1/8" | C29: ='[1]pipe clamps'!C30 -> 55 | E29: ='[1]pipe clamps'!K30 -> 14.183838
A30: ='[1]pipe clamps'!A31 -> PC023 | B30: ='[1]pipe clamps'!B31 -> 2 5/8" | C30: ='[1]pipe clamps'!C31 -> 70 | E30: ='[1]pipe clamps'!K31 -> 17.521212
A31: ='[1]pipe clamps'!A32 -> PC024 | B31: ='[1]pipe clamps'!B32 -> 3 1/8" | C31: ='[1]pipe clamps'!C32 -> 80 | E31: ='[1]pipe clamps'!K32 -> 22.527273
A32: ='[1]pipe clamps'!A33 -> PC19 | B32: ='[1]pipe clamps'!B33 -> 3/8" | C32: ='[1]pipe clamps'!C33 -> 9.5 | D32: Heavy pipe clamps (welding base) | E32: ='[1]pipe clamps'!K33 -> 6.6747475
A33: ='[1]pipe clamps'!A34 -> PC20 | B33: ='[1]pipe clamps'!B34 -> 1/2" | C33: ='[1]pipe clamps'!C34 -> 12.7 | E33: ='[1]pipe clamps'!K34 -> 6.6747475
A34: ='[1]pipe clamps'!A35 -> PC21 | B34: ='[1]pipe clamps'!B35 -> 5/8" | C34: ='[1]pipe clamps'!C35 -> 16 | E34: ='[1]pipe clamps'!K35 -> 6.6747475
A35: ='[1]pipe clamps'!A36 -> PC22 | B35: ='[1]pipe clamps'!B36 -> 3/4" | C35: ='[1]pipe clamps'!C36 -> 19 | E35: ='[1]pipe clamps'!K36 -> 10.012121
A36: ='[1]pipe clamps'!A37 -> PC23 | B36: ='[1]pipe clamps'!B37 -> 7/8" | C36: ='[1]pipe clamps'!C37 -> 22 | E36: ='[1]pipe clamps'!K37 -> 9.8452525
A37: ='[1]pipe clamps'!A38 -> PC24 | B37: ='[1]pipe clamps'!B38 -> 1 1/8" | C37: ='[1]pipe clamps'!C38 -> 28 | E37: ='[1]pipe clamps'!K38 -> 9.8452525
A38: ='[1]pipe clamps'!A39 -> PC25 | B38: ='[1]pipe clamps'!B39 -> 1 3/8" | C38: ='[1]pipe clamps'!C39 -> 35 | E38: ='[1]pipe clamps'!K39 -> 11.513939
A39: ='[1]pipe clamps'!A40 -> PC26 | B39: ='[1]pipe clamps'!B40 -> 1 5/8" | C39: ='[1]pipe clamps'!C40 -> 42 | E39: ='[1]pipe clamps'!K40 -> 11.513939
A40: ='[1]pipe clamps'!A41 -> PC27 | B40: ='[1]pipe clamps'!B41 -> 2 1/8" | C40: ='[1]pipe clamps'!C41 -> 55 | E40: ='[1]pipe clamps'!K41 -> 21.275758
A41: ='[1]pipe clamps'!A42 -> PC28 | B41: ='[1]pipe clamps'!B42 -> 2 5/8" | C41: ='[1]pipe clamps'!C42 -> 70 | E41: ='[1]pipe clamps'!K42 -> 21.275758
A42: ='[1]pipe clamps'!A43 -> PC29 | B42: ='[1]pipe clamps'!B43 -> 3 1/8" | C42: ='[1]pipe clamps'!C43 -> 80 | E42: ='[1]pipe clamps'!K43 -> 40.882828
A43: ='[1]pipe clamps'!A44 -> PC30 | B43: ='[1]pipe clamps'!B44 -> 3/8" | C43: ='[1]pipe clamps'!C44 -> 9.5 | D43: Heavy pipe clamps with long base and nut | E43: ='[1]pipe clamps'!K44 -> 7.6759596
A44: ='[1]pipe clamps'!A45 -> PC31 | B44: ='[1]pipe clamps'!B45 -> 1/2" | C44: ='[1]pipe clamps'!C45 -> 12.7 | E44: ='[1]pipe clamps'!K45 -> 7.6759596
A45: ='[1]pipe clamps'!A46 -> PC32 | B45: ='[1]pipe clamps'!B46 -> 5/8" | C45: ='[1]pipe clamps'!C46 -> 16 | E45: ='[1]pipe clamps'!K46 -> 7.6759596
...

Sheet COPPER TUBE
A2: ='pipe clamps'!A6 -> DATE :28.9.26
A3: ITEM CODE | B3: DESCRIPTION | C3: ='[2]COPPER TUBE'!$C7 -> 1CTN | D3: (KGS) COIL | E3: ='[2]COPPER TUBE'!$L$7 -> (RM)
A4: ='[1]COPPER TUBE'!$A8 -> COP003 | B4: ='[1]COPPER TUBE'!$B8 -> 1/4 X 15M X 0.61mm | C4: ='[1]COPPER TUBE'!$C8 -> 10rolls | D4: ='[1]COPPER TUBE'!$D8 -> 1.470588 | E4: ='[1]COPPER TUBE'!$I8 -> 146.2079
A5: ='[1]COPPER TUBE'!$A9 -> COP004 | B5: ='[1]COPPER TUBE'!$B9 -> 1/4 X 15M X 0.71mm | C5: ='[1]COPPER TUBE'!$C9 -> 10rolls | D5: ='[1]COPPER TUBE'!$D9 -> 1.681848 | E5: ='[1]COPPER TUBE'!$I9 -> 167.21166
A6: ='[1]COPPER TUBE'!$A10 -> COP005 | B6: ='[1]COPPER TUBE'!$B10 -> 1/4 X 15M X 0.81mm | C6: ='[1]COPPER TUBE'!$C10 -> 10rolls | D6: ='[1]COPPER TUBE'!$D10 -> 1.884708 | E6: ='[1]COPPER TUBE'!$I10 -> 187.38028
A7: ='[1]COPPER TUBE'!$A11 -> COP006 | B7: ='[1]COPPER TUBE'!$B11 -> 1/4 X 15M X 0.91mm | C7: ='[1]COPPER TUBE'!$C11 -> 10rolls | D7: ='[1]COPPER TUBE'!$D11 -> 2.079168 | E7: ='[1]COPPER TUBE'!$I11 -> 215.57293
A8: ='[1]COPPER TUBE'!$A12 -> COP007 | B8: ='[1]COPPER TUBE'!$B12 -> 5/16 X 15M X 0.51mm | C8: ='[1]COPPER TUBE'!$C12 -> 10rolls | D8: ='[1]COPPER TUBE'!$D12 -> 1.591506 | E8: ='[1]COPPER TUBE'!$I12 -> ~
A9: ='[1]COPPER TUBE'!$A13 -> COP008 | B9: ='[1]COPPER TUBE'!$B13 -> 5/16 X 15M X 0.56mm | C9: ='[1]COPPER TUBE'!$C13 -> 10rolls | D9: ='[1]COPPER TUBE'!$D13 -> 1.735776 | E9: ='[1]COPPER TUBE'!$I13 -> 172.57326
A10: ='[1]COPPER TUBE'!$A14 -> COP009 | B10: ='[1]COPPER TUBE'!$B14 -> 3/8 X 15M X 0.61mm | C10: ='[1]COPPER TUBE'!$C14 -> 10rolls | D10: ='[1]COPPER TUBE'!$D14 -> 2.282742 | E10: ='[1]COPPER TUBE'!$I14 -> 226.95338
A11: ='[1]COPPER TUBE'!$A15 -> COP012 | B11: ='[1]COPPER TUBE'!$B15 -> 3/8 X 15M X 0.71mm | C11: ='[1]COPPER TUBE'!$C15 -> 10rolls | D11: ='[1]COPPER TUBE'!$D15 -> 2.627142 | E11: ='[1]COPPER TUBE'!$I15 -> 261.1941
A12: ='[1]COPPER TUBE'!$A16 -> COP013 | B12: ='[1]COPPER TUBE'!$B16 -> 3/8 X 15M X 0.81mm | C12: ='[1]COPPER TUBE'!$C16 -> 10rolls | D12: ='[1]COPPER TUBE'!$D16 -> 2.963142 | E12: ='[1]COPPER TUBE'!$I16 -> 307.22539
A13: ='[1]COPPER TUBE'!$A17 -> COP014 | B13: ='[1]COPPER TUBE'!$B17 -> 3/8 X 15M X 0.91mm | C13: ='[1]COPPER TUBE'!$C17 -> 10rolls | D13: ='[1]COPPER TUBE'!$D17 -> 3.290742 | E13: ='[1]COPPER TUBE'!$I17 -> 341.19171
A14: ='[1]COPPER TUBE'!$A18 -> COP015 | B14: ='[1]COPPER TUBE'!$B18 -> 1/2 X 15M X 0.61mm | C14: ='[1]COPPER TUBE'!$C18 -> 8rolls | D14: ='[1]COPPER TUBE'!$D18 -> 3.097458 | E14: ='[1]COPPER TUBE'!$I18 -> 307.95357
A15: ='[1]COPPER TUBE'!$A19 -> COP018 | B15: ='[1]COPPER TUBE'!$B19 -> 1/2 X 15M X 0.71mm | C15: ='[1]COPPER TUBE'!$C19 -> 8rolls | D15: ='[1]COPPER TUBE'!$D19 -> 3.575418 | E15: ='[1]COPPER TUBE'!$I19 -> 355.47302
... A26: ='[1]COPPER TUBE'!$A30 -> COP032 | B26: ='[1]COPPER TUBE'!$B30 -> 1/4 X 0.8mm X (900M) | C26: ='[1]COPPER TUBE'!$C30 -> 1 BIG ROLL | D26: ='[1]COPPER TUBE'!$D30 -> 111.888 | E26: ='[1]COPPER TUBE'!$I30 -> 11590.954
A27: ='[1]COPPER TUBE'!#REF! -> #REF! | B27: ='[1]COPPER TUBE'!#REF! -> #REF! | C27: ='[1]COPPER TUBE'!$C37 -> 1 BIG ROLL | D27: ='[1]COPPER TUBE'!$D37 -> 68.5692 | E27: ='[1]COPPER TUBE'!$I37 -> 7103.375
A28: ='[1]COPPER TUBE'!#REF! -> #REF! | B28: ='[1]COPPER TUBE'!$B40 -> 1/2 X 0.45mm X (450M) | C28: ='[1]COPPER TUBE'!$C40 -> 1 BIG ROLL | D28: ='[1]COPPER TUBE'!$D40 -> 69.4575 | E28: ='[1]COPPER TUBE'!$I40 -> 7195.3977
A29: ='[1]COPPER TUBE'!$A31 -> COP032.03 | B29: ='[1]COPPER TUBE'!$B31 -> 5/16 X 0.6mm X (900M) | C29: ='[1]COPPER TUBE'!$C31 -> 1 BIG ROLL | D29: ='[1]COPPER TUBE'!$D31 -> 110.9808 | E29: ='[1]COPPER TUBE'!$I31 -> 11496.973
A30: ='[1]COPPER TUBE'!$A32 -> COP033 | B30: ='[1]COPPER TUBE'!$B32 -> 3/8 X 0.8mm X (600M) | C30: ='[1]COPPER TUBE'!$C32 -> 1 BIG ROLL | D30: ='[1]COPPER TUBE'!$D32 -> 117.1968 | E30: ='[1]COPPER TUBE'!$I32 -> 12140.915
A31: ='[1]COPPER TUBE'!$A33 -> COP034 | B31: ='[1]COPPER TUBE'!$B33 -> 1/2 X 0.8mm X (450M) | C31: ='[1]COPPER TUBE'!$C33 -> 1 BIG ROLL | D31: ='[1]COPPER TUBE'!$D33 -> 119.952 | E31: ='[1]COPPER TUBE'!$I33 -> 12426.338
A32: ='[1]COPPER TUBE'!$A34 -> COP035 | B32: ='[1]COPPER TUBE'!$B34 -> 5/8 X 0.8mm X (300M) | C32: ='[1]COPPER TUBE'!$C34 -> 1 BIG ROLL | D32: ='[1]COPPER TUBE'!$D34 -> 101.3376 | E32: ='[1]COPPER TUBE'!$I34 -> 10497.993
A33: ='[1]COPPER TUBE'!$A35 -> COP036 | B33: ='[1]COPPER TUBE'!$B35 -> 1/4 X 0.56mm X (900M) | C33: ='[1]COPPER TUBE'!$C35 -> 1 BIG ROLL | D33: ='[1]COPPER TUBE'!$D35 -> 81.70848 | E33: ='[1]COPPER TUBE'!$I35 -> 8464.5288
A34: ='[1]COPPER TUBE'!$A36 -> COP036.01 | B34: ='[1]COPPER TUBE'!$B36 -> 1/4 X 0.61mm X (900M) | C34: ='[1]COPPER TUBE'!$C36 -> 1 BIG ROLL | D34: ='[1]COPPER TUBE'!$D36 -> 88.23528 | E34: ='[1]COPPER TUBE'!$I36 -> 9140.6678
A35: ='[1]COPPER TUBE'!$A37 -> COP037 | B35: ='[1]COPPER TUBE'!$B37 -> 3/8 X 0.45mm X (600M) | C35: ='[1]COPPER TUBE'!#REF! -> #REF! | D35: ='[1]COPPER TUBE'!#REF! -> #REF! | E35: ='[1]COPPER TUBE'!#REF! -> #REF!
A36: ='[1]COPPER TUBE'!$A38 -> COP037.01 | B36: ='[1]COPPER TUBE'!$B38 -> 3/8 X 0.56mm X (600M) | C36: ='[1]COPPER TUBE'!$C38 -> 1 BIG ROLL | D36: ='[1]COPPER TUBE'!$D38 -> 84.29568 | E36: ='[1]COPPER TUBE'!$I38 -> 8732.5479
A37: ='[1]COPPER TUBE'!$A43 -> COP040 | B37: ='[1]COPPER TUBE'!$B43 -> 3/8 X 5.8M X 0.81mm | C37: ='[1]COPPER TUBE'!$C43 -> 0 | D37: ='[1]COPPER TUBE'!$D43 -> 1.1457482 | E37: ='[1]COPPER TUBE'!$I43 -> ~
A38: ='[1]COPPER TUBE'!$A44 -> COP040.01 | B38: ='[1]COPPER TUBE'!$B44 -> 3/8 X 5.8M X 0.91mm | C38: ='[1]COPPER TUBE'!$C44 -> 0 | D38: ='[1]COPPER TUBE'!$D44 -> 0 | E38: ='[1]COPPER TUBE'!$I44 -> 132.09646
A39: ='[1]COPPER TUBE'!$A45 -> COP041 | B39: ='[1]COPPER TUBE'!$B45 -> 1/2 X 5.8M X 0.81mm | C39: ='[1]COPPER TUBE'!$C45 -> 0 | D39: ='[1]COPPER TUBE'!$D45 -> 1.5640582 | E39: ='[1]COPPER TUBE'!$I45 -> 162.37288
A40: ='[1]COPPER TUBE'!$A46 -> COP042 | B40: ='[1]COPPER TUBE'!$B46 -> 1/2 X 5.8M X 0.91mm | C40: ='[1]COPPER TUBE'!$C46 -> 300 | D40: ='[1]COPPER TUBE'!$D46 -> 1.7051966 | E40: ='[1]COPPER TUBE'!$I46 -> 180.8847
A41: ='[1]COPPER TUBE'!$A47 -> COP043 | B41: ='[1]COPPER TUBE'!$B47 -> 5/8 X 5.8M X 0.81mm | C41: ='[1]COPPER TUBE'!$C47 -> 0 | D41: ='[1]COPPER TUBE'!$D47 -> 1.9823681 | E41: ='[1]COPPER TUBE'!$I47 -> 205.79978
A42: ='[1]COPPER TUBE'!$A48 -> COP044 | B42: ='[1]COPPER TUBE'!$B48 -> 5/8 X 5.8M X 0.91mm | C42: ='[1]COPPER TUBE'!$C48 -> 300 | D42: ='[1]COPPER TUBE'!$D48 -> 2.2123265 | E42: ='[1]COPPER TUBE'!$I48 -> 229.67294
A43: ='[1]COPPER TUBE'!$A49 -> COP045 | B43: ='[1]COPPER TUBE'!$B49 -> 5/8 X 5.8M X 1.016(L) | C43: ='[1]COPPER TUBE'!$C49 -> 0 | D43: ='[1]COPPER TUBE'!$D49 -> 2.4525362 | E43: ='[1]COPPER TUBE'!$I49 -> ~
A44: ='[1]COPPER TUBE'!$A50 -> COP046 | B44: ='[1]COPPER TUBE'!$B50 -> 3/4 X 5.8M X 0.81mm | C44: ='[1]COPPER TUBE'!$C50 -> 0 | D44: ='[1]COPPER TUBE'!$D50 -> 2.4322486 | E44: ='[1]COPPER TUBE'!$I50 -> 252.50417
A45: ='[1]COPPER TUBE'!$A51 -> COP047 | B45: ='[1]COPPER TUBE'!$B51 -> 3/4 X 5.8M X 0.91mm | C45: ='[1]COPPER TUBE'!$C51 -> 200 | D45: ='[1]COPPER TUBE'!$D51 -> 2.7177478 | E45: ='[1]COPPER TUBE'!$I51 -> 282.14331
A46: ='[1]COPPER TUBE'!$A52 -> COP048 | B46: ='[1]COPPER TUBE'!$B52 -> 3/4 X 5.8M X 1.067(L) | C46: ='[1]COPPER TUBE'!$C52 -> 0 | D46: ='[1]COPPER TUBE'!$D52 -> 3.1161086 | E46: ='[1]COPPER TUBE'!$I52 -> ~
A47: ='[1]COPPER TUBE'!$A53 -> COP049 | B47: ='[1]COPPER TUBE'!$B53 -> 7/8 X 5.8M X 0.71mm | C47: ='[1]COPPER TUBE'!$C53 -> 0 | D47: ='[1]COPPER TUBE'!$D53 -> 2.4813421 | E47: ='[1]COPPER TUBE'!$I53 -> 257.60082
A48: ='[1]COPPER TUBE'!$A54 -> COP050 | B48: ='[1]COPPER TUBE'!$B54 -> 7/8 X 5.8M X 0.81mm | C48: ='[1]COPPER TUBE'!$C54 -> 400 | D48: ='[1]COPPER TUBE'!$D54 -> 2.8176725 | E48: ='[1]COPPER TUBE'!$I54 -> 292.517
... A72: ='[1]COPPER TUBE'!$A78 -> COP074 | B72: ='[1]COPPER TUBE'!$B78 -> 2 5/8 X 5.8M X 1.22mm | C72: ='[1]COPPER TUBE'!$C78 -> 100 | D72: ='[1]COPPER TUBE'!$D78 -> 12.969459 | E72: ='[1]COPPER TUBE'!$I78 -> 1350.7323
A73: ='[1]COPPER TUBE'!A79 -> COP075 | B73: ='[1]COPPER TUBE'!B79 -> 3 1/8 X 5.8M X 1.34mm | C73: ='[1]COPPER TUBE'!C79 -> 40 | D73: ='[1]COPPER TUBE'!D79 -> 17.335291 | E73: ='[1]COPPER TUBE'!$I79 -> 1805.4212
A74: ='[1]COPPER TUBE'!A80 -> COP076.1 | B74: ='[1]COPPER TUBE'!B80 -> 3/4 X 3M X 1mm | C74: ='[1]COPPER TUBE'!C80 -> SOFT | D74: ='[1]COPPER TUBE'!D80 -> 1.516 | E74: ='[1]COPPER TUBE'!$I80 -> 158.41135
...

Sheet insulation
A2: ='COPPER TUBE'!A2 -> DATE :28.9.26
A3: Item code | B3: Size inch | C3: Application | D3: lgth/ctn | E3: =[2]insulation!$F$7 -> (RM) | F3: =[1]insulation!M7 -> Item code | G3: =[1]insulation!N7 -> Size inch | H3: =[1]insulation!$R7 -> ex stock | I3: =[1]insulation!$T7 -> RM
A4: =[1]insulation!$A8 -> 0 | B4: =[1]insulation!$B8 -> 1/4 X 3/8 | C4: 3/8" THICKNESS FOR AIR-COND USAGE +20C | D4: 156 | E4: =[1]insulation!$F8 -> 2.1428571
A5: =[1]insulation!$A9 -> IT000.1 | B5: =[1]insulation!$B9 -> 3/8 X 3/8 | D5: 120 | E5: =[1]insulation!$F9 -> 2.2857143 | F5: =[1]insulation!M9 -> ITY000.1 | G5: =[1]insulation!N9 -> 3/8 X 3/8
A6: =[1]insulation!$A10 -> IT001 | B6: =[1]insulation!$B10 -> 1/2 X 3/8 | D6: 100 | E6: =[1]insulation!$F10 -> 2.6428571 | F6: =[1]insulation!M10 -> ITY001 | G6: =[1]insulation!N10 -> 1/2 X 3/8
A7: =[1]insulation!$A11 -> IT002 | B7: =[1]insulation!$B11 -> 5/8 X 3/8 * | D7: 90 | E7: =[1]insulation!$F11 -> 1.6428571
A8: =[1]insulation!$A12 -> IT003 | B8: =[1]insulation!$B12 -> 3/4 X 3/8 * | D8: 72 | E8: =[1]insulation!$F12 -> 1.8571429
A9: =[1]insulation!$A13 -> IT004 | B9: =[1]insulation!$B13 -> 7/8 X 3/8 * | D9: 64 | E9: =[1]insulation!$F13 -> 2.0714286
A10: =[1]insulation!$A14 -> 0 | B10: =[1]insulation!$B14 -> 1 X 3/8 | D10: 56 | E10: =[1]insulation!$F14 -> 4.7142857
A11: =[1]insulation!$A15 -> IT005 | B11: =[1]insulation!$B15 -> 1 1/8 X 3/8 * | D11: 49 | E11: =[1]insulation!$F15 -> 3.4285714 | F11: =[1]insulation!M15 -> ITY002 | G11: =[1]insulation!N15 -> 1 1/8 X 3/8 * | H11: =[1]insulation!$R15 -> 298 | I11: =[1]insulation!$T15 -> 3.6194008
A12: =[1]insulation!$A16 -> 0 | B12: =[1]insulation!$B16 -> 1 1/4 X 3/8 | D12: 42 | E12: =[1]insulation!$F16 -> 5.2571429
A13: =[1]insulation!$A17 -> IT006 | B13: =[1]insulation!$B17 -> 1 3/8 X 3/8 * | D13: 36 | E13: =[1]insulation!$F17 -> 5.1 | F13: =[1]insulation!M17 -> ITY003 | G13: =[1]insulation!N17 -> 1 3/8 X 3/8 * | H13: =[1]insulation!$R17 -> 1194 | I13: =[1]insulation!$T17 -> 4.2449566
A14: =[1]insulation!#REF! -> #REF! | B14: =[1]insulation!#REF! -> #REF! | D14: 34 | E14: =[1]insulation!#REF! -> #REF!
A15: =[1]insulation!$A18 -> IT007 | B15: =[1]insulation!$B18 -> 1 5/8 X 3/8 | D15: 30 | E15: =[1]insulation!$F18 -> 7.3571429 | F15: =[1]insulation!M18 -> ITY004 | G15: =[1]insulation!N18 -> 1 5/8 X 3/8 | H15: =[1]insulation!$R18 -> 120 | I15: =[1]insulation!$T18 -> 5.2438669
A16: =[1]insulation!$A19 -> 0 | B16: =[1]insulation!$B19 -> 1 7/8 X 3/8 | D16: 28 | E16: =[1]insulation!$F19 -> 8.2857143
A17: =[1]insulation!$A20 -> 0 | B17: =[1]insulation!$B20 -> 2 X 3/8 | D17: 24 | E17: =[1]insulation!$F20 -> 8.8571429
A18: =[1]insulation!$A21 -> IT008 | B18: =[1]insulation!$B21 -> 2 1/8 X 3/8 | D18: 21 | E18: =[1]insulation!$F21 -> 8.7142857
A19: =[1]insulation!$A22 -> 0 | B19: =[1]insulation!$B22 -> 2 3/8 X 3/8 | D19: 20 | E19: =[1]insulation!$F22 -> 9.2142857
A20: =[1]insulation!$A23 -> 0 | B20: =[1]insulation!$B23 -> 2 1/2 x 3/8 | E20: =[1]insulation!$F23 -> 9.6428571
A21: =[1]insulation!$A24 -> 0 | B21: =[1]insulation!$B24 -> 2 5/8 X 3/8 | D21: 18 | E21: =[1]insulation!$F24 -> 9.6428571
A22: =[1]insulation!$A25 -> 0 | B22: =[1]insulation!$B25 -> 2 7/8 X 3/8 | D22: 18 | E22: =[1]insulation!$F25 -> 10
A23: =[1]insulation!$A26 -> 0 | B23: =[1]insulation!$B26 -> 3 X 3/8 | D23: 18 | E23: =[1]insulation!$F26 -> 10.928571
A24: =[1]insulation!$A27 -> 0 | B24: =[1]insulation!$B27 -> 3 1/8 X 3/8 | D24: 16 | E24: =[1]insulation!$F27 -> 10.857143
A25: =[1]insulation!$A28 -> 0 | B25: =[1]insulation!$B28 -> 3 1/2 X 3/8 | D25: 16 | E25: =[1]insulation!$F28 -> 11.285714
A26: =[1]insulation!$A29 -> 0 | B26: =[1]insulation!$B29 -> 4 x 3/8 | D26: 14 | E26: =[1]insulation!$F29 -> 14.428571
A27: =[1]insulation!#REF! -> #REF! | B27: =[1]insulation!#REF! -> #REF! | D27: 14 | E27: =[1]insulation!#REF! -> #REF!
A28: =[1]insulation!#REF! -> #REF! | B28: =[1]insulation!#REF! -> #REF! | D28: 14 | E28: =[1]insulation!#REF! -> #REF!
A29: =[1]insulation!$A30 -> 0 | B29: =[1]insulation!$B30 -> 4 1/2 x 3/8 | D29: 14 | E29: =[1]insulation!$F30 -> 14.428571
A30: =[1]insulation!#REF! -> #REF! | B30: =[1]insulation!#REF! -> #REF! | D30: 10 | E30: =[1]insulation!#REF! -> #REF!
A31: =[1]insulation!#REF! -> #REF! | B31: =[1]insulation!#REF! -> #REF! | D31: 10 | E31: =[1]insulation!#REF! -> #REF!
A32: =[1]insulation!#REF! -> #REF! | B32: =[1]insulation!#REF! -> #REF! | D32: 10 | E32: =[1]insulation!#REF! -> #REF!
A33: =[1]insulation!#REF! -> #REF! | B33: =[1]insulation!#REF! -> #REF! | D33: 10 | E33: =[1]insulation!#REF! -> #REF!
A34: =[1]insulation!#REF! -> #REF! | B34: =[1]insulation!#REF! -> #REF! | E34: =[1]insulation!#REF! -> #REF!
A35: =[1]insulation!#REF! -> #REF! | B35: =[1]insulation!#REF! -> #REF! | E35: =[1]insulation!#REF! -> #REF!
A36: =[1]insulation!#REF! -> #REF! | B36: =[1]insulation!#REF! -> #REF! | E36: =[1]insulation!#REF! -> #REF!
A37: =[1]insulation!$A31 -> 0 | B37: =[1]insulation!$B31 -> 1/4 X 1/2 | C37: 1/2" THICKNESS FOR REFRIGERATOR USAGE +5C ~ 0C | D37: 110 | E37: =[1]insulation!$F31 -> 3.1428571
A38: =[1]insulation!$A32 -> 0 | B38: =[1]insulation!$B32 -> 3/8 X 1/2 | D38: 90 | E38: =[1]insulation!$F32 -> 3.3571429
A39: =[1]insulation!$A33 -> IT008.1 | B39: =[1]insulation!$B33 -> 1/2 X 1/2 | D39: 72 | E39: =[1]insulation!$F33 -> 4.6428571
A40: =[1]insulation!$A34 -> IT009 | B40: =[1]insulation!$B34 -> 5/8 X 1/2 * | D40: 63 | E40: =[1]insulation!$F34 -> 3.5 | F40: =[1]insulation!M34 -> ITY006 | G40: =[1]insulation!N34 -> 5/8 X 1/2 * | H40: =[1]insulation!$R34 -> 53 | I40: =[1]insulation!$T34 -> 4.3824245
A41: =[1]insulation!$A35 -> IT010 | B41: =[1]insulation!$B35 -> 3/4 X 1/2 * | D41: 56 | E41: =[1]insulation!$F35 -> 3.7142857 | F41: =[1]insulation!M35 -> ITY007 | G41: =[1]insulation!N35 -> 3/4 X 1/2 * | H41: =[1]insulation!$R35 -> 461 | I41: =[1]insulation!$T35 -> 4.9046732
...

Sheet GAS
A2: =insulation!A2 -> DATE :28.9.26 | C2: =[1]GAS!$G$3 -> Cash or account customers-10%~13%
A3: ITEM CODE | B3: DESCRIPTION | C3: =[2]GAS!$I7 -> (RM)
A4: =[1]GAS!$A9 -> GAS001 | B4: =[1]GAS!$B9 -> R-22 X 13.6KGS REF GAS | C4: =[1]GAS!G9 -> 242.66667
A5: =[1]GAS!$A10 -> GAS001.1 | B5: =[1]GAS!$B10 -> R-507 X 11.3KGS REF GAS | C5: =[1]GAS!G10 -> 402.66667
A6: =[1]GAS!$A11 -> GAS001.2 | B6: =[1]GAS!$B11 -> R-404 X 10.9KGS REF GAS | C6: =[1]GAS!G11 -> 396
A7: =[1]GAS!$A12 -> GAS001.3 | B7: =[1]GAS!$B12 -> R-134A X 13.6KGS REF GAS | C7: =[1]GAS!G12 -> 660.75949
A8: =[1]GAS!$A13 -> GAS001.4 | B8: =[1]GAS!$B13 -> R-410a X 10KGS REF GAS | C8: =[1]GAS!G13 -> 529.33333
A9: =[1]GAS!$A14 -> GAS001.5 | B9: =[1]GAS!$B14 -> R-290 X 5KGS GAS | C9: =[1]GAS!G14 -> 185.23256
A10: =[1]GAS!$A15 -> GAS001.6 | B10: =[1]GAS!$B15 -> R-407c X 11.3KGS REF GAS | C10: =[1]GAS!G15 -> 589.33333
A11: =[1]GAS!$A16 -> GAS002 | B11: =[1]GAS!$B16 -> R-600A X 6.5KGS GAS | C11: =[1]GAS!G16 -> 185.13313
A12: =[1]GAS!$A17 -> GAS003 | B12: =[1]GAS!$B17 -> R-32 X 9.5KGS GAS | C12: =[1]GAS!G17 -> 516

Sheet Dixell & Thermometer
A2: =Suniso!A2 -> DATE :28.9.26
A3: ='[2]Dixell & thermometer'!A7 -> ITEM CODE | B3: ='[2]Dixell & thermometer'!B7 -> Model No. | C3: ='[2]Dixell & thermometer'!C7 -> Function | D3: ='[2]Dixell & thermometer'!$H7 -> (RM) | E3: PICTURE
A4: ='[1]Dixell & thermometer'!A8 -> DOT001 | B4: ='[1]Dixell & thermometer'!B8 -> MX32S-16P00-F (chiller 1hp-2hp) | C4: ='[1]Dixell & thermometer'!C8 -> Smart Cellar Controller (Comp 16amp cut in/out only with defrost timer) | D4: ='[1]Dixell & thermometer'!J8 -> ~
A5: ='[1]Dixell & thermometer'!A9 -> DOT002 | B5: ='[1]Dixell & thermometer'!B9 -> MX32SD-30P00 (chiller with defrost heater 1hp-3.5hp) | C5: ='[1]Dixell & thermometer'!C9 -> Smart Cellar Controller (Comp 30amp cut in/out with defrost 16amp) | D5: ='[1]Dixell & thermometer'!J9 -> 938.55368
A6: ='[1]Dixell & thermometer'!A10 -> DOT003 | B6: ='[1]Dixell & thermometer'!B10 -> MX32SR-16P00 (frezzer 1hp-2hp) | C6: ='[1]Dixell & thermometer'!C10 -> Smart Cellar Controller (Comp 16amp cut in/out with defrost 16amp,evaporator fan 10a and 2 auxillary 10a & 16a) | D6: ='[1]Dixell & thermometer'!J10 -> 1043.3221
A7: ='[1]Dixell & thermometer'!A11 -> DOT004 | B7: ='[1]Dixell & thermometer'!B11 -> MX32SR-30P00 (frezzer 1hp-3hp) | C7: ='[1]Dixell & thermometer'!C11 -> Smart Cellar Controller (Comp 30amp cut in/out with defrost 16amp,evaporator fan 10a and 2 auxillary 10a & 30a) | D7: ='[1]Dixell & thermometer'!J11 -> 1078.2449
A8: ='[1]Dixell & thermometer'!A12 -> DOT005 | B8: ='[1]Dixell & thermometer'!B12 -> DPR-TH01-ET*3M TEMP PROBE | C8: ='[1]Dixell & thermometer'!C12 -> Temp sensor probe | D8: ='[1]Dixell & thermometer'!J12 -> 9.499
A9: ='[1]Dixell & thermometer'!A13 -> DIX001 | B9: ='[1]Dixell & thermometer'!B13 -> XR02CX | C9: ='[1]Dixell & thermometer'!C13 -> Setting range： -40℃ ~ 110℃ Setting、Sensing accuracy： 1℃ ,Compressor 20(8)A/250VAC, Compressor Sensor：One NTC sensor, LED :RED ,chiller | D9: ='[1]Dixell & thermometer'!J13 -> 122.10012
A10: ='[1]Dixell & thermometer'!A14 -> DIX002 | B10: ='[1]Dixell & thermometer'!B14 -> XR06CX | C10: ='[1]Dixell & thermometer'!C14 -> Setting range： -40℃ ~ 110℃ Setting、Sensing accuracy： 1℃ ,Compressor 20(8)A/250VAC, Compressor Sensor：TWO NTC sensor, LED :RED | D10: ='[1]Dixell & thermometer'!J14 -> 169.87843
A11: ='[1]Dixell & thermometer'!A15 -> DIX002.1 | B11: ='[1]Dixell & thermometer'!B15 -> XR30CX-5R1C1 DIXELL DIGITAL CONTROLLER | C11: ='[1]Dixell & thermometer'!C15 -> Setting range： -40℃ ~ 110℃ Setting、Sensing accuracy： 1℃ ,Compressor 20(8)A/250VAC, Compressor Sensor：One NTC sensor, LED :RED ,chiller | D11: ='[1]Dixell & thermometer'!J15 -> 231.13642
