Workbook

Sheet CU 
A1: WELLER AIR-COND PARTS ENTERPRISE SDN BHD (613386-K)
A3: ='[1]CU '!A5 -> DATE :5.5.26
A8: ='[1]CU '!A8 -> ITEM CODE | B8: ='[1]CU '!B8 -> MODEL CONDENSER | C8: ='[1]CU '!C8 -> BRAND | D8: ='[1]CU '!D8 -> H/P | E8: ='[1]CU '!E8 -> DIMENSION LxWxH | F8: ='[1]CU '!F8 -> FAN SETS | G8: ='[1]CU '!G8 -> RECEIVER TANK | H8: ='[1]CU '!H8 -> Compressor to match | I8: ='[1]CU '!$I8 -> roll | J8: ='[1]CU '!$Q8 -> (RM) condenser only | K8: ='[1]CU '!$U8 -> (RM) c/w set axial fan sets | L8: ='[1]CU '!$Y8 -> (RM) HEAVY DUTY FAN | M8: PIC
A9: ='[1]CU '!A9 -> CU001 | B9: ='[1]CU '!B9 -> CU - 15 QC | C9: 9FPI INLET GROOVE FIN CONDENSER COIL COMPLETE SET C/W AXIAL FAN SETS, RECEIVER TANK & IRON BASE | D9: ='[1]CU '!D9 -> 1.5hp | E9: ='[1]CU '!E9 -> 440x170x425 | F9: ='[1]CU '!F9 -> 1 x 14 | G9: ='[1]CU '!G9 -> CR-101-3 ,RT-2 | H9: ='[1]CU '!H9 -> 0 | I9: ='[1]CU '!$I9 -> 3*16 | J9: ='[1]CU '!$Q9 -> 387.84968 | K9: ='[1]CU '!$U9 -> 785.26451 | L9: ='[1]CU '!$Y9 -> ~
A10: ='[1]CU '!A10 -> CU002 | B10: ='[1]CU '!B10 -> CU - 22 QC | D10: ='[1]CU '!D10 -> 2hp | E10: ='[1]CU '!E10 -> 450*180*470 | F10: ='[1]CU '!F10 -> 1 x 14 | G10: ='[1]CU '!G10 -> CR-102 ,RT-2 | H10: ='[1]CU '!H10 -> MT22 | I10: ='[1]CU '!$I10 -> 4*16 | J10: ='[1]CU '!$Q10 -> 563.24667 | K10: ='[1]CU '!$U10 -> 960.6615 | L10: ='[1]CU '!$Y10 -> ~
A11: ='[1]CU '!A11 -> CU003 | B11: ='[1]CU '!B11 -> CU - 32 QC | D11: ='[1]CU '!D11 -> 2.5hp | E11: ='[1]CU '!E11 -> 450*180*470 | F11: ='[1]CU '!F11 -> 1 x 14 | G11: ='[1]CU '!G11 -> CR-102 ,RT-3 | H11: ='[1]CU '!H11 -> MT32 | I11: ='[1]CU '!$I11 -> 4*18 | J11: ='[1]CU '!$Q11 -> 627.47656 | K11: ='[1]CU '!$U11 -> 1024.8914 | L11: ='[1]CU '!$Y11 -> ~
A12: ='[1]CU '!A12 -> CU004 | B12: ='[1]CU '!B12 -> CU - 36 QC | D12: ='[1]CU '!D12 -> 3hp | E12: ='[1]CU '!E12 -> 500*200*520 | F12: ='[1]CU '!F12 -> 1 x 16 | G12: ='[1]CU '!G12 -> CR-102 ,RT-3 | H12: ='[1]CU '!H12 -> MT36 | I12: ='[1]CU '!$I12 -> 4*20 | J12: ='[1]CU '!$Q12 -> 715.17505 | K12: ='[1]CU '!$U12 -> 1158.621 | L12: ='[1]CU '!$Y12 -> ~
A13: ='[1]CU '!A13 -> CU005 | B13: ='[1]CU '!B13 -> CU - 40 QC | D13: ='[1]CU '!D13 -> 3.5hp | E13: ='[1]CU '!E13 -> 550*200*520 | F13: ='[1]CU '!F13 -> 1 x 16 | G13: ='[1]CU '!G13 -> CR103,RT-4 | H13: ='[1]CU '!H13 -> MT40 | I13: ='[1]CU '!$I13 -> 5*20 | J13: ='[1]CU '!$Q13 -> 895.5128 | K13: ='[1]CU '!$U13 -> 1281.8911 | L13: ='[1]CU '!$Y13 -> ~
A14: ='[1]CU '!A14 -> CU006 | B14: ='[1]CU '!B14 -> CU - 50 QC | D14: ='[1]CU '!D14 -> 4hp | E14: ='[1]CU '!E14 -> 660*200*570 | F14: ='[1]CU '!F14 -> 1 x 18 | G14: ='[1]CU '!G14 -> CR103,RT-4 | H14: ='[1]CU '!H14 -> 4FES-3(Y) | I14: ='[1]CU '!$I14 -> 5*20 | J14: ='[1]CU '!$Q14 -> 1094.3784 | K14: ='[1]CU '!$U14 -> 1567.989 | L14: ='[1]CU '!$Y14 -> 1722.2676
A15: ='[1]CU '!A15 -> CU007 | B15: ='[1]CU '!B15 -> CU - 64 QC | D15: ='[1]CU '!D15 -> 5hp | E15: ='[1]CU '!E15 -> 960*200*520 | F15: ='[1]CU '!F15 -> 2 x 16 | G15: ='[1]CU '!G15 -> CR-104 ,RT-6 | H15: ='[1]CU '!H15 -> 4EES-4(Y) | I15: ='[1]CU '!$I15 -> 4*20 | J15: ='[1]CU '!$Q15 -> 1503.2263 | K15: ='[1]CU '!$U15 -> 2325.7479 | L15: ='[1]CU '!$Y15 -> ~
A16: ='[1]CU '!A16 -> CU008 | B16: ='[1]CU '!B16 -> CU - 64B QC | D16: ='[1]CU '!D16 -> 5hp | E16: ='[1]CU '!E16 -> 710*220*660 | F16: ='[1]CU '!F16 -> 1 x 20 | G16: ='[1]CU '!G16 -> CR-104 ,RT-6 | H16: ='[1]CU '!H16 -> 4EES-4(Y) | I16: ='[1]CU '!$I16 -> 4*26 | J16: ='[1]CU '!$Q16 -> 1337.7108 | K16: ='[1]CU '!$U16 -> 1987.7058 | L16: ='[1]CU '!$Y16 -> 2063.5949
A17: ='[1]CU '!A17 -> CU009 | B17: ='[1]CU '!B17 -> CU - 72 QC | D17: ='[1]CU '!D17 -> 6hp | E17: ='[1]CU '!E17 -> 960*220*520 | F17: ='[1]CU '!F17 -> 2 x 16 | G17: ='[1]CU '!G17 -> CR-104 ,RT-6 | H17: ='[1]CU '!H17 -> 4DES-5(Y) | I17: ='[1]CU '!$I17 -> 5*20 | J17: ='[1]CU '!$Q17 -> 1661.3306 | K17: ='[1]CU '!$U17 -> 2483.8523 | L17: ='[1]CU '!$Y17 -> ~
A18: ='[1]CU '!A18 -> CU010 | B18: ='[1]CU '!B18 -> CU - 72B QC | D18: ='[1]CU '!D18 -> 6hp | E18: ='[1]CU '!E18 -> 710*240*660 | F18: ='[1]CU '!F18 -> 1 x 20 | G18: ='[1]CU '!G18 -> CR-104 ,RT-6 | H18: ='[1]CU '!H18 -> 4DES-5(Y) | I18: ='[1]CU '!$I18 -> 5*26 | J18: ='[1]CU '!$Q18 -> 1497.0504 | K18: ='[1]CU '!$U18 -> 2147.0454 | L18: ='[1]CU '!$Y18 -> 2222.9344
A19: ='[1]CU '!A20 -> CU012 | B19: ='[1]CU '!B20 -> CU - 90 QC | D19: ='[1]CU '!D20 -> 7.5hp | E19: ='[1]CU '!E20 -> 1060*220*570 | F19: ='[1]CU '!F20 -> 2 x 18 | G19: ='[1]CU '!G20 -> CR-104 ,RT-8 | H19: ='[1]CU '!H20 -> 4CES-6(Y) | I19: ='[1]CU '!$I20 -> 5*22 | J19: ='[1]CU '!$Q20 -> 1941.7188 | K19: ='[1]CU '!$U20 -> 2835.4263 | L19: ='[1]CU '!$Y20 -> 3029.8484
A20: ='[1]CU '!A21 -> CU013 | B20: ='[1]CU '!B21 -> CU - 100 QC | D20: ='[1]CU '!D21 -> 8.5hp | E20: ='[1]CU '!E21 -> 1060*240*670 | F20: ='[1]CU '!F21 -> 2 x 18 | G20: ='[1]CU '!G21 -> CR-104 ,RT-8 | H20: ='[1]CU '!H21 -> 4VES-7(Y) | I20: ='[1]CU '!$I21 -> 5*26 | J20: ='[1]CU '!$Q21 -> 2229.5181 | K20: ='[1]CU '!$U21 -> 3123.2256 | L20: ='[1]CU '!$Y21 -> 3317.6477
A21: ='[1]CU '!A22 -> CU013.1 | B21: ='[1]CU '!B22 -> CU - 125BP QC | D21: ='[1]CU '!D22 -> 10hp | E21: ='[1]CU '!E22 -> 0 | F21: ='[1]CU '!F22 -> 1 x 26 | G21: ='[1]CU '!G22 -> CR-105 ,RT-10 | H21: ='[1]CU '!H22 -> 4TES-9(Y) | I21: ='[1]CU '!$I22 -> 4*40 | J21: ='[1]CU '!$Q22 -> 2884.1688 | K21: ='[1]CU '!$U22 -> 3914.0733 | L21: ='[1]CU '!$Y22 -> 4252.6642
A22: ='[1]CU '!A23 -> CU013.2 | B22: ='[1]CU '!B23 -> CU - 144BP QC | D22: ='[1]CU '!D23 -> 12hp | E22: ='[1]CU '!E23 -> 0 | F22: ='[1]CU '!F23 -> 1 x 26 | G22: ='[1]CU '!G23 -> CR-105 ,RT-12 | H22: ='[1]CU '!H23 -> 4PES-12(Y) | I22: ='[1]CU '!$I23 -> 5*40 | J22: ='[1]CU '!$Q23 -> 3332.5428 | K22: ='[1]CU '!$U23 -> 4450.505 | L22: ='[1]CU '!$Y23 -> 4789.0959
A23: ='[1]CU '!A24 -> CU014 | B23: ='[1]CU '!B24 -> CU - 125 QC | D23: ='[1]CU '!D24 -> 10hp | E23: ='[1]CU '!E24 -> 1390*250*725 | F23: ='[1]CU '!F24 -> 2 x 20 | G23: ='[1]CU '!G24 -> CR-105 ,RT-10 | H23: ='[1]CU '!H24 -> 4TES-9(Y) | I23: ='[1]CU '!$I24 -> 4*28 | J23: ='[1]CU '!$Q24 -> 2945.9283 | K23: ='[1]CU '!$U24 -> 4030.731 | L23: ='[1]CU '!$Y24 -> 4180.061
A24: ='[1]CU '!A25 -> CU015 | B24: ='[1]CU '!B25 -> CU - 144 QC | D24: ='[1]CU '!D25 -> 12hp | E24: ='[1]CU '!E25 -> 1390*250*725 | F24: ='[1]CU '!F25 -> 2 x 20 | G24: ='[1]CU '!G25 -> CR-106 ,RT-12 | H24: ='[1]CU '!H25 -> 4PES-12(Y) | I24: ='[1]CU '!$I25 -> 5*28 | J24: ='[1]CU '!$Q25 -> 3604.2846 | K24: ='[1]CU '!$U25 -> 4765.106 | L24: ='[1]CU '!$Y25 -> 4914.4361
A25: ='[1]CU '!A26 -> CU016 | B25: ='[1]CU '!B26 -> CU - 160 QC | D25: ='[1]CU '!D26 -> 15hp | E25: ='[1]CU '!E26 -> 1390*250*850 | F25: ='[1]CU '!F26 -> 2 x 20 | G25: ='[1]CU '!G26 -> CR-107 ,RT-14 | H25: ='[1]CU '!H26 -> 4NES-14(Y) | I25: ='[1]CU '!$I26 -> 5*32 | J25: ='[1]CU '!$Q26 -> 4013.1325 | K25: ='[1]CU '!$U26 -> 5303.0497 | L25: ='[1]CU '!$Y26 -> 5452.3797
A26: ='[1]CU '!A27 -> CU017 | B26: ='[1]CU '!B27 -> CU - 200 QC | D26: ='[1]CU '!D27 -> 20hp | E26: ='[1]CU '!E27 -> 1600*270*940 | F26: ='[1]CU '!F27 -> 2 x 20 | G26: ='[1]CU '!G27 -> CR-108 | H26: ='[1]CU '!H27 -> 4HE-18(Y) | I26: ='[1]CU '!$I27 -> 5*36 | J26: ='[1]CU '!$Q27 -> 5284.1431 | K26: ='[1]CU '!$U27 -> 6792.7659 | L26: ='[1]CU '!$Y27 -> 6942.0959
A27: ='[1]CU '!A28 -> CU018 | B27: ='[1]CU '!B28 -> CU - 250 QC | D27: ='[1]CU '!D28 -> 25hp | E27: ='[1]CU '!E28 -> 2120*270*940 | F27: ='[1]CU '!F28 -> 3 x 20 | G27: ='[1]CU '!G28 -> HT- 25L | H27: ='[1]CU '!H28 -> 4GE-23(Y) | I27: ='[1]CU '!$I28 -> 5*36 | J27: ='[1]CU '!$Q28 -> 7908.922 | K27: ='[1]CU '!$U28 -> 9733.3827 | L27: ='[1]CU '!$Y28 -> 9953.8223
A28: ='[1]CU '!A29 -> CU018.1 | B28: ='[1]CU '!B29 -> CU - 250B QC | D28: ='[1]CU '!D29 -> 25hp | E28: ='[1]CU '!E29 -> 1630*350*1500 | F28: ='[1]CU '!F29 -> 4 x 20 | G28: ='[1]CU '!G29 -> HT- 25L | H28: ='[1]CU '!H29 -> 4GE-23(Y) | I28: ='[1]CU '!$I29 -> 4*60 | J28: ='[1]CU '!$Q29 -> 7839.7514 | K28: ='[1]CU '!$U29 -> 9940.6346 | L28: ='[1]CU '!$Y29 -> 10234.554
A29: ='[1]CU '!A30 -> CU019 | B29: ='[1]CU '!B30 -> CU - 300 QC | D29: ='[1]CU '!D30 -> 30hp | E29: ='[1]CU '!E30 -> 1630*350*1660 | F29: ='[1]CU '!F30 -> 4 x 20 | G29: ='[1]CU '!G30 -> HT- 30L | H29: ='[1]CU '!H30 -> 6HE-28(Y) | I29: ='[1]CU '!$I30 -> 4*64 | J29: ='[1]CU '!$Q30 -> 8561.1024 | K29: ='[1]CU '!$U30 -> 10966.599 | L29: ='[1]CU '!$Y30 -> 11092.898
A30: ='[1]CU '!A31 -> CU020 | B30: ='[1]CU '!B31 -> CU - 350 QC | D30: ='[1]CU '!D31 -> 35hp | E30: ='[1]CU '!E31 -> 1630*350*1660 | F30: ='[1]CU '!F31 -> 4 x 20 | G30: ='[1]CU '!G31 -> HT- 35L | H30: ='[1]CU '!H31 -> S6F-30.2 / 6GE34Y | I30: ='[1]CU '!$I31 -> 5*64 | J30: ='[1]CU '!$Q31 -> 10198.964 | K30: ='[1]CU '!$U31 -> 12552.466 | L30: ='[1]CU '!$Y31 -> 12846.385
... A32: ='[1]CU '!A33 -> CU023 | B32: ='[1]CU '!B33 -> CU - 500 QC | D32: ='[1]CU '!D33 -> 50hp | E32: ='[1]CU '!E33 -> 1630*350*1930 | F32: ='[1]CU '!F33 -> 4 x 26 | G32: ='[1]CU '!G33 -> HT- 50L | H32: ='[1]CU '!H33 -> 6FE50Y | I32: ='[1]CU '!$I33 -> 6*76 | J32: ='[1]CU '!$Q33 -> 14217.038 | K32: ='[1]CU '!$U33 -> 17325.826 | L32: ='[1]CU '!$Y33 -> 18637.194
A33: ='[1]CU '!A34 -> CU20.25 | B33: ='[1]CU '!B34 -> 16" * 18" | C33: IRON BASE | D33: ='[1]CU '!D34 -> 1/2hp | E33: ='[1]CU '!E34 -> CS030-CS060 | J33: ='[1]CU '!$Q34 -> 27.868852
A34: ='[1]CU '!A35 -> CU20.26 | B34: ='[1]CU '!B35 -> 20" * 17" | D34: ='[1]CU '!D35 -> 3/4hp-1.5hp | E34: ='[1]CU '!E35 -> CS075-CS125 | J34: ='[1]CU '!$Q35 -> 40.983607
A35: ='[1]CU '!A36 -> CU21 | B35: ='[1]CU '!B36 -> 530W*430L | D35: ='[1]CU '!D36 -> 3/4hp | E35: ='[1]CU '!E36 -> CS075 | J35: ='[1]CU '!$Q36 -> 57.377049
A36: ='[1]CU '!A37 -> CU23 | B36: ='[1]CU '!B37 -> 600W*550L | D36: ='[1]CU '!D37 -> 2hp | E36: ='[1]CU '!E37 -> CU-22 | J36: ='[1]CU '!$Q37 -> 73.770492
A37: ='[1]CU '!A38 -> CU27 | B37: ='[1]CU '!B38 -> 650*W900L | D37: ='[1]CU '!D38 -> CS150 | E37: ='[1]CU '!E38 -> CS150-CS200 | J37: ='[1]CU '!$Q38 -> 139.34426
A38: ='[1]CU '!A39 -> CU024 | B38: ='[1]CU '!B39 -> CUB15-32 | C38: IRON BRACKET | D38: ='[1]CU '!D39 -> CU15-32QC | E38: ='[1]CU '!E39 -> 30" W * 21.5"L | J38: ='[1]CU '!$Q39 -> 81.147541
A39: ='[1]CU '!A40 -> CU025 | B39: ='[1]CU '!B40 -> CUB36 | D39: ='[1]CU '!D40 -> CU36QC | E39: ='[1]CU '!E40 -> 30" W * 23.5"L | J39: ='[1]CU '!$Q40 -> 103.27869
A40: ='[1]CU '!A41 -> CU026 | B40: ='[1]CU '!B41 -> CUB40 | D40: ='[1]CU '!D41 -> CU40QC | E40: ='[1]CU '!E41 -> 30" W * 26"L | J40: ='[1]CU '!$Q41 -> 103.27869
A41: ='[1]CU '!A42 -> CU027 | B41: ='[1]CU '!B42 -> CUB50 | D41: ='[1]CU '!D42 -> CU50QC | E41: ='[1]CU '!E42 -> 33" W* 28.5"L | J41: ='[1]CU '!$Q42 -> 162.29508
A42: ='[1]CU '!A43 -> CU028 | B42: ='[1]CU '!B43 -> CUB64B-72B | D42: ='[1]CU '!D43 -> CU64B-72BQC | E42: ='[1]CU '!E43 -> 33" W* 30"L | J42: ='[1]CU '!$Q43 -> 162.29508
A43: ='[1]CU '!A44 -> CU029 | B43: ='[1]CU '!B44 -> CUB64-72 | D43: ='[1]CU '!D44 -> CU64-72QC | E43: ='[1]CU '!E44 -> 34" W* 41"L | J43: ='[1]CU '!$Q44 -> 221.31148
A44: ='[1]CU '!A45 -> CU030 | B44: ='[1]CU '!B45 -> CUB80-100 | D44: ='[1]CU '!D45 -> CU80-100QC | E44: ='[1]CU '!E45 -> 34" W* 44"L | J44: ='[1]CU '!$Q45 -> 236.06557
A45: ='[1]CU '!A46 -> CU031 | B45: ='[1]CU '!B46 -> CUB125-160 | D45: ='[1]CU '!D46 -> CU125-160QC | E45: ='[1]CU '!E46 -> 35" W* 56.5"L | J45: ='[1]CU '!$Q46 -> 339.34426
A46: ='[1]CU '!A47 -> CU032 | B46: ='[1]CU '!B47 -> CUB200 | D46: ='[1]CU '!D47 -> CU200QC | E46: ='[1]CU '!E47 -> 42"W * 64"L | J46: ='[1]CU '!$Q47 -> 575.40984
...

Sheet Weiguang
A1: WELLER AIR-COND PARTS ENTERPRISE SDN BHD (613386-K)
A3: ='CU '!A3 -> DATE :5.5.26
A7: PRICE WILL UPDATE OR CHANGE EVERYWEEK DUE TO THE DATE
A8: =[1]Weiguang!A8 -> ITEM | B8: =[1]Weiguang!B8 -> MODEL | C8: DECRIPTION | D8: =[1]Weiguang!D8 -> WATTS | E8: =[1]Weiguang!$I$8 -> RM | F8: PICTURE
A9: =[1]Weiguang!A9 -> WEI001 | B9: =[1]Weiguang!B9 -> YWF4E-200-G (8") (1PH) (230V) | C9: WEIGUANG AXIAL FAN SETS 1PH & 3PH (230V , 380V ~ 415V) | D9: =[1]Weiguang!D9 -> 40 | E9: =[1]Weiguang!I9 -> 125.21742
A10: =[1]Weiguang!A10 -> WEI002 | B10: =[1]Weiguang!B10 -> YWF4E-250-G (10") (1PH) (230V) | D10: =[1]Weiguang!D10 -> 50 | E10: =[1]Weiguang!I10 -> 128.63244
A11: =[1]Weiguang!A11 -> WEI002.1 | B11: =[1]Weiguang!B11 -> YWF2E-250-G (10") (1PH) (230V) 2500rpm | D11: =[1]Weiguang!D11 -> 50 | E11: =[1]Weiguang!I11 -> 135.06407
A12: =[1]Weiguang!A12 -> WEI003 | B12: =[1]Weiguang!B12 -> YWF4E-250B (10") (1PH) (230V) | D12: =[1]Weiguang!D12 -> 50 | E12: =[1]Weiguang!I12 -> 128.63244
A13: =[1]Weiguang!A13 -> WEI004 | B13: =[1]Weiguang!B13 -> YWF4E-300-G (12") (1PH) (230V) | D13: =[1]Weiguang!D13 -> 85 | E13: =[1]Weiguang!I13 -> 133.1858
A14: =[1]Weiguang!A14 -> WEI004.1 | B14: =[1]Weiguang!B14 -> YWF4D-300-G (12") (3PH) (415V) | D14: =[1]Weiguang!D14 -> 85 | E14: =[1]Weiguang!I14 -> 133.1858
A15: =[1]Weiguang!A15 -> WEI005 | B15: =[1]Weiguang!B15 -> YWF4E-300B (12") (1PH) (230V) | D15: =[1]Weiguang!D15 -> 85 | E15: =[1]Weiguang!I15 -> 133.1858
A16: =[1]Weiguang!A16 -> WEI005.1 | B16: =[1]Weiguang!B16 -> YWF2E-300-S (12") (1PH) (230V)7 BLADE C/W 2M WIRE | D16: =[1]Weiguang!D16 -> 85 | E16: =[1]Weiguang!I16 -> 144.66734
A17: =[1]Weiguang!A17 -> WEI005.2 | B17: =[1]Weiguang!B17 -> YWF2D-300-S (12") (3PH) (415V)7 BLADE C/W 2M WIRE | D17: =[1]Weiguang!D17 -> 85 | E17: =[1]Weiguang!I17 -> 144.66734
A18: =[1]Weiguang!A18 -> WEI005.3 | B18: =[1]Weiguang!B18 -> YWF2D-300-B (12") (3PH) (415V)7 BLADE | D18: =[1]Weiguang!D18 -> 85 | E18: =[1]Weiguang!I18 -> 144.66734
A19: =[1]Weiguang!A21 -> WEI006 | B19: =[1]Weiguang!B21 -> YWF4E-330-G (13") (1PH) (230V) | D19: =[1]Weiguang!D21 -> 95 | E19: =[1]Weiguang!I21 -> 155.95261
A20: =[1]Weiguang!A22 -> WEI007 | B20: =[1]Weiguang!B22 -> YWF4E-350-G (14") (1PH) (230V) | D20: =[1]Weiguang!D22 -> 140 | E20: =[1]Weiguang!I22 -> 179.85775
A21: =[1]Weiguang!A23 -> WEI008 | B21: =[1]Weiguang!B23 -> YWF4D-350-G (14") (3PH) (415V) | D21: =[1]Weiguang!D23 -> 140 | E21: =[1]Weiguang!I23 -> 179.85775
A22: =[1]Weiguang!A24 -> WEI009 | B22: =[1]Weiguang!B24 -> YWF4E-400-G (16") (1PH) (230V) | D22: =[1]Weiguang!D24 -> 180 | E22: =[1]Weiguang!I24 -> 199.20954
A23: =[1]Weiguang!A25 -> WEI010 | B23: =[1]Weiguang!B25 -> YWF4D-400-G (16") (3PH) (415V) | D23: =[1]Weiguang!D25 -> 180 | E23: =[1]Weiguang!I25 -> 199.20954
A24: =[1]Weiguang!A26 -> WEI011 | B24: =[1]Weiguang!B26 -> YWF6E-400-G (16") (1PH) (230V) - 6poles | D24: =[1]Weiguang!D26 -> 108 | E24: =[1]Weiguang!I26 -> 199.20954
A25: =[1]Weiguang!A27 -> WEI012 | B25: =[1]Weiguang!B27 -> YWF6D-400-G (16") (3PH) (415V) - 6poles | D25: =[1]Weiguang!D27 -> 108 | E25: =[1]Weiguang!I27 -> 199.20954
A26: =[1]Weiguang!A28 -> WEI013 | B26: =[1]Weiguang!B28 -> YWF4E-450-G (18") (1PH) (230V) | D26: =[1]Weiguang!D28 -> 250 | E26: =[1]Weiguang!I28 -> 226.5297
A27: =[1]Weiguang!A29 -> WEI014 | B27: =[1]Weiguang!B29 -> YWF4D-450-G (18") (3PH) (415V) | D27: =[1]Weiguang!D29 -> 250 | E27: =[1]Weiguang!I29 -> 226.5297
A28: =[1]Weiguang!A30 -> WEI015 | B28: =[1]Weiguang!B30 -> YWF6D-450-G (18") (3PH) (415V) - 6poles | D28: =[1]Weiguang!D30 -> 150 | E28: =[1]Weiguang!I30 -> 226.5297
A29: =[1]Weiguang!A31 -> WEI016 | B29: =[1]Weiguang!B31 -> YWF4E-500-G (20") (1PH) (230V) | D29: =[1]Weiguang!D31 -> 420 | E29: =[1]Weiguang!I31 -> 288.51233
A30: =[1]Weiguang!A32 -> WEI017 | B30: =[1]Weiguang!B32 -> YWF4D-500-G (20") (3PH) (415V) | D30: =[1]Weiguang!D32 -> 450 | E30: =[1]Weiguang!I32 -> 288.51233
... A46: =[1]Weiguang!A48 -> WEI026.3 | B46: =[1]Weiguang!B48 -> YWF4D-630S-180/105A2-G (26") (3PH) (415V)(ALUMINIUM DIE CAST) | D46: =[1]Weiguang!D48 -> 2700 | E46: =[1]Weiguang!I48 -> 1476.034
A47: =[1]Weiguang!A49 -> WEI026.4 | B47: =[1]Weiguang!B49 -> YWF4E-300-G (12") (1PH) (230V) S/STEEL | C47: WEIGUANG heavy duty fan sets 1PH & 3PH (230V , 380V ~ 415V)S/Steel fan blade & guard | D47: =[1]Weiguang!D49 -> 85 | E47: =[1]Weiguang!I49 -> 241.35002
A48: =[1]Weiguang!A50 -> WEI026.5 | B48: =[1]Weiguang!B50 -> YWF4D-300-G (12") (3PH) (415V) S/STEEL | D48: =[1]Weiguang!D50 -> 85 | E48: =[1]Weiguang!I50 -> 242.72916
A49: =[1]Weiguang!A51 -> WEI026.6 | B49: =[1]Weiguang!B51 -> YWF2D-300-S (12") (3PH) (415V) S/STEEL (HEAVY DUTY) 7 BLADE C/W 2M WIRE | D49: =[1]Weiguang!D51 -> 165 | E49: =[1]Weiguang!I51 -> 289.62002
A50: =[1]Weiguang!A52 -> WEI026.7 | B50: =[1]Weiguang!B52 -> YWF4E-400-G (16") (1PH) (230V) S/STEEL | D50: =[1]Weiguang!D52 -> 205 | E50: =[1]Weiguang!I52 -> 358.57717
A51: =[1]Weiguang!A53 -> WEI026.8 | B51: =[1]Weiguang!B53 -> YWF4D-400-G (16") (3PH) (415V) S/STEEL | D51: =[1]Weiguang!D53 -> 205 | E51: =[1]Weiguang!I53 -> 358.57717
A52: =[1]Weiguang!A54 -> WEI026.81 | B52: =[1]Weiguang!B54 -> YWF4D-450-S-137/35 (18") (3PH) (415V) S/S AXIAL FAN SET (HEAVY DUTY) 7 BLADE | D52: =[1]Weiguang!D54 -> 0 | E52: =[1]Weiguang!I54 -> 0
A53: =[1]Weiguang!A55 -> WEI026.9 | B53: =[1]Weiguang!B55 -> YWF4D-500S-137/60-G (20") (3PH) (415V) S/STEEL (HEAVY DUTY) 7 BLADE | C53: WEIGUANG end plate TYPE FAN SETS 1PH & 3PH (230V , 380V ~ 415V) | D53: =[1]Weiguang!D55 -> 750 | E53: =[1]Weiguang!I55 -> 545.03729
A54: =[1]Weiguang!A56 -> WEI027 | B54: =[1]Weiguang!B56 -> YWF4D-500-S 137/60-G (20") (3PH ) (415V)7blade cw end plate | D54: =[1]Weiguang!D56 -> 750 | E54: =[1]Weiguang!I56 -> 530.02709
A55: =[1]Weiguang!A57 -> WEI028 | B55: =[1]Weiguang!B57 -> YWF4D-630S-180/105-B1 (26") (3PH) (415V)C/W END PLATE (HEAVY DUTY) | D55: =[1]Weiguang!D57 -> 2700 | E55: =[1]Weiguang!I57 -> 1454.7347
A56: =[1]Weiguang!A58 -> WEI028.01 | B56: =[1]Weiguang!B58 -> YWF4D-630S-180/75-B1 (26") (3PH) (415V) C/W END PLATE (HEAVY DUTY) | D56: =[1]Weiguang!D58 -> 1900 | E56: =[1]Weiguang!I58 -> 1027.9212
A57: =[1]Weiguang!A59 -> WEI028.02 | B57: =[1]Weiguang!B59 -> YWF.A6T-710S-7FIS01(28")(3PH 415V)C/W END PLATE (HEAVY DUTY) | D57: =[1]Weiguang!D59 -> 1100 c/w plate | E57: =[1]Weiguang!I59 -> 1324.6637
A58: =[1]Weiguang!A60 -> WEI028.03 | B58: =[1]Weiguang!B60 -> YWF6D-800-180/75-B1 (32") (3PH) (415V)C/W END PLATE (HEAVY DUTY) | D58: =[1]Weiguang!D60 -> 1200 | E58: =[1]Weiguang!I60 -> 1971.7731
A59: =[1]Weiguang!A61 -> WEI029 | B59: =[1]Weiguang!B61 -> YWF6D-800S-180/105-B1 (32") (3PH) (415V) C/W END PLATE (HEAVY DUTY) | D59: =[1]Weiguang!D61 -> 1900 | E59: =[1]Weiguang!I61 -> 2607.8339
...

Sheet ZIEHL
A1: WELLER AIR-COND PARTS ENTERPRISE SDN BHD (613386-K)
A3: =Weiguang!A3 -> DATE :5.5.26
A8: ITEM CODE | B8: GUARANTEE GENUINE GERMANY FAN SETS | C8: PH & Voltage | D8: BRAND | E8: 1Pallet quantity | F8: =[1]ZIEHL!K8 -> RM | G8: PICTURE
A9: =[1]ZIEHL!A9 -> ZI 001.1 | B9: =[1]ZIEHL!B9 -> (16") FN040-VDK Ziehhlabegg fan (1PH) | C9: =[1]ZIEHL!C9 -> 1PH (230V) | D9: Ziehhlabegg | E9: 28 | F9: =[1]ZIEHL!K9 -> 501.11111
A10: =[1]ZIEHL!A10 -> ZI001 | B10: =[1]ZIEHL!B10 -> (16") FN040-VDK Ziehhlabegg fan (3ph) | C10: =[1]ZIEHL!C10 -> 3PH (415V) | E10: 28 | F10: =[1]ZIEHL!K10 -> ~
A11: =[1]ZIEHL!A11 -> ZI002 | B11: =[1]ZIEHL!B11 -> (20") FN050-VDK Ziehhlabegg fan | C11: =[1]ZIEHL!C11 -> 3PH (415V) | E11: 28 | F11: =[1]ZIEHL!K11 -> ~
A12: =[1]ZIEHL!A12 -> ZI003 | B12: =[1]ZIEHL!B12 -> (26") FN063-VDK Ziehhlabegg fan | C12: =[1]ZIEHL!C12 -> 3PH (415V) | E12: 6 | F12: =[1]ZIEHL!K12 -> ~
A13: =[1]ZIEHL!A13 -> ZI005 | B13: =[1]ZIEHL!B13 -> (32") FN080-sDQ Ziehhlabegg fan (6poles) | C13: =[1]ZIEHL!C13 -> 3PH (415V) | E13: 6 | F13: =[1]ZIEHL!K13 -> ~
A14: =[1]ZIEHL!A14 -> ZI 8 | B14: =[1]ZIEHL!B14 -> (26") FB063-VDK Ziehhlabegg fan | C14: =[1]ZIEHL!C14 -> 3PH (415V) | F14: =[1]ZIEHL!K14 -> 1454.3015
A15: =[1]ZIEHL!A15 -> ZI005.1 | B15: =[1]ZIEHL!B15 -> 12" EBM FAN SET (1PH) | C15: =[1]ZIEHL!C15 -> 1PH (230V) | D15: EBM | F15: =[1]ZIEHL!K15 -> ~
A16: =[1]ZIEHL!A16 -> ZI005.2 | B16: =[1]ZIEHL!B16 -> 14" EBM FAN SET (1PH) | C16: =[1]ZIEHL!C16 -> 1PH (230V) | F16: =[1]ZIEHL!K16 -> ~
A17: =[1]ZIEHL!A17 -> ZI005.3 | B17: =[1]ZIEHL!B17 -> 14" EBM FAN SET (3PH) | C17: =[1]ZIEHL!C17 -> 3PH (415V) | F17: =[1]ZIEHL!K17 -> 363.18918
A18: =[1]ZIEHL!A18 -> ZI006 | B18: =[1]ZIEHL!B18 -> 16" EBM FAN SET (1PH) | C18: =[1]ZIEHL!C18 -> 1PH (230V) | E18: 45 | F18: =[1]ZIEHL!K18 -> 470.72331
A19: =[1]ZIEHL!A19 -> ZI007 | B19: =[1]ZIEHL!B19 -> 16" EBM FAN SET (3PH) | C19: =[1]ZIEHL!C19 -> 3PH (415V) | E19: 46 | F19: =[1]ZIEHL!K19 -> ~
A20: =[1]ZIEHL!A20 -> ZI007.1 | B20: =[1]ZIEHL!B20 -> 18" EBM FAN SET (3PH) | C20: =[1]ZIEHL!C20 -> 3PH (415V) | F20: =[1]ZIEHL!K20 -> ~
A21: =[1]ZIEHL!A21 -> ZI008 | B21: =[1]ZIEHL!B21 -> 20" EBM FAN SET (3PH) | C21: =[1]ZIEHL!C21 -> 3PH (415V) | E21: 47 | F21: =[1]ZIEHL!K21 -> ~
A22: =[1]ZIEHL!A22 -> ZI009 | B22: =[1]ZIEHL!B22 -> 26" EBM FAN SET (3PH) | C22: =[1]ZIEHL!C22 -> 3PH (415V) | E22: 48 | F22: =[1]ZIEHL!K22 -> 1922.7663
A23: =[1]ZIEHL!A23 -> ZI010 | B23: =[1]ZIEHL!B23 -> 32" EBM FAN SET (3PH) c/w end plate(800mm) | C23: =[1]ZIEHL!C23 -> 3PH (415V) | F23: =[1]ZIEHL!K23 -> 2766.3024
A24: =[1]ZIEHL!A24 -> ZI010.1 | B24: =[1]ZIEHL!B24 -> 36" EBM FAN SET (3PH) c/w end plate(910mm) | C24: =[1]ZIEHL!C24 -> 3PH (415V) | F24: =[1]ZIEHL!K24 -> ~
A25: =[1]ZIEHL!A25 -> ZI011 | B25: =[1]ZIEHL!B25 -> 10watts ebm fan motor (M4Q045CA03A4/C01) | C25: =[1]ZIEHL!C25 -> 0 | F25: =[1]ZIEHL!K25 -> ~
A26: =[1]ZIEHL!A26 -> ZI012 | B26: =[1]ZIEHL!B26 -> 18watts ebm fan motor (M4Q045DA13A4/C01) | C26: =[1]ZIEHL!C26 -> 0 | F26: =[1]ZIEHL!K26 -> ~
A27: PRICE VALID : Ex-factory at K.L price
A28: *PRICE WILL BE CHANGE ON THE FINAL PAYMENT DUE TO THE CURRENCY RATE
A29: *PLEASE EMAIL OR FAX OVER THE BANK IN SLIP
A30: BANK ACC :HONG LEONG BANK BHD 36600016285 , PUBLIC BANK BHD 3119617816
A31: BENEFICIARY :WELLER AIR-COND PARTS ENTERPRICE SDN BHD
A32: COMPUTER PRINT GENERATE ONLY

Sheet QC
A1: WELLER AIR-COND PARTS ENTERPRISE SDN BHD (613386-K)
A3: =ZIEHL!A3 -> DATE :5.5.26
A7: PRICE WILL UPDATE OR CHANGE EVERYWEEK DUE TO THE DATE
A8: ITEM CODE | B8: NEW QC UNIT BLOWER (FREEZER) MODEL | C8: DECRIPTION | D8: COMPRESSOR TO MATCH | E8: =[1]QC!E8 -> BTU/HR td7 | F8: =[1]QC!F8 -> kW td7 | G8: =[1]QC!G8 -> Flowrate meter | H8: =[1]QC!H8 -> Dimension (mm) | I8: =[1]QC!I8 -> Voltage | J8: =[1]QC!J8 -> Heater pcs | K8: =[1]QC!K8 -> Heater KW | L8: =[1]QC!L8 -> Size outlet copper p-trap | ... N8: =[1]QC!N8 -> (Frezzer) TES (R404) -25c orifice no | O8: =[1]QC!Z8 -> (RM) axial fan | P8: =[1]QC!AA8 -> Axial fan c/w exp valve ,p trap | Q8: =[1]QC!AI8 -> (RM)aluminium heavy duty fan | R8: =[1]QC!AJ8 -> heavy fan c/w p trap and exp valve | S8: PICTURE
A9: =[1]QC!A9 -> QC001 | B9: =[1]QC!B9 -> CL301C4 | C9: FREEZER - 5'C ~ - 25'C ( 7mm ~ 9mm Fin Spacing) Unit blower with EBM / AXIAL FAN SETS | D9: =[1]QC!D9 -> MT22,CS11,zb15 | E9: =[1]QC!E9 -> 4778.2 | F9: =[1]QC!F9 -> 1.4 | G9: =[1]QC!G9 -> 9 | H9: =[1]QC!H9 -> 1x300 | I9: =[1]QC!I9 -> 230 | J9: =[1]QC!J9 -> 3 | K9: =[1]QC!K9 -> 1.5 | ... N9: =[1]QC!N9 -> 1 / RCX0834 | O9: =[1]QC!Z9 -> 1383.1314 | P9: =[1]QC!AA9 -> 1627.2204 | Q9: =[1]QC!AI9 -> ~ | R9: =[1]QC!AJ9 -> ~
A10: =[1]QC!A10 -> QC002 | B10: =[1]QC!B10 -> CL302C3 | D10: =[1]QC!D10 -> MT32-MT36,ZB19 | E10: =[1]QC!E10 -> 6826 | F10: =[1]QC!F10 -> 2 | G10: =[1]QC!G10 -> 9 | H10: =[1]QC!H10 -> 2x300 | I10: =[1]QC!I10 -> 230 | J10: =[1]QC!J10 -> 3 | K10: =[1]QC!K10 -> 2.4 | ... N10: =[1]QC!N10 -> 2 / RCX1034 | O10: =[1]QC!Z10 -> 1895.9928 | P10: =[1]QC!AA10 -> 2122.3969 | Q10: =[1]QC!AI10 -> ~ | R10: =[1]QC!AJ10 -> ~
A11: =[1]QC!A11 -> QC003 | B11: =[1]QC!B11 -> CL302C4 | D11: =[1]QC!D11 -> MT40-MT44,ZB21 | E11: =[1]QC!E11 -> 7849.9 | F11: =[1]QC!F11 -> 2.3 | G11: =[1]QC!G11 -> 9 | H11: =[1]QC!H11 -> 2x300 | I11: =[1]QC!I11 -> 230 | J11: =[1]QC!J11 -> 3 | K11: =[1]QC!K11 -> 2.4 | ... N11: =[1]QC!N11 -> 3 / RCX1534 | O11: =[1]QC!Z11 -> 2071.3754 | P11: =[1]QC!AA11 -> 2291.7319 | Q11: =[1]QC!AI11 -> ~ | R11: =[1]QC!AJ11 -> ~
A12: =[1]QC!A12 -> QC004 | B12: =[1]QC!B12 -> CL302C6 | D12: =[1]QC!D12 -> MT50-MT64,ZB29,ZB38 | E12: =[1]QC!E12 -> 10239 | F12: =[1]QC!F12 -> 3 | G12: =[1]QC!G12 -> 8 | H12: =[1]QC!H12 -> 2x300 | I12: =[1]QC!I12 -> 230 | J12: =[1]QC!J12 -> 5 | K12: =[1]QC!K12 -> 4 | ... N12: =[1]QC!N12 -> 3 / RCX1534 | O12: =[1]QC!Z12 -> 2581.5795 | P12: =[1]QC!AA12 -> 2803.2192 | Q12: =[1]QC!AI12 -> ~ | R12: =[1]QC!AJ12 -> ~
A13: =[1]QC!A13 -> QC005 | B13: =[1]QC!B13 -> CL303C4 | D13: =[1]QC!D13 -> MT50-MT64,ZB29,ZB38 | E13: =[1]QC!E13 -> 12628.1 | F13: =[1]QC!F13 -> 3.7 | G13: =[1]QC!G13 -> 9 | H13: =[1]QC!H13 -> 3x300 | I13: =[1]QC!I13 -> 230 | J13: =[1]QC!J13 -> 3 | K13: =[1]QC!K13 -> 6 | ... N13: =[1]QC!N13 -> 4 / RCX2034 | O13: =[1]QC!Z13 -> 2792.8359 | P13: =[1]QC!AA13 -> 3007.1909 | Q13: =[1]QC!AI13 -> ~ | R13: =[1]QC!AJ13 -> ~
A14: =[1]QC!A14 -> QC006 | B14: =[1]QC!B14 -> CL303C6 | D14: =[1]QC!D14 -> 4DES5Y,MT100,ZB45 | E14: =[1]QC!E14 -> 15699.8 | F14: =[1]QC!F14 -> 4.6 | G14: =[1]QC!G14 -> 9 | H14: =[1]QC!H14 -> 3x300 | I14: =[1]QC!I14 -> 230 | J14: =[1]QC!J14 -> 5 | K14: =[1]QC!K14 -> 6 | ... N14: =[1]QC!N14 -> 6 | O14: =[1]QC!Z14 -> 3427.9337 | P14: =[1]QC!AA14 -> 3620.3887 | Q14: =[1]QC!AI14 -> ~ | R14: =[1]QC!AJ14 -> ~
A15: =[1]QC!A15 -> QC006.1 | B15: =[1]QC!B15 -> CL304C6 | D15: =[1]QC!D15 -> 4CES6YY,MT125,ZB48 | E15: =[1]QC!E15 -> 21501.9 | F15: =[1]QC!F15 -> 6.3 | G15: =[1]QC!G15 -> 9 | H15: =[1]QC!H15 -> 4x300 | I15: =[1]QC!I15 -> 230 | J15: =[1]QC!J15 -> 5 | K15: =[1]QC!K15 -> 6 | ... N15: =[1]QC!N15 -> TES5-1 / TGES5 | O15: =[1]QC!Z15 -> 4486.8729 | P15: =[1]QC!AA15 -> 4953.7689 | Q15: =[1]QC!AI15 -> ~ | R15: =[1]QC!AJ15 -> ~
A16: =[1]QC!A16 -> QC007 | B16: =[1]QC!B16 -> CL401C3 | D16: =[1]QC!D16 -> MT28,ZB15 | E16: =[1]QC!E16 -> 6826 | F16: =[1]QC!F16 -> 2 | G16: =[1]QC!G16 -> 12 | H16: =[1]QC!H16 -> 1x400 | I16: =[1]QC!I16 -> 230 | J16: =[1]QC!J16 -> 3 | K16: =[1]QC!K16 -> 1.5 | ... N16: =[1]QC!N16 -> 1 / RCX0834 | O16: =[1]QC!Z16 -> 1648.8627 | P16: =[1]QC!AA16 -> 1883.7885 | Q16: =[1]QC!AI16 -> 2132.9124 | R16: =[1]QC!AJ16 -> 2424.6956
A17: =[1]QC!A17 -> QC008 | B17: =[1]QC!B17 -> CL401C4 | D17: =[1]QC!D17 -> MT32,ZB19 | E17: =[1]QC!E17 -> 7849.9 | F17: =[1]QC!F17 -> 2.3 | G17: =[1]QC!G17 -> 12 | H17: =[1]QC!H17 -> 1x400 | I17: =[1]QC!I17 -> 230 | J17: =[1]QC!J17 -> 3 | K17: =[1]QC!K17 -> 1.5 | ... N17: =[1]QC!N17 -> 2 / RCX1034 | O17: =[1]QC!Z17 -> 1939.8384 | P17: =[1]QC!AA17 -> 2164.7306 | Q17: =[1]QC!AI17 -> 2413.8545 | R17: =[1]QC!AJ17 -> 2705.6377
A18: =[1]QC!A18 -> QC009 | B18: =[1]QC!B18 -> CL401C5 | D18: =[1]QC!D18 -> MT40,ZB21 | E18: =[1]QC!E18 -> 9897.7 | F18: =[1]QC!F18 -> 2.9 | G18: =[1]QC!G18 -> 12 | H18: =[1]QC!H18 -> 1x400 | I18: =[1]QC!I18 -> 230 | J18: =[1]QC!J18 -> 5 | K18: =[1]QC!K18 -> 2.5 | ... N18: =[1]QC!N18 -> 3 / RCX1534 | O18: =[1]QC!Z18 -> 2125.8503 | P18: =[1]QC!AA18 -> 2344.3283 | Q18: =[1]QC!AI18 -> 2524.1788 | R18: =[1]QC!AJ18 -> 2815.962
A19: =[1]QC!A19 -> QC010 | B19: =[1]QC!B19 -> CL401C6 | D19: =[1]QC!D19 -> MT50,ZB26 | E19: =[1]QC!E19 -> 10580.3 | F19: =[1]QC!F19 -> 3.1 | G19: =[1]QC!G19 -> 12 | H19: =[1]QC!H19 -> 1x400 | I19: =[1]QC!I19 -> 230 | J19: =[1]QC!J19 -> 5 | K19: =[1]QC!K19 -> 2.5 | ... N19: =[1]QC!N19 -> 3 / RCX2034 | O19: =[1]QC!Z19 -> 2222.8423 | P19: =[1]QC!AA19 -> 2437.9757 | Q19: =[1]QC!AI19 -> 2617.8262 | R19: =[1]QC!AJ19 -> 2909.6094
A20: =[1]QC!A20 -> QC010.1 | B20: =[1]QC!B20 -> CL402C3 | D20: =[1]QC!D20 -> MT64,ZB29 | E20: =[1]QC!E20 -> 12628.1 | F20: =[1]QC!F20 -> 3.7 | G20: =[1]QC!G20 -> 14 | H20: =[1]QC!H20 -> 2x400 | I20: =[1]QC!I20 -> 415 | J20: =[1]QC!J20 -> 3 | K20: =[1]QC!K20 -> 3 | ... N20: =[1]QC!N20 -> 3 / RCX2034 | O20: =[1]QC!Z20 -> 2645.355 | P20: =[1]QC!AA20 -> 2864.7955 | Q20: =[1]QC!AI20 -> 3644.6015 | R20: =[1]QC!AJ20 -> 3955.2612
A21: =[1]QC!A21 -> QC011 | B21: =[1]QC!B21 -> CL402C4 | D21: =[1]QC!D21 -> MT80,CS33,ZB38 | E21: =[1]QC!E21 -> 16041.1 | F21: =[1]QC!F21 -> 4.7 | G21: =[1]QC!G21 -> 14 | H21: =[1]QC!H21 -> 2x400 | I21: =[1]QC!I21 -> 415 | J21: =[1]QC!J21 -> 3 | K21: =[1]QC!K21 -> 3 | ... N21: =[1]QC!N21 -> 3 / RCX2034 | O21: =[1]QC!Z21 -> 2968.2185 | P21: =[1]QC!AA21 -> 3176.5258 | Q21: =[1]QC!AI21 -> 3956.3318 | R21: =[1]QC!AJ21 -> 4266.9915
... A27: =[1]QC!A27 -> QC016 | B27: =[1]QC!B27 -> CL404C6 | D27: =[1]QC!D27 -> 4NES14Y,ZFI39 | E27: =[1]QC!E27 -> 41297.3 | F27: =[1]QC!F27 -> 12.1 | G27: =[1]QC!G27 -> 16 | H27: =[1]QC!H27 -> 4x400 | I27: =[1]QC!I27 -> 415 | J27: =[1]QC!J27 -> 5 | K27: =[1]QC!K27 -> 9 | ... N27: =[1]QC!N27 -> TES5-1 /TGES5 | O27: =[1]QC!Z27 -> 6858.5247 | P27: =[1]QC!AA27 -> 7281.8753 | Q27: =[1]QC!AI27 -> 8647.4029 | R27: =[1]QC!AJ27 -> 9307.2544
A28: =[1]QC!A29 -> QC018 | B28: =[1]QC!B29 -> NT501C6 | D28: =[1]QC!D29 -> 4CES6Y,MT125,ZFI26 | E28: =[1]QC!E29 -> 26962.7 | F28: =[1]QC!F29 -> 7.9 | G28: =[1]QC!G29 -> 26 | H28: =[1]QC!H29 -> 1X500 | I28: =[1]QC!I29 -> 415 | J28: =[1]QC!J29 -> 6 | K28: =[1]QC!K29 -> 9 | ... N28: =[1]QC!N29 -> 6 /5 zfi | O28: =[1]QC!Z29 -> 4761.9048 | P28: =[1]QC!AA29 -> 5352.9493 | Q28: =[1]QC!AI29 -> 5116.2528 | R28: =[1]QC!AJ29 -> 5688.5339
A29: =[1]QC!A30 -> QC019 | B29: =[1]QC!B30 -> NT501C8 | D29: =[1]QC!D30 -> 4TES9Y,ZFI31,ZFI36 | E29: =[1]QC!E30 -> 30034.4 | F29: =[1]QC!F30 -> 8.8 | G29: =[1]QC!G30 -> 26 | H29: =[1]QC!H30 -> 1X500 | I29: =[1]QC!I30 -> 415 | J29: =[1]QC!J30 -> 6 | K29: =[1]QC!K30 -> 9 | ... N29: =[1]QC!N30 -> TES2-6 /TGES5 | O29: =[1]QC!Z30 -> 5598.6534 | P29: =[1]QC!AA30 -> 6226.0532 | Q29: =[1]QC!AI30 -> 5926.438 | R29: =[1]QC!AJ30 -> 6533.9203
A30: =[1]QC!A31 -> QC020 | B30: =[1]QC!B31 -> NT502C4 | D30: =[1]QC!D31 -> 4PES12Y,ZFI39 | E30: =[1]QC!E31 -> 42662.5 | F30: =[1]QC!F31 -> 12.5 | G30: =[1]QC!G31 -> 26 | H30: =[1]QC!H31 -> 2X500 | I30: =[1]QC!I31 -> 415 | J30: =[1]QC!J31 -> 6 | K30: =[1]QC!K31 -> 9 | ... N30: =[1]QC!N31 -> TES5-1 ZFI /TGES5 | O30: =[1]QC!Z31 -> 6801.3271 | P30: =[1]QC!AA31 -> 7448.399 | Q30: =[1]QC!AI31 -> 7643.3899 | R30: =[1]QC!AJ31 -> 8269.9199
A31: =[1]QC!A32 -> QC021 | B31: =[1]QC!B32 -> NT502C5 | D31: =[1]QC!D32 -> 4NES14Y,ZFI50 | E31: =[1]QC!E32 -> 48464.6 | F31: =[1]QC!F32 -> 14.2 | G31: =[1]QC!G32 -> 26 | H31: =[1]QC!H32 -> 2x500 | I31: =[1]QC!I32 -> 415 | J31: =[1]QC!J32 -> 6 | K31: =[1]QC!K32 -> 9 | ... N31: =[1]QC!N32 -> TES5-1 ZFI /TGES7.5 | O31: =[1]QC!Z32 -> 7755.1717 | P31: =[1]QC!AA32 -> 8402.2437 | Q31: =[1]QC!AI32 -> 8566.9538 | R31: =[1]QC!AJ32 -> 9193.4837
A32: =[1]QC!A33 -> QC022 | B32: =[1]QC!B33 -> NT502C6 | D32: =[1]QC!D33 -> 4HE18Y,ZFI59,ZFI68 | E32: =[1]QC!E33 -> 54608 | F32: =[1]QC!F33 -> 16 | G32: =[1]QC!G33 -> 26 | H32: =[1]QC!H33 -> 2x500 | I32: =[1]QC!I33 -> 415 | J32: =[1]QC!J33 -> 6 | K32: =[1]QC!K33 -> 9 | ... N32: =[1]QC!N33 -> TES5-2 ZFI /SCX0857/TGES7.5 | O32: =[1]QC!Z33 -> 8490.6811 | P32: =[1]QC!AA33 -> 9137.7531 | Q32: =[1]QC!AI33 -> 9279.1136 | R32: =[1]QC!AJ33 -> 9905.6436
A33: =[1]QC!A34 -> QC023 | B33: =[1]QC!B34 -> NT502C8 | D33: =[1]QC!D34 -> 4GE23Y,ZFI81 | E33: =[1]QC!E34 -> 61434 | F33: =[1]QC!F34 -> 18 | G33: =[1]QC!G34 -> 26 | H33: =[1]QC!H34 -> 2x500 | I33: =[1]QC!I34 -> 415 | J33: =[1]QC!J34 -> 6 | K33: =[1]QC!K34 -> 9 | ... N33: =[1]QC!N34 -> TES5-3 /SCX0957/TGES9,TES5-2 ZFI | O33: =[1]QC!Z34 -> 10380.074 | P33: =[1]QC!AA34 -> 11080.509 | Q33: =[1]QC!AI34 -> 11108.526 | R33: =[1]QC!AJ34 -> 11786.725
A34: =[1]QC!A35 -> QC023.1 | B34: =[1]QC!B35 -> NT503C5 | D34: =[1]QC!D35 -> 4FE25Y / 4GE23Y,ZFI81 | E34: =[1]QC!E35 -> 72000 | F34: =[1]QC!F35 -> 21.09581 | G34: =[1]QC!G35 -> 26 | H34: =[1]QC!H35 -> 3X500 | I34: =[1]QC!I35 -> 415 | J34: =[1]QC!J35 -> 6 | K34: =[1]QC!K35 -> 14.4 | ... N34: =[1]QC!N35 -> TES5-4 /SCX0957/TGES11,TES5-3 ZFI | O34: =[1]QC!Z35 -> 11280.25 | P34: =[1]QC!AA35 -> 11980.685 | Q34: =[1]QC!AI35 -> 12577.764 | R34: =[1]QC!AJ35 -> 13255.963
A35: =[1]QC!A36 -> QC024 | B35: =[1]QC!B36 -> NT503C6 | D35: =[1]QC!D36 -> S6H-20.2Y / 6HE28Y,ZFI81 | E35: =[1]QC!E36 -> 81912 | F35: =[1]QC!F36 -> 24 | G35: =[1]QC!G36 -> 26 | H35: =[1]QC!H36 -> 3x500 | I35: =[1]QC!I36 -> 415 | J35: =[1]QC!J36 -> 6 | K35: =[1]QC!K36 -> 14.4 | ... N35: =[1]QC!N36 -> TES5-4/ TGES13 | O35: =[1]QC!Z36 -> 12346.311 | P35: =[1]QC!AA36 -> 13248.491 | Q35: =[1]QC!AI36 -> 13609.983 | R35: =[1]QC!AJ36 -> 14483.522
A36: =[1]QC!A37 -> QC025 | B36: =[1]QC!B37 -> NT503C8 | D36: =[1]QC!D37 -> 6GE34Y,ZFI96 | E36: =[1]QC!E37 -> 93857.5 | F36: =[1]QC!F37 -> 27.5 | G36: =[1]QC!G37 -> 26 | H36: =[1]QC!H37 -> 3x500 | I36: =[1]QC!I37 -> 415 | J36: =[1]QC!J37 -> 6 | K36: =[1]QC!K37 -> 14.4 | ... N36: =[1]QC!N37 -> TES12-5 ZFI/ TGES13 | O36: =[1]QC!Z37 -> 14977.313 | P36: =[1]QC!AA37 -> 15990.787 | Q36: =[1]QC!AI37 -> 16157.46 | R36: =[1]QC!AJ37 -> 17138.76
A37: =[1]QC!A38 -> QC025.1 | B37: =[1]QC!B38 -> NT504C6 | D37: =[1]QC!D38 -> 6GE34Y,ZFI122 | E37: =[1]QC!E38 -> 115000 | F37: =[1]QC!F38 -> 33.694697 | G37: =[1]QC!G38 -> 30 | H37: =[1]QC!H38 -> 4x500 | I37: =[1]QC!I38 -> 415 | J37: =[1]QC!J38 -> 6 | K37: =[1]QC!K38 -> 16.2 | ... N37: =[1]QC!N38 -> TES12-5 ZFI/ TGES13 | O37: =[1]QC!Z38 -> 15929.938 | P37: =[1]QC!AA38 -> 16943.412 | Q37: =[1]QC!AI38 -> 17681.904 | R37: =[1]QC!AJ38 -> 18663.205
A38: =[1]QC!A39 -> QC026 | B38: =[1]QC!B39 -> NT504C8 | D38: =[1]QC!D39 -> 6FE44Y/S6F-30.2,ZFI140 | E38: =[1]QC!E39 -> 122868 | F38: =[1]QC!F39 -> 36 | G38: =[1]QC!G39 -> 30 | H38: =[1]QC!H39 -> 4x500 | I38: =[1]QC!I39 -> 415 | J38: =[1]QC!J39 -> 6 | K38: =[1]QC!K39 -> 16.2 | ... N38: =[1]QC!N39 -> TES12-6 ZFI/ TGES18 | O38: =[1]QC!Z39 -> 19396.468 | P38: =[1]QC!AA39 -> 20409.942 | Q38: =[1]QC!AI39 -> 21038.386 | R38: =[1]QC!AJ39 -> 22019.686
A39: =[1]QC!A40 -> QC001 | B39: =[1]QC!B40 -> CL301C4H | C39: CHILLER +15'C ~ 0'C ( 6mm Fin Spacing) Unit blower with EBM / AXIAL FAN SETS W/O HEATER | D39: =[1]QC!D40 -> MT18,KCJ484 | E39: =[1]QC!E40 -> 10900 | F39: =[1]QC!F40 -> 3.1936713 | G39: =[1]QC!G40 -> 9 | H39: =[1]QC!H40 -> 1x300 | I39: =[1]QC!I40 -> 230 | K39: =[1]QC!K40 -> ~ | L39: =[1]QC!L40 -> 0.875 | M39: =[1]QC!M40 -> 1 / RCX1234 | N39: =[1]QC!N40 -> 1 / RCX0834 | O39: =[1]QC!Z40 -> 1275.5102 | P39: =[1]QC!AA40 -> 1461.023 | Q39: =[1]QC!AI40 -> ~ | R39: =[1]QC!AJ40 -> ~
A40: =[1]QC!A41 -> QC002 | B40: =[1]QC!B41 -> CL302C3H | D40: =[1]QC!D41 -> MT22,CS11,zb15 | E40: =[1]QC!E41 -> 14600 | F40: =[1]QC!F41 -> 4.2777615 | G40: =[1]QC!G41 -> 9 | H40: =[1]QC!H41 -> 2x300 | I40: =[1]QC!I41 -> 230 | K40: =[1]QC!K41 -> ~ | L40: =[1]QC!L41 -> 0.875 | M40: =[1]QC!M41 -> 1 / RCX1234 | N40: =[1]QC!N41 -> 2 / RCX1034 | O40: =[1]QC!Z41 -> 1748.5119 | P40: =[1]QC!AA41 -> 1917.7143 | Q40: =[1]QC!AI41 -> ~ | R40: =[1]QC!AJ41 -> ~
A41: =[1]QC!A42 -> QC003 | B41: =[1]QC!B42 -> CL302C4H | D41: =[1]QC!D42 -> MT32,ZB19,CS13 | E41: =[1]QC!E42 -> 18300 | F41: =[1]QC!F42 -> 5.3618517 | G41: =[1]QC!G42 -> 9 | H41: =[1]QC!H42 -> 2x300 | I41: =[1]QC!I42 -> 230 | K41: =[1]QC!K42 -> ~ | L41: =[1]QC!L42 -> 0.875 | M41: =[1]QC!M42 -> 2 / RCX1634 | N41: =[1]QC!N42 -> 3 / RCX1534 | O41: =[1]QC!Z42 -> 1923.8946 | P41: =[1]QC!AA42 -> 2087.0493 | Q41: =[1]QC!AI42 -> ~ | R41: =[1]QC!AJ42 -> ~
A42: =[1]QC!A43 -> QC004 | B42: =[1]QC!B43 -> CL302C6H | D42: =[1]QC!D43 -> MT40,ZB21,CS20 | E42: =[1]QC!E43 -> 25800 | F42: =[1]QC!F43 -> 7.559332 | G42: =[1]QC!G43 -> 8 | H42: =[1]QC!H43 -> 2x300 | I42: =[1]QC!I43 -> 230 | K42: =[1]QC!K43 -> ~ | L42: =[1]QC!L43 -> 1.125 | M42: =[1]QC!M43 -> 2 / RCX1634 | N42: =[1]QC!N43 -> 3 / RCX1534 | O42: =[1]QC!Z43 -> 2335.7781 | P42: =[1]QC!AA43 -> 2484.7299 | Q42: =[1]QC!AI43 -> ~ | R42: =[1]QC!AJ43 -> ~
A43: =[1]QC!A44 -> QC005 | B43: =[1]QC!B44 -> CL303C4H | D43: =[1]QC!D44 -> MT50,ZB29,CS27 | E43: =[1]QC!E44 -> 30400 | F43: =[1]QC!F44 -> 8.9071198 | G43: =[1]QC!G44 -> 9 | H43: =[1]QC!H44 -> 3x300 | I43: =[1]QC!I44 -> 230 | K43: =[1]QC!K44 -> ~ | L43: =[1]QC!L44 -> 1.125 | M43: =[1]QC!M44 -> 3 / RCX2434 | N43: =[1]QC!N44 -> 4 / RCX2034 | O43: =[1]QC!Z44 -> 2593.5374 | P43: =[1]QC!AA44 -> 2733.601 | Q43: =[1]QC!AI44 -> ~ | R43: =[1]QC!AJ44 -> ~
A44: =[1]QC!A45 -> QC006 | B44: =[1]QC!B45 -> CL303C6H | D44: =[1]QC!D45 -> MT64,ZB38,CS33 | E44: =[1]QC!E45 -> 44800 | F44: =[1]QC!F45 -> 13.126282 | G44: =[1]QC!G45 -> 9 | H44: =[1]QC!H45 -> 3x300 | I44: =[1]QC!I45 -> 230 | K44: =[1]QC!K45 -> ~ | L44: =[1]QC!L45 -> 1.125 | M44: =[1]QC!M45 -> 4 / RCX3134 | N44: =[1]QC!N45 -> 5 / RCX3034 | O44: =[1]QC!Z45 -> 3095.7696 | P44: =[1]QC!AA45 -> 3218.5148 | Q44: =[1]QC!AI45 -> ~ | R44: =[1]QC!AJ45 -> ~
A45: =[1]QC!A46 -> QC006.1 | B45: =[1]QC!B46 -> CL304C6H | D45: =[1]QC!D46 -> MT80,ZB45,CR72 | E45: =[1]QC!E46 -> 63600 | F45: =[1]QC!F46 -> 18.634632 | G45: =[1]QC!G46 -> 9 | H45: =[1]QC!H46 -> 4x300 | I45: =[1]QC!I46 -> 230 | K45: =[1]QC!K46 -> ~ | L45: =[1]QC!L46 -> 1.125 | M45: =[1]QC!M46 -> 5 / RCX4734 | N45: =[1]QC!N46 -> 6 / SCX0445 | O45: =[1]QC!Z46 -> 4041.773 | P45: =[1]QC!AA46 -> 4131.8974 | Q45: =[1]QC!AI46 -> ~ | R45: =[1]QC!AJ46 -> ~
A46: =[1]QC!A47 -> QC007 | B46: =[1]QC!B47 -> CL401C3H | D46: =[1]QC!D47 -> MT22,CS11,zb15 | E46: =[1]QC!E47 -> 10900 | F46: =[1]QC!F47 -> 3.1936713 | G46: =[1]QC!G47 -> 12 | H46: =[1]QC!H47 -> 1x400 | I46: =[1]QC!I47 -> 230 | K46: =[1]QC!K47 -> ~ | L46: =[1]QC!L47 -> 0.875 | M46: =[1]QC!M47 -> 1 / RCX1234 | N46: =[1]QC!N47 -> 1 / RCX0834 | O46: =[1]QC!Z47 -> 1541.2415 | P46: =[1]QC!AA47 -> 1717.5912 | Q46: =[1]QC!AI47 -> 2132.9124 | R46: =[1]QC!AJ47 -> 2362.4083
A47: =[1]QC!A48 -> QC008 | B47: =[1]QC!B48 -> CL401C4H | D47: =[1]QC!D48 -> MT32,ZB19,CS13 | E47: =[1]QC!E48 -> 14600 | F47: =[1]QC!F48 -> 4.2777615 | G47: =[1]QC!G48 -> 12 | H47: =[1]QC!H48 -> 1x400 | I47: =[1]QC!I48 -> 230 | K47: =[1]QC!K48 -> ~ | L47: =[1]QC!L48 -> 0.875 | M47: =[1]QC!M48 -> 1 / RCX1234 | N47: =[1]QC!N48 -> 2 / RCX1034 | O47: =[1]QC!Z48 -> 1832.2173 | P47: =[1]QC!AA48 -> 1998.5333 | Q47: =[1]QC!AI48 -> 2413.8545 | R47: =[1]QC!AJ48 -> 2643.3505
A48: =[1]QC!A49 -> QC009 | B48: =[1]QC!B49 -> CL401C5H | D48: =[1]QC!D49 -> MT36,ZB21,CS17 | E48: =[1]QC!E49 -> 18300 | F48: =[1]QC!F49 -> 5.3618517 | G48: =[1]QC!G49 -> 12 | H48: =[1]QC!H49 -> 1x400 | I48: =[1]QC!I49 -> 230 | K48: =[1]QC!K49 -> ~ | L48: =[1]QC!L49 -> 0.875 | M48: =[1]QC!M49 -> 2 / RCX1634 | N48: =[1]QC!N49 -> 3 / RCX1534 | O48: =[1]QC!Z49 -> 1946.4817 | P48: =[1]QC!AA49 -> 2108.8576 | Q48: =[1]QC!AI49 -> 2524.1788 | R48: =[1]QC!AJ49 -> 2753.6748
A49: =[1]QC!A50 -> QC010 | B49: =[1]QC!B50 -> CL401C6H | D49: =[1]QC!D50 -> MT40,ZB21,CS20,CS24 | E49: =[1]QC!E50 -> 25800 | F49: =[1]QC!F50 -> 7.559332 | G49: =[1]QC!G50 -> 12 | H49: =[1]QC!H50 -> 1x400 | I49: =[1]QC!I50 -> 230 | K49: =[1]QC!K50 -> ~ | L49: =[1]QC!L50 -> 0.875 | M49: =[1]QC!M50 -> 3 / RCX2434 | N49: =[1]QC!N50 -> 3 / RCX1534 | O49: =[1]QC!Z50 -> 2043.4736 | P49: =[1]QC!AA50 -> 2202.505 | Q49: =[1]QC!AI50 -> 2617.8262 | R49: =[1]QC!AJ50 -> 2847.3221
...

Sheet Switch board
A1: WELLER AIR-COND PARTS ENTERPRISE SDN BHD (613386-K)
A3: ='Small comp'!A3 -> DATE :5.5.26
A8: ='[1]Switch board'!$A8 -> ITEM CODE | B8: ='[1]Switch board'!$B8 -> MODEL | C8: DESCRIPTION | D8: ( KW,HP,AMP) | E8: Packing per ctn | F8: ='[1]Switch board'!$K$8 -> RM | G8: Picture
A9: ='[1]Switch board'!$A9 -> SW001 | B9: ='[1]Switch board'!$B9 -> LC1N06 | C9: ORIGINAL SCNEIDER CONTACTOR | D9: 2.5 , 3 , 6 | E9: 36 | F9: ='[1]Switch board'!K9 -> 27.989252
A10: ='[1]Switch board'!$A10 -> SW002 | B10: ='[1]Switch board'!$B10 -> LC1N09 | D10: 4 , 5.5 , 9 | E10: 36 | F10: ='[1]Switch board'!K10 -> 34.831069
A11: ='[1]Switch board'!$A11 -> SW003 | B11: ='[1]Switch board'!$B11 -> LC1N12 | D11: 5.5 , 7.5 , 12 | E11: 36 | F11: ='[1]Switch board'!K11 -> 37.940986
A12: ='[1]Switch board'!$A12 -> SW004 | B12: ='[1]Switch board'!$B12 -> LC1N18 | D12: 7.5 , 10 , 18 | E12: 36 | F12: ='[1]Switch board'!K12 -> 47.270737
A13: ='[1]Switch board'!$A13 -> SW005 | B13: ='[1]Switch board'!$B13 -> LC1N25 | D13: 11 , 15 , 22 | E13: 36 | F13: ='[1]Switch board'!K13 -> 52.246604
A14: ='[1]Switch board'!$A14 -> SW006 | B14: ='[1]Switch board'!$B14 -> LC1N32 | D14: 15 , 20 , 32 | E14: 36 | F14: ='[1]Switch board'!K14 -> 66.552222
A15: ='[1]Switch board'!$A15 -> SW007 | B15: ='[1]Switch board'!$B15 -> LC1N38 | D15: 16 , 20 , 38 | E15: 34 | F15: ='[1]Switch board'!K15 -> 103.24924
A16: ='[1]Switch board'!$A16 -> SW008 | B16: ='[1]Switch board'!$B16 -> LC1E40 | D16: 18 , 25 , 40 | E16: 34 | F16: ='[1]Switch board'!K16 -> 126.88461
A17: ='[1]Switch board'!$A17 -> SW009 | B17: ='[1]Switch board'!$B17 -> LC1N50 | D17: 25 , 30 , 50 | E17: 34 | F17: ='[1]Switch board'!K17 -> 157.98378
A18: ='[1]Switch board'!$A18 -> SW010 | B18: ='[1]Switch board'!$B18 -> LC1N65 | D18: 30 , 35 , 65 | E18: 34 | F18: ='[1]Switch board'!K18 -> 199.03468
A19: ='[1]Switch board'!$A19 -> SW010.1 | B19: ='[1]Switch board'!$B19 -> LC1N80 | F19: ='[1]Switch board'!K19 -> 248.79335
A20: ='[1]Switch board'!$A20 -> SW010.2 | B20: ='[1]Switch board'!$B20 -> LC1N95 | F20: ='[1]Switch board'!K20 -> 342.09086
A21: ='[1]Switch board'!$A21 -> SW010.3 | B21: ='[1]Switch board'!$B21 -> LC1N120 | F21: ='[1]Switch board'!K21 -> 522.46604
A22: ='[1]Switch board'!$A22 -> SW011 | B22: ='[1]Switch board'!$B22 -> LRE05 (0.6-1) | C22: ORIGINAL SCNEIDER OVERLOAD | D22: 0.6 ~ 1 amp | E22: 33 | F22: ='[1]Switch board'!K22 -> 42.916853
A23: ='[1]Switch board'!$A23 -> SW012 | B23: ='[1]Switch board'!$B23 -> LRE06 1-1.6 | D23: 1 ~ 1.6 amp | E23: 33 | F23: ='[1]Switch board'!K23 -> 42.916853
A24: ='[1]Switch board'!$A24 -> SW013 | B24: ='[1]Switch board'!$B24 -> LRE07 1.6-2.5 | D24: 1.6 ~ 2.5 amp | E24: 33 | F24: ='[1]Switch board'!K24 -> 42.916853
A25: ='[1]Switch board'!$A25 -> SW014 | B25: ='[1]Switch board'!$B25 -> LRE08 2.5-4 | D25: 2.5 ~ 4 amp | E25: 33 | F25: ='[1]Switch board'!K25 -> 42.916853
A26: ='[1]Switch board'!$A26 -> SW015 | B26: ='[1]Switch board'!$B26 -> LRE10 4-6 | D26: 4 ~ 6 amp | E26: 33 | F26: ='[1]Switch board'!K26 -> 42.916853
A27: ='[1]Switch board'!$A27 -> SW016 | B27: ='[1]Switch board'!$B27 -> LRE12 5.5-8 | D27: 5.5 ~ 8 amp | E27: 33 | F27: ='[1]Switch board'!K27 -> 42.916853
A28: ='[1]Switch board'!$A28 -> SW017 | B28: ='[1]Switch board'!$B28 -> LRE14 7-10 | D28: 7 ~ 10 amp | E28: 33 | F28: ='[1]Switch board'!K28 -> 46.02677
A29: ='[1]Switch board'!$A29 -> SW018 | B29: ='[1]Switch board'!$B29 -> LRE16 9-13 | D29: 9 ~ 13 amp | E29: 33 | F29: ='[1]Switch board'!K29 -> 47.270737
A30: ='[1]Switch board'!$A30 -> SW019 | B30: ='[1]Switch board'!$B30 -> LRE21 12-18 | D30: 12 ~ 18 amp | E30: 33 | F30: ='[1]Switch board'!K30 -> 50.380654
A31: ='[1]Switch board'!$A31 -> SW020 | B31: ='[1]Switch board'!$B31 -> LRE22 16-24 | D31: 16 ~ 24 amp | E31: 33 | F31: ='[1]Switch board'!K31 -> 55.978504
A32: ='[1]Switch board'!$A32 -> SW021 | B32: ='[1]Switch board'!$B32 -> LRE32 23-32 | D32: 23 ~ 32 amp | E32: 33 | F32: ='[1]Switch board'!K32 -> 68.418172
A33: ='[1]Switch board'!$A33 -> SW022 | B33: ='[1]Switch board'!$B33 -> LRE35 30-38 | D33: 30 ~ 38 amp | E33: 33 | F33: ='[1]Switch board'!K33 -> 123.15271
A34: ='[1]Switch board'!$A34 -> SW022.1 | B34: ='[1]Switch board'!$B34 -> LRE37-50 | D34: 37 ~ 50 amp | F34: ='[1]Switch board'!K34 -> 123.15271
A35: ='[1]Switch board'!$A35 -> SW022.2 | B35: ='[1]Switch board'!$B35 -> LRE48-65 | D35: 48 ~ 65 amp | F35: ='[1]Switch board'!K35 -> 146.78808
A36: ='[1]Switch board'!$A36 -> SW022.3 | B36: ='[1]Switch board'!$B36 -> LRE55-70 | D36: 55 ~ 70 amp | F36: ='[1]Switch board'!K36 -> 182.24113
A37: ='[1]Switch board'!$A37 -> SW023 | B37: ='[1]Switch board'!$B37 -> LC1D09 | C37: ORIGINAL NEW SERIES SCNEIDER CONTACTOR | D37: 4 , 5.5 , 9 | F37: ='[1]Switch board'!K37 -> 47.89272
A38: ='[1]Switch board'!$A38 -> SW024 | B38: ='[1]Switch board'!$B38 -> LC1D12 | D38: 5.5 , 7.5 , 12 | F38: ='[1]Switch board'!K38 -> 52.453932
A39: ='[1]Switch board'!$A39 -> SW025 | B39: ='[1]Switch board'!$B39 -> LC1D18 | D39: 7.5 , 10 , 18 | F39: ='[1]Switch board'!K39 -> 68.418172
A40: ='[1]Switch board'!$A40 -> SW026 | B40: ='[1]Switch board'!$B40 -> LC1D25 | D40: 11 , 15 , 22 | F40: ='[1]Switch board'!K40 -> 77.540595
A41: ='[1]Switch board'!$A41 -> SW027 | B41: ='[1]Switch board'!$B41 -> LC1D32 | D41: 15 , 20 , 32 | F41: ='[1]Switch board'!K41 -> 108.32877
A42: ='[1]Switch board'!$A42 -> SW028 | B42: ='[1]Switch board'!$B42 -> LC1D38 | D42: 20 ,25 , 38 | F42: ='[1]Switch board'!K42 -> 123.15271
A43: ='[1]Switch board'!$A43 -> SW029 | B43: ='[1]Switch board'!$B43 -> LC1D40 | D43: 25 ,30 , 40 | F43: ='[1]Switch board'!K43 -> 148.23937
A44: ='[1]Switch board'!$A44 -> SW029.1 | B44: ='[1]Switch board'!$B44 -> LC1D50 | D44: 30 , 40 , 50 | F44: ='[1]Switch board'!K44 -> 199.553
A45: ='[1]Switch board'!$A45 -> SW029.2 | B45: ='[1]Switch board'!$B45 -> LC1D65 | D45: 40 , 55 , 65 | F45: ='[1]Switch board'!K45 -> 250.86663
...

Sheet ALUMINIUM PLATE
A1: WELLER AIR-COND PARTS ENTERPRISE SDN BHD (613386-K)
A3: ='FLAKE ICE'!A3 -> DATE :5.5.26
A8: ='[1]aluminium plate'!$A8 -> ITEM | B8: ='[1]aluminium plate'!$B8 -> SIZE | C8: ='[1]aluminium plate'!C8 -> DESCRIPTION | D8: ='[1]aluminium plate'!J8 -> (RM) | E8: picture
A9: ='[1]aluminium plate'!$A11 -> AL001 | B9: ='[1]aluminium plate'!$B11 -> 96" (l) X 40" (w) ALUMINIUM PLATE | C9: ='[1]aluminium plate'!C11 -> 40" X 96" ALUMINIUM PLATE | D9: ='[1]aluminium plate'!J11 -> 2177.9692
A10: ='[1]aluminium plate'!$A12 -> AL002 | B10: ='[1]aluminium plate'!$B12 -> 96" (l) X 20" (w) ALUMINIUM PLATE | C10: ='[1]aluminium plate'!C12 -> 20" X 96" ALUMINIUM PLATE | D10: ='[1]aluminium plate'!J12 -> 1242.8308
A11: ='[1]aluminium plate'!$A13 -> AL003 | B11: ='[1]aluminium plate'!$B13 -> 43" (l) X 30" (w) ALUMINIUM PLATE | C11: ='[1]aluminium plate'!C13 -> 30" X 43" ALUMINIUM PLATE | D11: ='[1]aluminium plate'!J13 -> 1015.4068
A12: ='[1]aluminium plate'!$A14 -> AL004 | B12: ='[1]aluminium plate'!$B14 -> 67" (l)X 30" (w) ALUMINIUM PLATE | C12: ='[1]aluminium plate'!C14 -> 30" X 67" ALUMINIUM PLATE | D12: ='[1]aluminium plate'!J14 -> 1362.272
A13: ='[1]aluminium plate'!$A15 -> 0 | B13: ='[1]aluminium plate'!$B15 -> SEMI CONTACT FREZZER 300KGS | C13: ='[1]aluminium plate'!C15 -> 7TRAY,8PCS PLATE (30" x 43") | D13: ='[1]aluminium plate'!J15 -> 21951.252
A14: ='[1]aluminium plate'!$A16 -> 0 | B14: ='[1]aluminium plate'!$B16 -> SEMI CONTACT FREZZER 400KGS | C14: ='[1]aluminium plate'!C16 -> 9TRAY,10PCS PLATE (30" x 43") | D14: ='[1]aluminium plate'!J16 -> 24977.245
A15: ='[1]aluminium plate'!$A17 -> 0 | B15: ='[1]aluminium plate'!$B17 -> SEMI CONTACT FREZZER 500KGS | C15: ='[1]aluminium plate'!C17 -> 11TRAY,12PCS PLATE (30" x 43") | D15: ='[1]aluminium plate'!J17 -> 29080.161
A16: ='[1]aluminium plate'!$A18 -> 0 | B16: ='[1]aluminium plate'!$B18 -> SEMI CONTACT FREZZER 800KGS | C16: ='[1]aluminium plate'!C18 -> 11TRAY,12PCS PLATE (30" x 67") | D16: ='[1]aluminium plate'!J18 -> 35706.133
A17: ='[1]aluminium plate'!$A19 -> 0 | B17: ='[1]aluminium plate'!$B19 -> SEMI CONTACT FREZZER 1500KGS | C17: ='[1]aluminium plate'!C19 -> 12TRAY ,13PCS PLATE (40" x 96") 144pcs ice tray 14"*17" | D17: ='[1]aluminium plate'!J19 -> 50991.547
A18: ='[1]aluminium plate'!$A20 -> AL005.3 | B18: ='[1]aluminium plate'!$B20 -> SEMI CONTACT FREZZER 300KGS COMPLETE SET (7racks) | C18: ='[1]aluminium plate'!C20 -> 1SET ZFI36 Copeland C/W CU125QC (8hp) | D18: ='[1]aluminium plate'!J20 -> 42201.934
A19: ='[1]aluminium plate'!$A21 -> AL005.4 | B19: ='[1]aluminium plate'!$B21 -> SEMI CONTACT FREZZER 400KGS COMPLETE SET (9racks) | C19: ='[1]aluminium plate'!C21 -> 1SET ZFI39 Copeland C/W CU144QC (10hp) | D19: ='[1]aluminium plate'!J21 -> 47312.485
A20: ='[1]aluminium plate'!$A22 -> AL006 | B20: ='[1]aluminium plate'!$B22 -> SEMI CONTACT FREZZER 500KGS COMPLETE SET (11racks) | C20: ='[1]aluminium plate'!C22 -> ZFI50 COPELAND (12hp) C/W CU160QC | D20: ='[1]aluminium plate'!J22 -> 53368.438
A21: ='[1]aluminium plate'!$A23 -> AL007 | B21: ='[1]aluminium plate'!$B23 -> SEMI CONTACT FREZZER 800KGS COMPLETE SET (11racks) | C21: ='[1]aluminium plate'!C23 -> 1SET ZFI68 COPELAND (18HP) CW CU200QC (20AMP) | D21: ='[1]aluminium plate'!J23 -> 65517.411
A22: ='[1]aluminium plate'!$A24 -> AL008 | B22: ='[1]aluminium plate'!$B24 -> SEMI CONTACT FREZZER 1500KGS COMPLETE SET (12racks) | C22: ='[1]aluminium plate'!C24 -> C/W ZFI140 C/W CU400QC (40hp) | D22: ='[1]aluminium plate'!K24 -> 130621.74
A23: ='[1]aluminium plate'!$A25 -> AL008.1 | B23: ='[1]aluminium plate'!$B25 -> SEMI BLAST FREZZER 350KGS C/W 2pcs s/s trolley 32rack | C23: ='[1]aluminium plate'!C25 -> SSC-500 cabinet cw ZFI50 (12HP) | D23: ='[1]aluminium plate'!J25 -> 46183.266
A24: ='[1]aluminium plate'!$A26 -> AL008.2 | B24: ='[1]aluminium plate'!$B26 -> SEMI BLAST FREZZER 500KGS C/W 3pcs s/s trolley 48rack | C24: ='[1]aluminium plate'!C26 -> SSC-800 cabinet cw zfi68 (18hp) | D24: ='[1]aluminium plate'!J26 -> 54855.204
A25: ='[1]aluminium plate'!$A27 -> AL009 | B25: ='[1]aluminium plate'!$B27 -> 110102 S/STEEL RACK 15TIER (150kgs)(466L*620W*1710H)80mm | C25: ='[1]aluminium plate'!C27 -> 0 | D25: ='[1]aluminium plate'!J27 -> 549.9593
A26: ='[1]aluminium plate'!$A28 -> AL010 | B26: ='[1]aluminium plate'!$B28 -> 110202 S/STEEL RACK 16TIER(160kgs) (466L*620W*1710H)80mm | D26: ='[1]aluminium plate'!J28 -> 561.66056
A27: ='[1]aluminium plate'!$A29 -> AL011 | B27: ='[1]aluminium plate'!$B29 -> HLB1035 ALUMINIUM PAN WITH HOLE 60*40*2.8cm*1mm | D27: ='[1]aluminium plate'!J29 -> 32.560033
A28: ='[1]aluminium plate'!$A30 -> AL011.1 | B28: ='[1]aluminium plate'!$B30 -> HLB3041 S/STELL 304 PAN WITH HOLE 60*40*2.5cm*1mm | C28: ='[1]aluminium plate'!C30 -> 0 | D28: ='[1]aluminium plate'!J30 -> 48.840049
A29: ='[1]aluminium plate'!$A31 -> AL011.2 | B29: ='[1]aluminium plate'!$B31 -> HLB1031 ALUMINIUM PAN 60*40*2.8cm*1mm | D29: ='[1]aluminium plate'!J31 -> 32.560033
A30: ='[1]aluminium plate'!$A32 -> AL012 | B30: ='[1]aluminium plate'!$B32 -> HLB1040 ALUMINIUM PAN 46*33*2.7CM | D30: ='[1]aluminium plate'!J32 -> 22.385022
A31: ='[1]aluminium plate'!$A33 -> AL012.1 | B31: ='[1]aluminium plate'!$B33 -> HLB3040 S/STELL 304 PAN 60*40*2.5cm*1mm | D31: ='[1]aluminium plate'!J33 -> 48.331298
A32: *The aluminium plate is with 250psi internal to test leaking
A33: PRICE VALID : Ex-factory KL
A34: *PRICE WILL BE CHANGE ON THE FINAL PAYMENT DUE TO THE CURRENCY RATE
A35: *PLEASE EMAIL OR FAX OVER THE BANK IN SLIP
A36: BANK ACC :HONG LEONG BANK BHD 36600016285 , PUBLIC BANK BHD 3119617816
A37: BENEFICIARY :WELLER AIR-COND PARTS ENTERPRICE SDN BHD
A38: COMPUTER PRINT GENERATE ONLY

Sheet RACK
A1: WELLER AIR-COND PARTS ENTERPRISE SDN BHD (613386-K)
A2: ='[1]CU '!A5 -> DATE :5.5.26
A3: ='[1]CU '!A6 -> USD RATE : | B3: ='[1]CU '!B6 -> 4.1
A5: Item code | B5: DESC. | C5: Dimension | D5: Weight （kg） | E5: lgths | F5: quantity | G5: total weight | H5: RM | I5: total rm | J5: PICTURE | K5: QTY-PCS | L5: T-weight-KG | M5: REORDER LEVEL | N5: REORDER QTY
A6: RAC001 | B6: upright Post 立柱 | C6: 11000*900*100*70*2.0 | D6: 45.1 | E6: =D6/11 -> 4.1 | H6: =[1]Rack!J6 -> 331.96333 | J6: =_xlfn.DISPIMG("ID_4F4D5FD4221844B3BAC4C5FCB86F69E3",1) -> =DISPIMG("ID_4F4D5FD4221844B3BAC4C5FCB86F69E3",1) | K6: 450 | L6: =D6*K6 -> 20295
A7: RAC002 | B7: Foot plate | C7: 120*120 | H7: =[1]Rack!J7 -> 7.8377778
A8: RAC003 | B8: 横 支 Bracing | C8: 40*25*1.5 C型*828 | D8: 0.9 | E8: =ROUNDUP((D8*1000-150)/600,0) -> 2 | H8: =[1]Rack!J8 -> 6.625 | J8: =_xlfn.DISPIMG("ID_26C9986488344784A3A12DBC0C0B5F4D",1) -> =DISPIMG("ID_26C9986488344784A3A12DBC0C0B5F4D",1) | K8: 750 | L8: =D8*K8 -> 675
A9: RAC004 | B9: 斜 支 Bracing | C9: 40*25*1.5 C型*1030 | D9: 1.13 | E9: =ROUNDUP((D10*1000-150)/600,0) -> 10 | H9: =[1]Rack!J9 -> 8.3066667 | K9: 5000 | L9: =D9*K9 -> 5650
A10: RAC005 | B10: Upright Post Set | C10: 612.6mm(230mm) | D10: 6 | E10: =D10*E6*2+(2*D8)+(E9*D9) -> 62.3 | F10: 10 | G10: =F10*E10 -> 623 | H10: =[1]Rack!J10 -> 302.61228 | I10: =H10*F10 -> 3026.1228
A11: RAC006 | B11: Beam 横梁 | C11: 2700*120*45*1.5 | D11: 13.7 | E11: =ROUNDDOWN(D10/1.5,0)*2 -> 8 | F11: 9 | G11: =E11*F11*D11 -> 986.4 | H11: =[1]Rack!J11 -> 100.87 | I11: =H11*F11*E11 -> 7262.64 | J11: =_xlfn.DISPIMG("ID_5B50BE1DB98C4567993D6A5F26792F33",1) -> =DISPIMG("ID_5B50BE1DB98C4567993D6A5F26792F33",1) | K11: 2000 | L11: =D11*K11 -> 27400
A12: RAC007 | B12: Beam 横梁 | C12: 2460*100*45*1.5 | D12: 12.6 | E12: =ROUNDDOWN(D10/1.5,0)*2 -> 8 | G12: =E12*F12*D12 -> 0 | H12: =[1]Rack!J12 -> 92.75 | I12: =H12*F12*E12 -> 0 | K12: 2000 | L12: =D12*K12 -> 25200
A13: RAC008 | B13: row spacer 连接杆 | C13: 250*60*40 | D13: 1.1 | E13: =ROUNDDOWN(D10/2,0)*2 -> 6 | F13: =F10 -> 10 | G13: =F13*D13*E13 -> 66 | H13: =[1]Rack!J13 -> 9.744 | I13: =H13*F13*E13 -> 584.64 | J13: =_xlfn.DISPIMG("ID_0E87DF8BB7EC46E5880226BA3CE7A3E0",1) -> =DISPIMG("ID_0E87DF8BB7EC46E5880226BA3CE7A3E0",1) | K13: 600 | L13: =D13*K13 -> 660 | O13: 2m height install 1pcs
A14: RAC009 | B14: Post guard U型防撞柱 | C14: H300 | D14: 3.5 | F14: =F10 -> 10 | G14: =F14*D14 -> 35 | H14: =[1]Rack!J14 -> 30.698 | I14: =H14*F14 -> 306.98 | K14: 125 | L14: =D14*K14 -> 437.5
A15: RAC010 | B15: Pallet support 支撑梁 | C15: 900*60*40 | D15: 2.3 | E15: 4 | F15: 36 | G15: =F15*E15*D15 -> 331.2 | H15: =[1]Rack!J15 -> 18.494545 | I15: =H15*E15*F15 -> 2663.2145 | J15: =_xlfn.DISPIMG("ID_6FC152D1CE6B42CB8D590A2DA910557B",1) -> =DISPIMG("ID_6FC152D1CE6B42CB8D590A2DA910557B",1) | K15: 8000 | L15: =D15*K15 -> 18400 | O15: 4pcs per rack
A16: RAC011 | B16: Crash barrier 防撞栏 | C16: L2050*H500 | D16: 18.3 | H16: =[1]Rack!J16 -> 146.88 | I16: =H16*E16*F16 -> 0 | J16: =_xlfn.DISPIMG("ID_65FA1E08635043859F11F6AEACBF64C9",1) -> =DISPIMG("ID_65FA1E08635043859F11F6AEACBF64C9",1) | K16: 50 | L16: =D16*K16 -> 915
A17: RAC012 | B17: Crash barrier 防撞栏 | C17: L900*H500 | D17: 10.8 | H17: =[1]Rack!J17 -> 86.727273 | I17: =H17*F17*E17 -> 0 | K17: 10 | L17: =D17*K17 -> 108
B18: 2ton above-rm800/ton ,install wood slab -rm500/ton | G18: =SUM(G10:G17) -> 2041.6 | I18: =SUM(I10:I17) -> 13843.597 | K18: Total:KG | L18: =SUM(L6:L17) -> 99740.5
B19: below 2ton -rm1200-rm1500/ton

Sheet wefoam

Sheet quickool 
A1: WELLER AIR-COND PARTS ENTERPRISE SDN BHD (613386-K) www.weller.com.my
A2: No. 9, Jalan Kuari, Kampung Cheras Baru, 56100 Kuala Lumpur.
A3: Tel: 03-42800331 Fax: 03-42953202 H/P:016-6666331
A4: TO :OUR VALUE DEALER
A5: FROM:LEONG
A6: ='[1]aluminium plate'!A5 -> DATE :5.5.26
A7: USD RATE : | B7: ='[1]Small comp'!B5 -> 4.1 | I7: =[1]Quickool!O7 -> 0
I8: =[1]Quickool!P8 -> Warrantly 1year on parts only
A9: =[1]Quickool!A9 -> ITEM CODE | B9: =[1]Quickool!B9 -> MODEL | C9: Dimension | D9: System | E9: =[1]Quickool!E9 -> cond unit model | F9: =[1]Quickool!G9 -> fan sets | G9: =[1]Quickool!H9 -> cappillary tube | H9: =[1]Quickool!$J9 -> blower | I9: =[1]Quickool!P9 -> (RM) | J9: PIC
A10: =[1]Quickool!A10 -> CAB001 | B10: =[1]Quickool!B10 -> Mini 2 Door cabinet c/w 1/3hp cond unit | C10: =[1]Quickool!C10 -> 760*585*1830 | D10: Piping system -18c ~ 0c | E10: =[1]Quickool!E10 -> KK270CZ1 cw cs030 | F10: =[1]Quickool!G10 -> 10watts | G10: =[1]Quickool!H10 -> 0.049*54" (0.4kg) | H10: =[1]Quickool!$J10 -> ~ | I10: =[1]Quickool!P10 -> 2857.4978
A11: =[1]Quickool!A11 -> CAB002 | B11: =[1]Quickool!B11 -> 2 Door cabinet c/w 3/8hp cond unit R134 | C11: =[1]Quickool!C11 -> 840*685*2080 | E11: =[1]Quickool!E11 -> K325CZ1 cs033 | F11: =[1]Quickool!G11 -> 10watts | G11: =[1]Quickool!H11 -> 0.049*54" | H11: =[1]Quickool!$J11 -> ~ | I11: =[1]Quickool!P11 -> 3635.0312
A12: =[1]Quickool!A12 -> CAB003 | B12: =[1]Quickool!B12 -> 4 Door cabinet c/w 1/2hp cond unit R134 | C12: =[1]Quickool!C12 -> 1300*685*2080 | E12: =[1]Quickool!E12 -> K400CZ1 cw cs060 | F12: =[1]Quickool!G12 -> 16watts | G12: =[1]Quickool!H12 -> 0.042*52" (0.8kg) | H12: =[1]Quickool!$J12 -> ~ | I12: =[1]Quickool!P12 -> 4566.6904
A13: =[1]Quickool!A13 -> CAB004 | B13: =[1]Quickool!B13 -> 6 Door cabinet c/w 5/8hp cond unit R404 | C13: =[1]Quickool!C13 -> 1930*685*2080 | E13: =[1]Quickool!E13 -> ne2178ck,mpt16la cw cs075 | F13: =[1]Quickool!G13 -> 18watts cw hi/lo switch | G13: =[1]Quickool!H13 -> 0.055*60" | H13: =[1]Quickool!$J13 -> ~ | I13: =[1]Quickool!P13 -> 5869.2879
A14: =[1]Quickool!A14 -> CAB005 | B14: =[1]Quickool!B14 -> 6 Door cabinet c/w 3/4hp cond unit R404 | C14: =[1]Quickool!C14 -> 1930*685*2080 | E14: =[1]Quickool!E14 -> ne2180ck,mpt18la cw cs075 | F14: =[1]Quickool!G14 -> 25watts cw hi/lo switch | G14: =[1]Quickool!H14 -> 0.055*60" (0.9kg) | H14: =[1]Quickool!$J14 -> ~ | I14: =[1]Quickool!P14 -> 5945.6215
A15: =[1]Quickool!A15 -> CAB006 | B15: =[1]Quickool!B15 -> 2 Door cabinet full piping (8rack 32ice)c/w ice tray | C15: =[1]Quickool!C15 -> 840*685*2080 | E15: =[1]Quickool!E15 -> Nct2195ck cw cs145 | F15: =[1]Quickool!G15 -> 0 | G15: =[1]Quickool!H15 -> 0 | H15: =[1]Quickool!$J15 -> ~ | I15: =[1]Quickool!P15 -> 6063.6405
A16: =[1]Quickool!A16 -> CAB007 | B16: =[1]Quickool!B16 -> 2 Door cabinet full piping (10rack 40ice)c/w ice tray | C16: =[1]Quickool!C16 -> 840*685*2080 | E16: =[1]Quickool!E16 -> Nct2195ck cw cs145 | F16: =[1]Quickool!G16 -> 0 | G16: =[1]Quickool!H16 -> 0 | H16: =[1]Quickool!$J16 -> ~ | I16: =[1]Quickool!P16 -> 6755.1625
A17: =[1]Quickool!A17 -> CAB008 | B17: =[1]Quickool!B17 -> 4 Door cabinet full piping (10rack 60ice)c/w ice tray | C17: =[1]Quickool!C17 -> 1300*685*2080 | E17: =[1]Quickool!E17 -> 2 x Nct2195ck cw cs145 | F17: =[1]Quickool!G17 -> 0 | G17: =[1]Quickool!H17 -> 0 | H17: =[1]Quickool!$J17 -> ~ | I17: =[1]Quickool!P17 -> 10494.093
A18: =[1]Quickool!A18 -> CAB009 | B18: =[1]Quickool!B18 -> 6 Door cabinet full piping (10rack 100ice)c/w ice tray | C18: =[1]Quickool!C18 -> 1930*685*2080 | E18: =[1]Quickool!E18 -> 2 x Nct2212ck cw cs170 | F18: =[1]Quickool!G18 -> 0 | G18: =[1]Quickool!H18 -> 0 | H18: =[1]Quickool!$J18 -> ~ | I18: =[1]Quickool!P18 -> 13029.096
A19: =[1]Quickool!A19 -> CAB010 | B19: =[1]Quickool!B19 -> 2 Door chiller c/w 1/3hp cond unit R134 | C19: =[1]Quickool!C19 -> 710*760*2060 | D19: Chiller 0 ~ 5c blower system | E19: =[1]Quickool!E19 -> KK270CZ1 cw cs030 | F19: =[1]Quickool!G19 -> 0 | G19: =[1]Quickool!H19 -> 0 | H19: =[1]Quickool!$J19 -> 5 X 14 X 4R | I19: =[1]Quickool!P19 -> 3075.4372
A20: =[1]Quickool!A20 -> CAB011 | B20: =[1]Quickool!B20 -> 4 Door chiller c/w 1/2hp cond unit R134 | C20: =[1]Quickool!C20 -> 1300*760*2060 | E20: =[1]Quickool!E20 -> KK375CZ1 cw cs050 | F20: =[1]Quickool!G20 -> 0 | G20: =[1]Quickool!H20 -> 0 | H20: =[1]Quickool!$J20 -> 5 X 20 X 4R | I20: =[1]Quickool!P20 -> 3931.3454
A21: =[1]Quickool!A21 -> CAB012 | B21: =[1]Quickool!B21 -> 6 Door chiller c/w 1/2hp (B) cond unit R134 | C21: =[1]Quickool!C21 -> 1930*760*2060 | E21: =[1]Quickool!E21 -> K400CZ1 cw cs060 | F21: =[1]Quickool!G21 -> 0 | G21: =[1]Quickool!H21 -> 0 | H21: =[1]Quickool!$J21 -> 5 X 33 X 4R | I21: =[1]Quickool!P21 -> 5328.4811
A22: =[1]Quickool!A22 -> CAB013 | B22: =[1]Quickool!B22 -> 2 Door frezzer c/w 1/3hp cond unit R404 | C22: =[1]Quickool!C22 -> 710*760*2060 | D22: Frezzer 0c ~ -10c blower system | E22: =[1]Quickool!E22 -> NE2150 cw cs050 | F22: =[1]Quickool!G22 -> 0 | G22: =[1]Quickool!H22 -> 0 | H22: =[1]Quickool!$J22 -> UC100 | I22: =[1]Quickool!P22 -> 3650.84
A23: =[1]Quickool!A23 -> CAB014 | B23: =[1]Quickool!B23 -> 4 Door frezzer c/w 3/4hp cond unit R404 | C23: =[1]Quickool!C23 -> 1300*760*2060 | E23: =[1]Quickool!E23 -> Mpt18 cw cs075 | F23: =[1]Quickool!G23 -> 0 | G23: =[1]Quickool!H23 -> 0 | H23: =[1]Quickool!$J23 -> UC150 | I23: =[1]Quickool!P23 -> 4657.441
A24: =[1]Quickool!A24 -> CAB015 | B24: =[1]Quickool!B24 -> 6 Door frezzer c/w 1hp cond unit R404 | C24: =[1]Quickool!C24 -> 1930*760*2060 | E24: =[1]Quickool!E24 -> Nct2195ck cw cs145 | F24: =[1]Quickool!G24 -> 0 | G24: =[1]Quickool!H24 -> 0 | H24: =[1]Quickool!$J24 -> UC200 | I24: =[1]Quickool!P24 -> 6551.4813
A25: =[1]Quickool!A25 -> CAB016 | B25: =[1]Quickool!B25 -> 2 Door frezzer c/w 1/2hp cond unit R404 | C25: =[1]Quickool!C25 -> 710*760*2060 | D25: Frezzer -10c ~ -25c blower system | E25: =[1]Quickool!E25 -> Mpt18 cw cs075 | F25: =[1]Quickool!G25 -> 0 | G25: =[1]Quickool!H25 -> 0 | H25: =[1]Quickool!$J25 -> UC100 | I25: =[1]Quickool!P25 -> 3837.0708
A26: =[1]Quickool!A26 -> CAB017 | B26: =[1]Quickool!B26 -> 4 Door frezzer c/w 1hp cond unit R404 | C26: =[1]Quickool!C26 -> 1300*760*2060 | E26: =[1]Quickool!E26 -> Nct2195ck cw cs145 | F26: =[1]Quickool!G26 -> 0 | G26: =[1]Quickool!H26 -> 0 | H26: =[1]Quickool!$J26 -> UC200 | I26: =[1]Quickool!P26 -> 5330.7913
A27: =[1]Quickool!A27 -> CAB018 | B27: =[1]Quickool!B27 -> 6 Door frezzer c/w 1.5hp cond unit R404 | C27: =[1]Quickool!C27 -> 1930*760*2060 | E27: =[1]Quickool!E27 -> Nct2212ck cw cs170 | F27: =[1]Quickool!G27 -> 0 | G27: =[1]Quickool!H27 -> 0 | H27: =[1]Quickool!$J27 -> UC300 | I27: =[1]Quickool!P27 -> 7027.154
