Workbook

Sheet CU 
A1: WELLER AIR-COND PARTS ENTERPRISE SDN BHD (613386-K)
A3: ='[1]CU '!A6 -> DATE :5.12.25
A8: ='[1]CU '!A8 -> ITEM CODE | B8: ='[1]CU '!B8 -> MODEL CONDENSER | C8: ='[1]CU '!C8 -> BRAND | D8: ='[1]CU '!D8 -> H/P | E8: ='[1]CU '!E8 -> DIMENSION LxWxH | F8: ='[1]CU '!F8 -> FAN SETS | G8: ='[1]CU '!G8 -> RECEIVER TANK | H8: ='[1]CU '!H8 -> Compressor to match | I8: ='[1]CU '!$I8 -> roll | J8: ='[1]CU '!$Q8 -> (RM) condenser only | K8: ='[1]CU '!$U8 -> (RM) c/w set axial fan sets | L8: ='[1]CU '!$Y8 -> (RM) HEAVY DUTY FAN | M8: ='[1]CU '!#REF! -> #REF! | N8: PIC
A9: ='[1]CU '!A9 -> CU001 | B9: ='[1]CU '!B9 -> CU - 15 QC | C9: 9FPI INLET GROOVE FIN CONDENSER COIL COMPLETE SET C/W AXIAL FAN SETS, RECEIVER TANK & IRON BASE | D9: ='[1]CU '!D9 -> 1.5hp | E9: ='[1]CU '!E9 -> 440x170x425 | F9: ='[1]CU '!F9 -> 1 x 14 | G9: ='[1]CU '!G9 -> CR-101-3 ,RT-2 | H9: ='[1]CU '!H9 -> 0 | I9: ='[1]CU '!$I9 -> 3*16 | J9: ='[1]CU '!$Q9 -> 324.82289 | K9: ='[1]CU '!$U9 -> 722.7307 | L9: ='[1]CU '!$Y9 -> 742.36931 | M9: ='[1]CU '!#REF! -> #REF!
A10: ='[1]CU '!A10 -> CU002 | B10: ='[1]CU '!B10 -> CU - 22 QC | D10: ='[1]CU '!D10 -> 2hp | E10: ='[1]CU '!E10 -> 450*180*470 | F10: ='[1]CU '!F10 -> 1 x 14 | G10: ='[1]CU '!G10 -> CR-102 ,RT-2 | H10: ='[1]CU '!H10 -> MT22 | I10: ='[1]CU '!$I10 -> 4*16 | J10: ='[1]CU '!$Q10 -> 452.13443 | K10: ='[1]CU '!$U10 -> 850.04224 | L10: ='[1]CU '!$Y10 -> 869.68085 | M10: ='[1]CU '!#REF! -> #REF!
A11: ='[1]CU '!A11 -> CU003 | B11: ='[1]CU '!B11 -> CU - 32 QC | D11: ='[1]CU '!D11 -> 2.5hp | E11: ='[1]CU '!E11 -> 450*180*470 | F11: ='[1]CU '!F11 -> 1 x 14 | G11: ='[1]CU '!G11 -> CR-102 ,RT-3 | H11: ='[1]CU '!H11 -> MT32 | I11: ='[1]CU '!$I11 -> 4*18 | J11: ='[1]CU '!$Q11 -> 502.10718 | K11: ='[1]CU '!$U11 -> 900.01499 | L11: ='[1]CU '!$Y11 -> 919.6536 | M11: ='[1]CU '!#REF! -> #REF!
A12: ='[1]CU '!A12 -> CU004 | B12: ='[1]CU '!B12 -> CU - 36 QC | D12: ='[1]CU '!D12 -> 3hp | E12: ='[1]CU '!E12 -> 500*200*520 | F12: ='[1]CU '!F12 -> 1 x 16 | G12: ='[1]CU '!G12 -> CR-102 ,RT-3 | H12: ='[1]CU '!H12 -> MT36 | I12: ='[1]CU '!$I12 -> 4*20 | J12: ='[1]CU '!$Q12 -> 608.00183 | K12: ='[1]CU '!$U12 -> 1052.1292 | L12: ='[1]CU '!$Y12 -> 1102.5936 | M12: ='[1]CU '!#REF! -> #REF!
A13: ='[1]CU '!A13 -> CU005 | B13: ='[1]CU '!B13 -> CU - 40 QC | D13: ='[1]CU '!D13 -> 3.5hp | E13: ='[1]CU '!E13 -> 550*200*520 | F13: ='[1]CU '!F13 -> 1 x 16 | G13: ='[1]CU '!G13 -> CR103,RT-4 | H13: ='[1]CU '!H13 -> MT40 | I13: ='[1]CU '!$I13 -> 5*20 | J13: ='[1]CU '!$Q13 -> 763.86922 | K13: ='[1]CU '!$U13 -> 1151.5167 | L13: ='[1]CU '!$Y13 -> 1258.461 | M13: ='[1]CU '!#REF! -> #REF!
A14: ='[1]CU '!A14 -> CU006 | B14: ='[1]CU '!B14 -> CU - 50 QC | D14: ='[1]CU '!D14 -> 4hp | E14: ='[1]CU '!E14 -> 660*200*570 | F14: ='[1]CU '!F14 -> 1 x 18 | G14: ='[1]CU '!G14 -> CR103,RT-4 | H14: ='[1]CU '!H14 -> 4FES-3(Y) | I14: ='[1]CU '!$I14 -> 5*20 | J14: ='[1]CU '!$Q14 -> 938.77386 | K14: ='[1]CU '!$U14 -> 1413.9936 | L14: ='[1]CU '!$Y14 -> 1576.9816 | M14: ='[1]CU '!#REF! -> #REF!
A15: ='[1]CU '!A15 -> CU007 | B15: ='[1]CU '!B15 -> CU - 64 QC | D15: ='[1]CU '!D15 -> 5hp | E15: ='[1]CU '!E15 -> 960*200*520 | F15: ='[1]CU '!F15 -> 2 x 16 | G15: ='[1]CU '!G15 -> CR-104 ,RT-6 | H15: ='[1]CU '!H15 -> 4EES-4(Y) | I15: ='[1]CU '!$I15 -> 4*20 | J15: ='[1]CU '!$Q15 -> 1223.1426 | K15: ='[1]CU '!$U15 -> 2048.0851 | L15: ='[1]CU '!$Y15 -> 2149.0139 | M15: ='[1]CU '!#REF! -> #REF!
A16: ='[1]CU '!A16 -> CU008 | B16: ='[1]CU '!B16 -> CU - 64B QC | D16: ='[1]CU '!D16 -> 5hp | E16: ='[1]CU '!E16 -> 710*220*660 | F16: ='[1]CU '!F16 -> 1 x 20 | G16: ='[1]CU '!G16 -> CR-104 ,RT-6 | H16: ='[1]CU '!H16 -> 4EES-4(Y) | I16: ='[1]CU '!$I16 -> 4*26 | J16: ='[1]CU '!$Q16 -> 1088.6921 | K16: ='[1]CU '!$U16 -> 1739.7404 | L16: ='[1]CU '!$Y16 -> 1812.9742 | M16: ='[1]CU '!#REF! -> #REF!
A17: ='[1]CU '!A17 -> CU009 | B17: ='[1]CU '!B17 -> CU - 72 QC | D17: ='[1]CU '!D17 -> 6hp | E17: ='[1]CU '!E17 -> 960*220*520 | F17: ='[1]CU '!F17 -> 2 x 16 | G17: ='[1]CU '!G17 -> CR-104 ,RT-6 | H17: ='[1]CU '!H17 -> 4DES-5(Y) | I17: ='[1]CU '!$I17 -> 5*20 | J17: ='[1]CU '!$Q17 -> 1329.0373 | K17: ='[1]CU '!$U17 -> 2153.9797 | L17: ='[1]CU '!$Y17 -> 2254.9086 | M17: ='[1]CU '!#REF! -> #REF!
A18: ='[1]CU '!A18 -> CU010 | B18: ='[1]CU '!B18 -> CU - 72B QC | D18: ='[1]CU '!D18 -> 6hp | E18: ='[1]CU '!E18 -> 710*240*660 | F18: ='[1]CU '!F18 -> 1 x 20 | G18: ='[1]CU '!G18 -> CR-104 ,RT-6 | H18: ='[1]CU '!H18 -> 4DES-5(Y) | I18: ='[1]CU '!$I18 -> 5*26 | J18: ='[1]CU '!$Q18 -> 1271.9255 | K18: ='[1]CU '!$U18 -> 1922.9738 | L18: ='[1]CU '!$Y18 -> 1996.2077 | M18: ='[1]CU '!#REF! -> #REF!
A19: ='[1]CU '!A19 -> CU011 | B19: ='[1]CU '!B19 -> CU - 80 QC | D19: ='[1]CU '!D19 -> 6.5hp | E19: ='[1]CU '!E19 -> 1060*220*570 | F19: ='[1]CU '!F19 -> 2 x 18 | G19: ='[1]CU '!G19 -> CR-104 ,RT-8 | H19: ='[1]CU '!H19 -> 4DES-5(Y) | I19: ='[1]CU '!$I19 -> 4*22 | J19: ='[1]CU '!$Q19 -> ~ | K19: ='[1]CU '!$U19 -> ~ | L19: ='[1]CU '!$Y19 -> ~ | M19: ='[1]CU '!#REF! -> #REF!
A20: ='[1]CU '!A20 -> CU012 | B20: ='[1]CU '!B20 -> CU - 90 QC | D20: ='[1]CU '!D20 -> 7.5hp | E20: ='[1]CU '!E20 -> 1060*220*570 | F20: ='[1]CU '!F20 -> 2 x 18 | G20: ='[1]CU '!G20 -> CR-104 ,RT-8 | H20: ='[1]CU '!H20 -> 4CES-6(Y) | I20: ='[1]CU '!$I20 -> 5*22 | J20: ='[1]CU '!$Q20 -> 1594.3688 | K20: ='[1]CU '!$U20 -> 2491.1771 | L20: ='[1]CU '!$Y20 -> 2704.1934 | M20: ='[1]CU '!#REF! -> #REF!
A21: ='[1]CU '!A21 -> CU013 | B21: ='[1]CU '!B21 -> CU - 100 QC | D21: ='[1]CU '!D21 -> 8.5hp | E21: ='[1]CU '!E21 -> 1060*240*670 | F21: ='[1]CU '!F21 -> 2 x 18 | G21: ='[1]CU '!G21 -> CR-104 ,RT-8 | H21: ='[1]CU '!H21 -> 4VES-7(Y) | I21: ='[1]CU '!$I21 -> 5*26 | J21: ='[1]CU '!$Q21 -> 1791.8801 | K21: ='[1]CU '!$U21 -> 2688.6884 | L21: ='[1]CU '!$Y21 -> 2901.7048 | M21: ='[1]CU '!#REF! -> #REF!
... A33: ='[1]CU '!A33 -> CU023 | B33: ='[1]CU '!B33 -> CU - 500 QC | D33: ='[1]CU '!D33 -> 50hp | E33: ='[1]CU '!E33 -> 1630*350*1930 | F33: ='[1]CU '!F33 -> 4 x 26 | G33: ='[1]CU '!G33 -> HT- 50HP | H33: ='[1]CU '!H33 -> 6FE50Y | I33: ='[1]CU '!$I33 -> 6*76 | J33: ='[1]CU '!$Q33 -> 11412.825 | K33: ='[1]CU '!$U33 -> 14592.171 | L33: ='[1]CU '!$Y33 -> 15887.081 | M33: ='[1]CU '!#REF! -> #REF!
A34: ='[1]CU '!A36 -> CU20.25 | B34: ='[1]CU '!B36 -> 16" * 18" | C34: IRON BASE | D34: ='[1]CU '!D36 -> 1/2hp | E34: ='[1]CU '!E36 -> CS030-CS060 | J34: ='[1]CU '!$Q36 -> 27.868852
A35: ='[1]CU '!A37 -> CU20.26 | B35: ='[1]CU '!B37 -> 20" * 17" | D35: ='[1]CU '!D37 -> 3/4hp-1.5hp | E35: ='[1]CU '!E37 -> CS075-CS125 | J35: ='[1]CU '!$Q37 -> 40.983607
A36: ='[1]CU '!A38 -> CU21 | B36: ='[1]CU '!B38 -> 530W*430L | D36: ='[1]CU '!D38 -> 3/4hp | E36: ='[1]CU '!E38 -> CS075 | J36: ='[1]CU '!$Q38 -> 57.377049
A37: ='[1]CU '!A39 -> CU23 | B37: ='[1]CU '!B39 -> 600W*550L | D37: ='[1]CU '!D39 -> 2hp | E37: ='[1]CU '!E39 -> CU-22 | J37: ='[1]CU '!$Q39 -> 73.770492
A38: ='[1]CU '!A40 -> CU27 | B38: ='[1]CU '!B40 -> 650*W900L | D38: ='[1]CU '!D40 -> CS150 | E38: ='[1]CU '!E40 -> CS150-CS200 | J38: ='[1]CU '!$Q40 -> 139.34426
A39: ='[1]CU '!A41 -> CU024 | B39: ='[1]CU '!B41 -> CUB15-32 | C39: IRON BRACKET | D39: ='[1]CU '!D41 -> CU15-32QC | E39: ='[1]CU '!E41 -> 30" W * 21.5"L | J39: ='[1]CU '!$Q41 -> 81.147541
A40: ='[1]CU '!A42 -> CU025 | B40: ='[1]CU '!B42 -> CUB36 | D40: ='[1]CU '!D42 -> CU36QC | E40: ='[1]CU '!E42 -> 30" W * 23.5"L | J40: ='[1]CU '!$Q42 -> 103.27869
A41: ='[1]CU '!A43 -> CU026 | B41: ='[1]CU '!B43 -> CUB40 | D41: ='[1]CU '!D43 -> CU40QC | E41: ='[1]CU '!E43 -> 30" W * 26"L | J41: ='[1]CU '!$Q43 -> 103.27869
A42: ='[1]CU '!A44 -> CU027 | B42: ='[1]CU '!B44 -> CUB50 | D42: ='[1]CU '!D44 -> CU50QC | E42: ='[1]CU '!E44 -> 33" W* 28.5"L | J42: ='[1]CU '!$Q44 -> 162.29508
A43: ='[1]CU '!A45 -> CU028 | B43: ='[1]CU '!B45 -> CUB64B-72B | D43: ='[1]CU '!D45 -> CU64B-72BQC | E43: ='[1]CU '!E45 -> 33" W* 30"L | J43: ='[1]CU '!$Q45 -> 162.29508
A44: ='[1]CU '!A46 -> CU029 | B44: ='[1]CU '!B46 -> CUB64-72 | D44: ='[1]CU '!D46 -> CU64-72QC | E44: ='[1]CU '!E46 -> 34" W* 41"L | J44: ='[1]CU '!$Q46 -> 221.31148
A45: ='[1]CU '!A47 -> CU030 | B45: ='[1]CU '!B47 -> CUB80-100 | D45: ='[1]CU '!D47 -> CU80-100QC | E45: ='[1]CU '!E47 -> 34" W* 44"L | J45: ='[1]CU '!$Q47 -> 236.06557
A46: ='[1]CU '!A48 -> CU031 | B46: ='[1]CU '!B48 -> CUB125-160 | D46: ='[1]CU '!D48 -> CU125-160QC | E46: ='[1]CU '!E48 -> 35" W* 56.5"L | J46: ='[1]CU '!$Q48 -> 339.34426
A47: ='[1]CU '!A49 -> CU032 | B47: ='[1]CU '!B49 -> CUB200 | D47: ='[1]CU '!D49 -> CU200QC | E47: ='[1]CU '!E49 -> 42"W * 64"L | J47: ='[1]CU '!$Q49 -> 575.40984
A48: ='[1]CU '!A50 -> CU033 | B48: ='[1]CU '!B50 -> CUB250 | D48: ='[1]CU '!D50 -> CU250QC | E48: ='[1]CU '!E50 -> 45"W * 85"L | J48: ='[1]CU '!$Q50 -> 649.18033
A49: ='[1]CU '!A51 -> CU034 | B49: ='[1]CU '!B51 -> CUB300-400 | D49: ='[1]CU '!D51 -> CU300-400QC | E49: ='[1]CU '!E51 -> 50"W * 64"L | J49: ='[1]CU '!$Q51 -> 634.42623
A50: ='[1]CU '!A52 -> CU035 | B50: ='[1]CU '!B52 -> HTB3-5 | D50: ='[1]CU '!D52 -> HTC3-5 | E50: ='[1]CU '!E52 -> 36L*20W | J50: ='[1]CU '!$Q52 -> 252.45902
A51: ='[1]CU '!A53 -> CU036 | B51: ='[1]CU '!B53 -> HTB8-10 | D51: ='[1]CU '!D53 -> HTC8-10 | E51: ='[1]CU '!E53 -> 55L*26W | J51: ='[1]CU '!$Q53 -> 315.57377
... A55: ='[1]CU '!A57 -> CU040 | B55: ='[1]CU '!B57 -> HTB40L | D55: ='[1]CU '!D57 -> HTC40L | E55: ='[1]CU '!E57 -> 80L*32W | J55: ='[1]CU '!$Q57 -> 666.26402
A56: ='[1]CU '!A58 -> CU041 | B56: ='[1]CU '!B58 -> HT- 15HP | C56: HORIZONTAL TYPE RECEIVER TANK | D56: ='[1]CU '!D58 -> 15HP | E56: ='[1]CU '!E58 -> 1090mm x 159mm | F56: ='[1]CU '!F58 -> 15L(5/8") | J56: ='[1]CU '!$Q58 -> 356.94824
A57: ='[1]CU '!A59 -> CU042 | B57: ='[1]CU '!B59 -> HT- 20HP | D57: ='[1]CU '!D59 -> 20HP | E57: ='[1]CU '!E59 -> 1180mm x 159mm | F57: ='[1]CU '!F59 -> 20L(5/8") | J57: ='[1]CU '!$Q59 -> 475.93098
A58: ='[1]CU '!A60 -> CU043 | B58: ='[1]CU '!B60 -> HT- 25HP | D58: ='[1]CU '!D60 -> 25HP | E58: ='[1]CU '!E60 -> 850mm x 219mm | F58: ='[1]CU '!F60 -> 25L(7/8") | G58: ='[1]CU '!G60 -> 1286mm*165mm | J58: ='[1]CU '!$Q60 -> 684.15078
A59: ='[1]CU '!A61 -> CU044 | B59: ='[1]CU '!B61 -> HT- 30HP | D59: ='[1]CU '!D61 -> 30HP | E59: ='[1]CU '!E61 -> 900mm x 219mm | F59: ='[1]CU '!F61 -> 30L(7/8") | G59: ='[1]CU '!G61 -> 878mm*219mm | J59: ='[1]CU '!$Q61 -> 761.48957
...

Sheet quickool 
A1: WELLER AIR-COND PARTS ENTERPRISE SDN BHD (613386-K) www.weller.com.my
A2: No. 9, Jalan Kuari, Kampung Cheras Baru, 56100 Kuala Lumpur.
A3: Tel: 03-42800331 Fax: 03-42953202 H/P:016-6666331
A4: TO :OUR VALUE DEALER
A5: FROM:LEONG
A6: ='[1]aluminium plate'!A6 -> DATE :5.12.25
A7: USD RATE : | B7: ='[1]Small comp'!B5 -> 4.25 | I7: =[1]Quickool!O7 -> 0
I8: =[1]Quickool!P8 -> Warrantly 1year on parts only
A9: =[1]Quickool!A9 -> ITEM CODE | B9: =[1]Quickool!B9 -> MODEL | C9: Dimension | D9: System | E9: =[1]Quickool!E9 -> cond unit model | F9: =[1]Quickool!G9 -> fan sets | G9: =[1]Quickool!H9 -> cappillary tube | H9: =[1]Quickool!$J9 -> blower | I9: =[1]Quickool!P9 -> (RM) | J9: PIC
A10: =[1]Quickool!A10 -> CAB001 | B10: =[1]Quickool!B10 -> Mini 2 Door cabinet c/w 1/3hp cond unit | C10: =[1]Quickool!C10 -> 760*585*1830 | D10: Piping system -18c ~ 0c | E10: =[1]Quickool!E10 -> KK270CZ1 cw cs030 | F10: =[1]Quickool!G10 -> 10watts | G10: =[1]Quickool!H10 -> 0.049*54" (0.4kg) | H10: =[1]Quickool!$J10 -> ~ | I10: =[1]Quickool!P10 -> 2742.0957
A11: =[1]Quickool!A11 -> CAB002 | B11: =[1]Quickool!B11 -> 2 Door cabinet c/w 3/8hp cond unit R134 | C11: =[1]Quickool!C11 -> 840*685*2080 | E11: =[1]Quickool!E11 -> K325CZ1 cs033 | F11: =[1]Quickool!G11 -> 10watts | G11: =[1]Quickool!H11 -> 0.049*54" | H11: =[1]Quickool!$J11 -> ~ | I11: =[1]Quickool!P11 -> 3457.4751
A12: =[1]Quickool!A12 -> CAB003 | B12: =[1]Quickool!B12 -> 4 Door cabinet c/w 1/2hp cond unit R134 | C12: =[1]Quickool!C12 -> 1300*685*2080 | E12: =[1]Quickool!E12 -> K400CZ1 cw cs060 | F12: =[1]Quickool!G12 -> 16watts | G12: =[1]Quickool!H12 -> 0.042*52" (0.8kg) | H12: =[1]Quickool!$J12 -> ~ | I12: =[1]Quickool!P12 -> 4318.8594
A13: =[1]Quickool!A13 -> CAB004 | B13: =[1]Quickool!B13 -> 6 Door cabinet c/w 5/8hp cond unit R404 | C13: =[1]Quickool!C13 -> 1930*685*2080 | E13: =[1]Quickool!E13 -> ne2178ck,mpt16la cw cs075 | F13: =[1]Quickool!G13 -> 18watts cw hi/lo switch | G13: =[1]Quickool!H13 -> 0.055*60" | H13: =[1]Quickool!$J13 -> ~ | I13: =[1]Quickool!P13 -> 5625.0303
A14: =[1]Quickool!A14 -> CAB005 | B14: =[1]Quickool!B14 -> 6 Door cabinet c/w 3/4hp cond unit R404 | C14: =[1]Quickool!C14 -> 1930*685*2080 | E14: =[1]Quickool!E14 -> ne2180ck,mpt18la cw cs075 | F14: =[1]Quickool!G14 -> 25watts cw hi/lo switch | G14: =[1]Quickool!H14 -> 0.055*60" (0.9kg) | H14: =[1]Quickool!$J14 -> ~ | I14: =[1]Quickool!P14 -> 5701.2145
A15: =[1]Quickool!A15 -> CAB006 | B15: =[1]Quickool!B15 -> 2 Door cabinet full piping (8rack 32ice)c/w ice tray | C15: =[1]Quickool!C15 -> 840*685*2080 | E15: =[1]Quickool!E15 -> Nct2195ck cw cs145 | F15: =[1]Quickool!G15 -> 0 | G15: =[1]Quickool!H15 -> 0 | H15: =[1]Quickool!$J15 -> ~ | I15: =[1]Quickool!P15 -> 5850.6068
A16: =[1]Quickool!A16 -> CAB007 | B16: =[1]Quickool!B16 -> 2 Door cabinet full piping (10rack 40ice)c/w ice tray | C16: =[1]Quickool!C16 -> 840*685*2080 | E16: =[1]Quickool!E16 -> Nct2195ck cw cs145 | F16: =[1]Quickool!G16 -> 0 | G16: =[1]Quickool!H16 -> 0 | H16: =[1]Quickool!$J16 -> ~ | I16: =[1]Quickool!P16 -> 6417.4702
A17: =[1]Quickool!A17 -> CAB008 | B17: =[1]Quickool!B17 -> 4 Door cabinet full piping (10rack 60ice)c/w ice tray | C17: =[1]Quickool!C17 -> 1300*685*2080 | E17: =[1]Quickool!E17 -> 2 x Nct2195ck cw cs145 | F17: =[1]Quickool!G17 -> 0 | G17: =[1]Quickool!H17 -> 0 | H17: =[1]Quickool!$J17 -> ~ | I17: =[1]Quickool!P17 -> 10102.379
A18: =[1]Quickool!A18 -> CAB009 | B18: =[1]Quickool!B18 -> 6 Door cabinet full piping (10rack 100ice)c/w ice tray | C18: =[1]Quickool!C18 -> 1930*685*2080 | E18: =[1]Quickool!E18 -> 2 x Nct2212ck cw cs170 | F18: =[1]Quickool!G18 -> 0 | G18: =[1]Quickool!H18 -> 0 | H18: =[1]Quickool!$J18 -> ~ | I18: =[1]Quickool!P18 -> 12902.007
A19: =[1]Quickool!A19 -> CAB010 | B19: =[1]Quickool!B19 -> 2 Door chiller c/w 1/3hp cond unit R134 | C19: =[1]Quickool!C19 -> 710*760*2060 | D19: Chiller 0 ~ 5c blower system | E19: =[1]Quickool!E19 -> KK270CZ1 cw cs030 | F19: =[1]Quickool!G19 -> 0 | G19: =[1]Quickool!H19 -> 0 | H19: =[1]Quickool!$J19 -> 5 X 14 X 4R | I19: =[1]Quickool!P19 -> 3033.0306
A20: =[1]Quickool!A20 -> CAB011 | B20: =[1]Quickool!B20 -> 4 Door chiller c/w 1/2hp cond unit R134 | C20: =[1]Quickool!C20 -> 1300*760*2060 | E20: =[1]Quickool!E20 -> KK375CZ1 cw cs050 | F20: =[1]Quickool!G20 -> 0 | G20: =[1]Quickool!H20 -> 0 | H20: =[1]Quickool!$J20 -> 5 X 20 X 4R | I20: =[1]Quickool!P20 -> 3847.3826
A21: =[1]Quickool!A21 -> CAB012 | B21: =[1]Quickool!B21 -> 6 Door chiller c/w 1/2hp (B) cond unit R134 | C21: =[1]Quickool!C21 -> 1930*760*2060 | E21: =[1]Quickool!E21 -> K400CZ1 cw cs060 | F21: =[1]Quickool!G21 -> 0 | G21: =[1]Quickool!H21 -> 0 | H21: =[1]Quickool!$J21 -> 5 X 33 X 4R | I21: =[1]Quickool!P21 -> 4872.7513
A22: =[1]Quickool!A22 -> CAB013 | B22: =[1]Quickool!B22 -> 2 Door frezzer c/w 1/3hp cond unit R404 | C22: =[1]Quickool!C22 -> 710*760*2060 | D22: Frezzer 0c ~ -10c blower system | E22: =[1]Quickool!E22 -> NE2150 cw cs050 | F22: =[1]Quickool!G22 -> 0 | G22: =[1]Quickool!H22 -> 0 | H22: =[1]Quickool!$J22 -> UC100 | I22: =[1]Quickool!P22 -> 3571.793
A23: =[1]Quickool!A23 -> CAB014 | B23: =[1]Quickool!B23 -> 4 Door frezzer c/w 3/4hp cond unit R404 | C23: =[1]Quickool!C23 -> 1300*760*2060 | E23: =[1]Quickool!E23 -> Mpt18 cw cs075 | F23: =[1]Quickool!G23 -> 0 | G23: =[1]Quickool!H23 -> 0 | H23: =[1]Quickool!$J23 -> UC150 | I23: =[1]Quickool!P23 -> 4601.8582
A24: =[1]Quickool!A24 -> CAB015 | B24: =[1]Quickool!B24 -> 6 Door frezzer c/w 1hp cond unit R404 | C24: =[1]Quickool!C24 -> 1930*760*2060 | E24: =[1]Quickool!E24 -> Nct2195ck cw cs145 | F24: =[1]Quickool!G24 -> 0 | G24: =[1]Quickool!H24 -> 0 | H24: =[1]Quickool!$J24 -> UC200 | I24: =[1]Quickool!P24 -> 6073.9941
A25: =[1]Quickool!A25 -> CAB016 | B25: =[1]Quickool!B25 -> 2 Door frezzer c/w 1/2hp cond unit R404 | C25: =[1]Quickool!C25 -> 710*760*2060 | D25: Frezzer -10c ~ -25c blower system | E25: =[1]Quickool!E25 -> Mpt18 cw cs075 | F25: =[1]Quickool!G25 -> 0 | G25: =[1]Quickool!H25 -> 0 | H25: =[1]Quickool!$J25 -> UC100 | I25: =[1]Quickool!P25 -> 3750.1277
A26: =[1]Quickool!A26 -> CAB017 | B26: =[1]Quickool!B26 -> 4 Door frezzer c/w 1hp cond unit R404 | C26: =[1]Quickool!C26 -> 1300*760*2060 | E26: =[1]Quickool!E26 -> Nct2195ck cw cs145 | F26: =[1]Quickool!G26 -> 0 | G26: =[1]Quickool!H26 -> 0 | H26: =[1]Quickool!$J26 -> UC200 | I26: =[1]Quickool!P26 -> 5189.3622
A27: =[1]Quickool!A27 -> CAB018 | B27: =[1]Quickool!B27 -> 6 Door frezzer c/w 1.5hp cond unit R404 | C27: =[1]Quickool!C27 -> 1930*760*2060 | E27: =[1]Quickool!E27 -> Nct2212ck cw cs170 | F27: =[1]Quickool!G27 -> 0 | G27: =[1]Quickool!H27 -> 0 | H27: =[1]Quickool!$J27 -> UC300 | I27: =[1]Quickool!P27 -> 6609.9776
A28: =[1]Quickool!A28 -> CAB019 | B28: =[1]Quickool!B28 -> 1.2m counter chiller (4ft) 1/4hp R134 | C28: =[1]Quickool!C28 -> 1200*750*840 | D28: Chiller 0 ~ 5c blower system | E28: =[1]Quickool!E28 -> KK270CZ1 cw cs039 | F28: =[1]Quickool!G28 -> 0 | G28: =[1]Quickool!H28 -> 0 | H28: =[1]Quickool!$J28 -> 8*11*3R | I28: =[1]Quickool!P28 -> 2654.8061
A29: =[1]Quickool!A29 -> CAB020 | B29: =[1]Quickool!B29 -> 1.5m counter chiller (5ft) 1/3hp R134 | C29: =[1]Quickool!C29 -> 1500*750*840 | E29: =[1]Quickool!E29 -> KK270CZ1 cw cs039 | F29: =[1]Quickool!G29 -> 0 | G29: =[1]Quickool!H29 -> 0 | H29: =[1]Quickool!$J29 -> 8*11*3R | I29: =[1]Quickool!P29 -> 2862.9201
A30: =[1]Quickool!A30 -> CAB021 | B30: =[1]Quickool!B30 -> 1.8m counter chiller (6ft) 3/8hp R134 | C30: =[1]Quickool!C30 -> 1800*750*840 | E30: =[1]Quickool!E30 -> K325CZ1 cs054 | F30: =[1]Quickool!G30 -> 0 | G30: =[1]Quickool!H30 -> 0 | H30: =[1]Quickool!$J30 -> 12*11*3R | I30: =[1]Quickool!P30 -> 3136.0323
A31: =[1]Quickool!A31 -> CAB022 | B31: =[1]Quickool!B31 -> 2.1m counter chiller (7ft) 1/2hp R134 | C31: =[1]Quickool!C31 -> 2100*750*840 | E31: =[1]Quickool!E31 -> KK375CZ1 cw cs054 | F31: =[1]Quickool!G31 -> 0 | G31: =[1]Quickool!H31 -> 0 | H31: =[1]Quickool!$J31 -> 12*11*3R | I31: =[1]Quickool!P31 -> 3477.0982
A32: =[1]Quickool!A32 -> CAB023 | B32: =[1]Quickool!B32 -> 1.2m counter frezzer (4ft) 1/2hp R134 | C32: =[1]Quickool!C32 -> 1200*750*840 | D32: Frezzer -25c ~ -10c blower system | E32: =[1]Quickool!E32 -> KK375CZ1 cw cs054 | F32: =[1]Quickool!G32 -> 0 | G32: =[1]Quickool!H32 -> 0 | H32: =[1]Quickool!$J32 -> 12*11*3R | I32: =[1]Quickool!P32 -> 2748.8403
A33: =[1]Quickool!A33 -> CAB024 | B33: =[1]Quickool!B33 -> 1.5m counter frezzer (5ft) 1/2hp R134 | C33: =[1]Quickool!C33 -> 1500*750*840 | E33: =[1]Quickool!E33 -> K400CZ1 cw cs066 axial | F33: =[1]Quickool!G33 -> 0 | G33: =[1]Quickool!H33 -> 0 | H33: =[1]Quickool!$J33 -> 12*11*3R | I33: =[1]Quickool!P33 -> 2994.9966
A34: =[1]Quickool!A34 -> CAB025 | B34: =[1]Quickool!B34 -> 1.8m counter frezzer (6ft) 1/2hp R404 | C34: =[1]Quickool!C34 -> 1800*750*840 | E34: =[1]Quickool!E34 -> ne2170ck cw066 axial | F34: =[1]Quickool!G34 -> 0 | G34: =[1]Quickool!H34 -> 0 | H34: =[1]Quickool!$J34 -> 12 x 13 x 3R (330) | I34: =[1]Quickool!P34 -> 3432.2565
A35: =[1]Quickool!A35 -> CAB026 | B35: =[1]Quickool!B35 -> 2.1m counter frezzer (7ft) 5/8hp R404 | C35: =[1]Quickool!C35 -> 2100*750*840 | E35: =[1]Quickool!E35 -> mpt16la cw cs083 axial | F35: =[1]Quickool!G35 -> 0 | G35: =[1]Quickool!H35 -> 0 | H35: =[1]Quickool!$J35 -> 12 x 13 x 3R (330) | I35: =[1]Quickool!P35 -> 3869.5849
A36: =[1]Quickool!A36 -> CAB027 | B36: =[1]Quickool!B36 -> 1 Glass Door chiller c/w 1/3hp cond unit R134 | C36: =[1]Quickool!C36 -> 610*760*2030 | D36: Chiller 0 ~ 5c blower system | E36: =[1]Quickool!E36 -> KK270CZ1 cw cs030 | F36: =[1]Quickool!G36 -> 0 | G36: =[1]Quickool!H36 -> 418.6435 | H36: =[1]Quickool!$J36 -> 5 X 14 X 4R | I36: =[1]Quickool!P36 -> 2605.605
A37: =[1]Quickool!A37 -> CAB028 | B37: =[1]Quickool!B37 -> 2 Glass Door chiller c/w 1/2hp cond unit R134 | C37: =[1]Quickool!C37 -> 1215*760*2030 | E37: =[1]Quickool!E37 -> KK375CZ1 cw cs050 | F37: =[1]Quickool!G37 -> 0 | G37: =[1]Quickool!H37 -> 0 | H37: =[1]Quickool!$J37 -> 5 X 20 X 4R | I37: =[1]Quickool!P37 -> 3452.6641
A38: =[1]Quickool!A38 -> CAB029 | B38: =[1]Quickool!B38 -> 3 Glass Door chiller c/w 1/2hp B cond unit R134 | C38: =[1]Quickool!C38 -> 1810*760*2030 | E38: =[1]Quickool!E38 -> K400CZ1 cw cs060 | F38: =[1]Quickool!G38 -> 0 | G38: =[1]Quickool!H38 -> 0 | H38: =[1]Quickool!$J38 -> 5 X 33 X 4R | I38: =[1]Quickool!P38 -> 4464.3583
A39: =[1]Quickool!A39 -> CAB030 | B39: =[1]Quickool!B39 -> 1 Glass Door Frezzer c/w 5/8hp cond unit R404 | C39: =[1]Quickool!C39 -> 610*760*2030 | D39: Frezzer -10c ~ -25c blower system | E39: =[1]Quickool!E39 -> ne2178ck,mpt16la cw cs075 | F39: =[1]Quickool!G39 -> 0 | G39: =[1]Quickool!H39 -> 0 | H39: =[1]Quickool!$J39 -> UC100 | I39: =[1]Quickool!P39 -> 3334.5176
A40: =[1]Quickool!A40 -> CAB031 | B40: =[1]Quickool!B40 -> 2 Glass Door Frezzer c/w 1hp cond unit R404 | C40: =[1]Quickool!C40 -> 1215*760*2030 | E40: =[1]Quickool!E40 -> Nct2195ck cw cs145 axial | F40: =[1]Quickool!G40 -> 0 | G40: =[1]Quickool!H40 -> 0 | H40: =[1]Quickool!$J40 -> UC200 | I40: =[1]Quickool!P40 -> 5031.7161
...

Sheet wefoam

Sheet RACK
A1: WELLER AIR-COND PARTS ENTERPRISE SDN BHD (613386-K)
A2: ='[1]CU '!A6 -> DATE :5.12.25
A3: ='[1]CU '!A7 -> USD RATE : | B3: ='[1]CU '!B7 -> 4.25
A5: Item code | B5: DESC. | C5: Dimension | D5: Weight （kg） | E5: lgths | F5: quantity | G5: total weight | H5: RM | I5: total rm | J5: PICTURE | K5: QTY-PCS | L5: T-weight-KG | M5: REORDER LEVEL | N5: REORDER QTY
A6: RAC001 | B6: upright Post 立柱 | C6: 11000*900*100*70*2.0 | D6: 45.1 | E6: =D6/11 -> 4.1 | H6: =[1]Rack!J6 -> 341.35833 | J6: =_xlfn.DISPIMG("ID_4F4D5FD4221844B3BAC4C5FCB86F69E3",1) -> =DISPIMG("ID_4F4D5FD4221844B3BAC4C5FCB86F69E3",1) | K6: 450 | L6: =D6*K6 -> 20295
A7: RAC002 | B7: Foot plate | C7: 120*120 | H7: =[1]Rack!J7 -> 8.0611111
A8: RAC003 | B8: 横 支 Bracing | C8: 40*25*1.5 C型*828 | D8: 0.9 | E8: =ROUNDUP((D8*1000-150)/600,0) -> 2 | H8: =[1]Rack!J8 -> 6.8125 | J8: =_xlfn.DISPIMG("ID_26C9986488344784A3A12DBC0C0B5F4D",1) -> =DISPIMG("ID_26C9986488344784A3A12DBC0C0B5F4D",1) | K8: 750 | L8: =D8*K8 -> 675
A9: RAC004 | B9: 斜 支 Bracing | C9: 40*25*1.5 C型*1030 | D9: 1.13 | E9: =ROUNDUP((D10*1000-150)/600,0) -> 10 | H9: =[1]Rack!J9 -> 8.5416667 | K9: 5000 | L9: =D9*K9 -> 5650
A10: RAC005 | B10: Upright Post Set | C10: 612.6mm(230mm) | D10: 6 | E10: =D10*E6*2+(2*D8)+(E9*D9) -> 62.3 | F10: 10 | G10: =F10*E10 -> 623 | H10: =[1]Rack!J10 -> 459.0681 | I10: =H10*F10 -> 4590.681
A11: RAC006 | B11: Beam 横梁 | C11: 2700*120*45*1.5 | D11: 13.7 | E11: =ROUNDDOWN(D10/1.5,0)*2 -> 8 | F11: 9 | G11: =E11*F11*D11 -> 986.4 | H11: =[1]Rack!J11 -> 103.725 | I11: =H11*F11*E11 -> 7468.2 | J11: =_xlfn.DISPIMG("ID_5B50BE1DB98C4567993D6A5F26792F33",1) -> =DISPIMG("ID_5B50BE1DB98C4567993D6A5F26792F33",1) | K11: 2000 | L11: =D11*K11 -> 27400
A12: RAC007 | B12: Beam 横梁 | C12: 2460*100*45*1.5 | D12: 12.6 | E12: =ROUNDDOWN(D10/1.5,0)*2 -> 8 | G12: =E12*F12*D12 -> 0 | H12: =[1]Rack!J12 -> 95.375 | I12: =H12*F12*E12 -> 0 | K12: 2000 | L12: =D12*K12 -> 25200
A13: RAC008 | B13: row spacer 连接杆 | C13: 250*60*40 | D13: 1.1 | E13: =ROUNDDOWN(D10/2,0)*2 -> 6 | F13: =F10 -> 10 | G13: =F13*D13*E13 -> 66 | H13: =[1]Rack!J13 -> 10.02 | I13: =H13*F13*E13 -> 601.2 | J13: =_xlfn.DISPIMG("ID_0E87DF8BB7EC46E5880226BA3CE7A3E0",1) -> =DISPIMG("ID_0E87DF8BB7EC46E5880226BA3CE7A3E0",1) | K13: 600 | L13: =D13*K13 -> 660 | O13: 2m height install 1pcs
A14: RAC009 | B14: Post guard U型防撞柱 | C14: H300 | D14: 3.5 | F14: =F10 -> 10 | G14: =F14*D14 -> 35 | H14: =[1]Rack!J14 -> 31.565 | I14: =H14*F14 -> 315.65 | K14: 125 | L14: =D14*K14 -> 437.5
A15: RAC010 | B15: Pallet support 支撑梁 | C15: 900*60*40 | D15: 2.3 | E15: 4 | F15: 36 | G15: =F15*E15*D15 -> 331.2 | H15: =[1]Rack!J15 -> 19.018182 | I15: =H15*E15*F15 -> 2738.6182 | J15: =_xlfn.DISPIMG("ID_6FC152D1CE6B42CB8D590A2DA910557B",1) -> =DISPIMG("ID_6FC152D1CE6B42CB8D590A2DA910557B",1) | K15: 8000 | L15: =D15*K15 -> 18400 | O15: 4pcs per rack
A16: RAC011 | B16: Crash barrier 防撞栏 | C16: L2050*H500 | D16: 18.3 | H16: =[1]Rack!J16 -> 151.03636 | I16: =H16*E16*F16 -> 0 | J16: =_xlfn.DISPIMG("ID_65FA1E08635043859F11F6AEACBF64C9",1) -> =DISPIMG("ID_65FA1E08635043859F11F6AEACBF64C9",1) | K16: 50 | L16: =D16*K16 -> 915
A17: RAC012 | B17: Crash barrier 防撞栏 | C17: L900*H500 | D17: 10.8 | H17: =[1]Rack!J17 -> 89.181818 | I17: =H17*F17*E17 -> 0 | K17: 10 | L17: =D17*K17 -> 108
B18: 2ton above-rm800/ton ,install wood slab -rm500/ton | G18: =SUM(G10:G17) -> 2041.6 | I18: =SUM(I10:I17) -> 15714.349 | K18: Total:KG | L18: =SUM(L6:L17) -> 99740.5
B19: below 2ton -rm1200-rm1500/ton

Sheet Weiguang
A1: WELLER AIR-COND PARTS ENTERPRISE SDN BHD (613386-K)
A3: ='CU '!A3 -> DATE :5.12.25
A7: PRICE WILL UPDATE OR CHANGE EVERYWEEK DUE TO THE DATE
A8: =[1]Weiguang!A8 -> ITEM | B8: =[1]Weiguang!B8 -> MODEL | C8: DECRIPTION | D8: =[1]Weiguang!D8 -> WATTS | E8: =[1]Weiguang!$I$8 -> RM | F8: PICTURE
A9: =[1]Weiguang!A9 -> WEI001 | B9: =[1]Weiguang!B9 -> YWF4E-200-G (8") (1PH) (230V) | C9: WEIGUANG AXIAL FAN SETS 1PH & 3PH (230V , 380V ~ 415V) | D9: =[1]Weiguang!D9 -> 40 | E9: =[1]Weiguang!I9 -> 133.06237
A10: =[1]Weiguang!A10 -> WEI002 | B10: =[1]Weiguang!B10 -> YWF4E-250-G (10") (1PH) (230V) | D10: =[1]Weiguang!D10 -> 50 | E10: =[1]Weiguang!I10 -> 136.69134
A11: =[1]Weiguang!A11 -> WEI002.1 | B11: =[1]Weiguang!B11 -> YWF2E-250-G (10") (1PH) (230V) 2500rpm | D11: =[1]Weiguang!D11 -> 50 | E11: =[1]Weiguang!I11 -> 136.69134
A12: =[1]Weiguang!A12 -> WEI003 | B12: =[1]Weiguang!B12 -> YWF4E-250B (10") (1PH) (230V) | D12: =[1]Weiguang!D12 -> 50 | E12: =[1]Weiguang!I12 -> 136.69134
A13: =[1]Weiguang!A13 -> WEI004 | B13: =[1]Weiguang!B13 -> YWF4E-300-G (12") (1PH) (230V) | D13: =[1]Weiguang!D13 -> 85 | E13: =[1]Weiguang!I13 -> 148.78792
A14: =[1]Weiguang!A15 -> WEI005 | B14: =[1]Weiguang!B15 -> YWF4E-300B (12") (1PH) (230V) | D14: =[1]Weiguang!D15 -> 85 | E14: =[1]Weiguang!I15 -> 148.78792
A15: =[1]Weiguang!A16 -> WEI005.1 | B15: =[1]Weiguang!B16 -> YWF2E-300-S (12") 7BLADE (230V) heavy 2m wire | D15: =[1]Weiguang!D16 -> 85 | E15: =[1]Weiguang!I16 -> 153.91854
A16: =[1]Weiguang!A17 -> WEI005.2 | B16: =[1]Weiguang!B17 -> YWF2D-300-S (12") 7BLADE (415V) heavy 2m wire | D16: =[1]Weiguang!D17 -> 85 | E16: =[1]Weiguang!I17 -> 153.91854
A17: =[1]Weiguang!A18 -> WEI005.3 | B17: =[1]Weiguang!B18 -> YWF2D-300-B (12") 7BLADE (415V) heavy | D17: =[1]Weiguang!D18 -> 85 | E17: =[1]Weiguang!I18 -> 153.91854
A18: =[1]Weiguang!A19 -> WEI005.4 | B18: =[1]Weiguang!B19 -> YWF2D-300-B (12") 7BLADE (1PH) wire 2m heavy | D18: =[1]Weiguang!D19 -> 85 | E18: =[1]Weiguang!I19 -> 153.91854
A19: =[1]Weiguang!A20 -> WEI005.5 | B19: =[1]Weiguang!B20 -> YWF2D-300-B (12") 7BLADE (3PH) wire 2m heavy | D19: =[1]Weiguang!D20 -> 85 | E19: =[1]Weiguang!I20 -> 153.91854
A20: =[1]Weiguang!A21 -> WEI006 | B20: =[1]Weiguang!B21 -> YWF4E-330-G (13") (1PH) (230V) | D20: =[1]Weiguang!D21 -> 95 | E20: =[1]Weiguang!I21 -> 165.72313
A21: =[1]Weiguang!A22 -> WEI007 | B21: =[1]Weiguang!B22 -> YWF4E-350-G (14") (1PH) (230V) | D21: =[1]Weiguang!D22 -> 140 | E21: =[1]Weiguang!I22 -> 191.12595
A22: =[1]Weiguang!A23 -> WEI008 | B22: =[1]Weiguang!B23 -> YWF4D-350-G (14") (3PH ) (415V) | D22: =[1]Weiguang!D23 -> 140 | E22: =[1]Weiguang!I23 -> 191.12595
A23: =[1]Weiguang!A24 -> WEI009 | B23: =[1]Weiguang!B24 -> YWF4E-400-G (16") (1PH) (230V) | D23: =[1]Weiguang!D24 -> 180 | E23: =[1]Weiguang!I24 -> 211.69013
A24: =[1]Weiguang!A25 -> WEI010 | B24: =[1]Weiguang!B25 -> YWF4D-400-G (16") (3PH ) (415V) | D24: =[1]Weiguang!D25 -> 180 | E24: =[1]Weiguang!I25 -> 211.69013
A25: =[1]Weiguang!A26 -> WEI011 | B25: =[1]Weiguang!B26 -> YWF6E-400-G (16") (1PH) (230V) 6poles | D25: =[1]Weiguang!D26 -> 108 | E25: =[1]Weiguang!I26 -> 211.69013
... A37: =[1]Weiguang!A38 -> WEI023 | B37: =[1]Weiguang!B38 -> YWF6D-800-G (32") (3PH ) (415V) | D37: =[1]Weiguang!D38 -> 1790 | E37: =[1]Weiguang!I38 -> 1442.4611
A38: =[1]Weiguang!A40 -> WEI023.1 | B38: =[1]Weiguang!B40 -> YWF4D-400-G (16") (3PH ) (415V) cw 1.55m wire | D38: =[1]Weiguang!D40 -> 180 | E38: =[1]Weiguang!I40 -> 211.69013
A39: =[1]Weiguang!A41 -> WEI023.2 | B39: =[1]Weiguang!B41 -> YWF4D-450-G (18") (3PH ) (415V) cw 1.5m wire | D39: =[1]Weiguang!D41 -> 250 | E39: =[1]Weiguang!I41 -> 240.72192
A40: =[1]Weiguang!A42 -> WEI023.3 | B40: =[1]Weiguang!B42 -> YWF4D-500-G (20") (3PH ) (415V) cw 1.5m wire | D40: =[1]Weiguang!D42 -> 450 | E40: =[1]Weiguang!I42 -> 306.5878
A41: =[1]Weiguang!A43 -> WEI023.4 | B41: =[1]Weiguang!B43 -> YWF4E-350-S-102/47 (14") (1PH) heavy duty | C41: WEIGUANG heavy duty fan sets 1PH & 3PH (230V , 380V ~ 415V) | D41: =[1]Weiguang!D43 -> 165 | E41: =[1]Weiguang!I43 -> ~
A42: =[1]Weiguang!A44 -> WEI023.5 | B42: =[1]Weiguang!B44 -> YWF4D-350-S-102/47 (14") (3PH ) heavy duty | D42: =[1]Weiguang!D44 -> 165 | E42: =[1]Weiguang!I44 -> ~
A43: =[1]Weiguang!A45 -> WEI024 | B43: =[1]Weiguang!B45 -> YWF4E-400-J (16") (1PH) (230V) | D43: =[1]Weiguang!D45 -> 200 | E43: =[1]Weiguang!I45 -> 230.93469
A44: =[1]Weiguang!A46 -> WEI025 | B44: =[1]Weiguang!B46 -> YWF4D-400-J (16") (3PH ) (415V) | D44: =[1]Weiguang!D46 -> 200 | E44: =[1]Weiguang!I46 -> 230.93469
A45: =[1]Weiguang!A47 -> WEI025.1 | B45: =[1]Weiguang!B47 -> YWF4E-400-S-102/60 (16") (1PH) heavy duty | D45: =[1]Weiguang!D47 -> 205 | E45: =[1]Weiguang!I47 -> 286.90433
A46: =[1]Weiguang!A48 -> WEI025.2 | B46: =[1]Weiguang!B48 -> YWF4D-400-S-102/60 (16") (3PH ) heavy duty | D46: =[1]Weiguang!D48 -> 205 | E46: =[1]Weiguang!I48 -> 286.90433
A47: =[1]Weiguang!A49 -> WEI025.3 | B47: =[1]Weiguang!B49 -> YWF4D-450-S-137/35 (18") (3PH ) heavy duty 7 blade | D47: =[1]Weiguang!D49 -> 370 | E47: =[1]Weiguang!I49 -> 380.73297
A48: =[1]Weiguang!A50 -> WEI026 | B48: =[1]Weiguang!B50 -> YWF4D-500S-145/6SA2-G (aluminum die cast) | D48: =[1]Weiguang!D50 -> 800 | E48: =[1]Weiguang!I50 -> 679.60781
A49: =[1]Weiguang!A51 -> WEI026.1 | B49: =[1]Weiguang!B51 -> YWF4D-500S 137/60-G (20") (3PH ) (415V) 7blade | D49: =[1]Weiguang!D51 -> 750 | E49: =[1]Weiguang!I51 -> 415.68245
A50: =[1]Weiguang!A52 -> WEI026.2 | B50: =[1]Weiguang!B52 -> YWF4D-630-B -168/80G (26") (3PH ) Heavy duty | D50: =[1]Weiguang!D52 -> 1900 | E50: =[1]Weiguang!I52 -> 903.94436
A51: =[1]Weiguang!A53 -> WEI026.3 | B51: =[1]Weiguang!B53 -> YWF4D-630S-180/105A2-G (aluminium die cast) | D51: =[1]Weiguang!D53 -> 2700 | E51: =[1]Weiguang!I53 -> 1493.8175
A52: =[1]Weiguang!A54 -> WEI026.4 | B52: =[1]Weiguang!B54 -> YWF4E-300-G (12") (1PH) (230V)S/S | C52: WEIGUANG heavy duty fan sets 1PH & 3PH (230V , 380V ~ 415V)S/Steel fan blade & guard | D52: =[1]Weiguang!D54 -> 0 | E52: =[1]Weiguang!I54 -> 230.93469
A53: =[1]Weiguang!A55 -> WEI026.5 | B53: =[1]Weiguang!B55 -> YWF4D-300-G (12") (3PH) (415V)S/S | D53: =[1]Weiguang!D55 -> 0 | E53: =[1]Weiguang!I55 -> 230.93469
A54: =[1]Weiguang!A56 -> WEI026.6 | B54: =[1]Weiguang!B56 -> YWF2D-300-S (12") 7BLADE (415V)S/S heavy 2m wire | D54: =[1]Weiguang!D56 -> 0 | E54: =[1]Weiguang!I56 -> 232.25432
A55: =[1]Weiguang!A57 -> WEI026.7 | B55: =[1]Weiguang!B57 -> YWF4E-400-J (16") (1PH) (230V)S/S | D55: =[1]Weiguang!D57 -> 0 | E55: =[1]Weiguang!I57 -> 343.10297
...

Sheet ZIEHL
A1: WELLER AIR-COND PARTS ENTERPRISE SDN BHD (613386-K)
A3: =Weiguang!A3 -> DATE :5.12.25
A8: ITEM CODE | B8: GUARANTEE GENUINE GERMANY FAN SETS | C8: PH & Voltage | D8: BRAND | E8: 1Pallet quantity | F8: =[1]ZIEHL!K8 -> RM | G8: PICTURE
A9: =[1]ZIEHL!A9 -> ZI 001.1 | B9: =[1]ZIEHL!B9 -> (16") FN040-VDK Ziehhlabegg fan (1PH) | C9: =[1]ZIEHL!C9 -> 1PH (230V) | D9: Ziehhlabegg | E9: 28 | F9: =[1]ZIEHL!K9 -> 519.44444
A10: =[1]ZIEHL!A10 -> ZI001 | B10: =[1]ZIEHL!B10 -> (16") FN040-VDK Ziehhlabegg fan (3ph) | C10: =[1]ZIEHL!C10 -> 3PH (415V) | E10: 28 | F10: =[1]ZIEHL!K10 -> ~
A11: =[1]ZIEHL!A11 -> ZI002 | B11: =[1]ZIEHL!B11 -> (20") FN050-VDK Ziehhlabegg fan | C11: =[1]ZIEHL!C11 -> 3PH (415V) | E11: 28 | F11: =[1]ZIEHL!K11 -> ~
A12: =[1]ZIEHL!A12 -> ZI003 | B12: =[1]ZIEHL!B12 -> (26") FN063-VDK Ziehhlabegg fan | C12: =[1]ZIEHL!C12 -> 3PH (415V) | E12: 6 | F12: =[1]ZIEHL!K12 -> ~
A13: =[1]ZIEHL!A13 -> ZI005 | B13: =[1]ZIEHL!B13 -> (32") FN080-sDQ Ziehhlabegg fan (6poles) | C13: =[1]ZIEHL!C13 -> 3PH (415V) | E13: 6 | F13: =[1]ZIEHL!K13 -> ~
A14: =[1]ZIEHL!A14 -> ZI 8 | B14: =[1]ZIEHL!B14 -> (26") FB063-VDK Ziehhlabegg fan | C14: =[1]ZIEHL!C14 -> 3PH (415V) | F14: =[1]ZIEHL!K14 -> 1507.5077
A15: =[1]ZIEHL!A15 -> ZI005.1 | B15: =[1]ZIEHL!B15 -> 12" EBM FAN SET (1PH) | C15: =[1]ZIEHL!C15 -> 1PH (230V) | D15: EBM | F15: =[1]ZIEHL!K15 -> ~
A16: =[1]ZIEHL!A16 -> ZI005.2 | B16: =[1]ZIEHL!B16 -> 14" EBM FAN SET (1PH) | C16: =[1]ZIEHL!C16 -> 1PH (230V) | F16: =[1]ZIEHL!K16 -> ~
A17: =[1]ZIEHL!A17 -> ZI005.3 | B17: =[1]ZIEHL!B17 -> 14" EBM FAN SET (3PH) | C17: =[1]ZIEHL!C17 -> 3PH (415V) | F17: =[1]ZIEHL!K17 -> 376.47659
A18: =[1]ZIEHL!A18 -> ZI006 | B18: =[1]ZIEHL!B18 -> 16" EBM FAN SET (1PH) | C18: =[1]ZIEHL!C18 -> 1PH (230V) | E18: 45 | F18: =[1]ZIEHL!K18 -> 487.94489
A19: =[1]ZIEHL!A19 -> ZI007 | B19: =[1]ZIEHL!B19 -> 16" EBM FAN SET (3PH) | C19: =[1]ZIEHL!C19 -> 3PH (415V) | E19: 46 | F19: =[1]ZIEHL!K19 -> ~
A20: =[1]ZIEHL!A20 -> ZI007.1 | B20: =[1]ZIEHL!B20 -> 18" EBM FAN SET (3PH) | C20: =[1]ZIEHL!C20 -> 3PH (415V) | F20: =[1]ZIEHL!K20 -> ~
A21: =[1]ZIEHL!A21 -> ZI008 | B21: =[1]ZIEHL!B21 -> 20" EBM FAN SET (3PH) | C21: =[1]ZIEHL!C21 -> 3PH (415V) | E21: 47 | F21: =[1]ZIEHL!K21 -> ~
A22: =[1]ZIEHL!A22 -> ZI009 | B22: =[1]ZIEHL!B22 -> 26" EBM FAN SET (3PH) | C22: =[1]ZIEHL!C22 -> 3PH (415V) | E22: 48 | F22: =[1]ZIEHL!K22 -> 1993.1114
A23: =[1]ZIEHL!A23 -> ZI010 | B23: =[1]ZIEHL!B23 -> 32" EBM FAN SET (3PH) c/w end plate(800mm) | C23: =[1]ZIEHL!C23 -> 3PH (415V) | F23: =[1]ZIEHL!K23 -> 2867.5086
A24: =[1]ZIEHL!A24 -> ZI010.1 | B24: =[1]ZIEHL!B24 -> 36" EBM FAN SET (3PH) c/w end plate(910mm) | C24: =[1]ZIEHL!C24 -> 3PH (415V) | F24: =[1]ZIEHL!K24 -> ~
A25: =[1]ZIEHL!A25 -> ZI011 | B25: =[1]ZIEHL!B25 -> 10watts ebm fan motor (M4Q045CA03A4/C01) | C25: =[1]ZIEHL!C25 -> 0 | F25: =[1]ZIEHL!K25 -> ~
A26: =[1]ZIEHL!A26 -> ZI012 | B26: =[1]ZIEHL!B26 -> 18watts ebm fan motor (M4Q045DA13A4/C01) | C26: =[1]ZIEHL!C26 -> 0 | F26: =[1]ZIEHL!K26 -> ~
A27: PRICE VALID : Ex-factory at K.L price
A28: *PRICE WILL BE CHANGE ON THE FINAL PAYMENT DUE TO THE CURRENCY RATE
A29: *PLEASE EMAIL OR FAX OVER THE BANK IN SLIP
A30: BANK ACC :HONG LEONG BANK BHD 36600016285 , PUBLIC BANK BHD 3119617816
A31: BENEFICIARY :WELLER AIR-COND PARTS ENTERPRICE SDN BHD
A32: COMPUTER PRINT GENERATE ONLY

Sheet QC
A1: WELLER AIR-COND PARTS ENTERPRISE SDN BHD (613386-K)
A3: =ZIEHL!A3 -> DATE :5.12.25
A7: PRICE WILL UPDATE OR CHANGE EVERYWEEK DUE TO THE DATE
A8: ITEM CODE | B8: NEW QC UNIT BLOWER (FREEZER) MODEL | C8: DECRIPTION | D8: COMPRESSOR TO MATCH | E8: =[1]QC!E8 -> BTU/HR td7 | F8: =[1]QC!F8 -> kW td7 | G8: =[1]QC!G8 -> Flowrate meter | H8: =[1]QC!H8 -> Dimension (mm) | I8: =[1]QC!I8 -> Voltage | J8: =[1]QC!J8 -> Heater pcs | K8: =[1]QC!K8 -> Heater KW | L8: =[1]QC!L8 -> Size outlet copper p-trap | ... N8: =[1]QC!N8 -> (Frezzer) TES (R404) -25c orifice no | O8: =[1]QC!Z8 -> (RM) axial fan | P8: =[1]QC!AA8 -> Axial fan c/w exp valve ,p trap | Q8: =[1]QC!AI8 -> (RM)aluminium heavy duty fan | R8: =[1]QC!AJ8 -> heavy fan c/w p trap and exp valve | S8: PICTURE
A9: =[1]QC!A9 -> QC001 | B9: =[1]QC!B9 -> CL301C4 | C9: FREEZER - 5'C ~ - 25'C ( 7mm ~ 9mm Fin Spacing) Unit blower with EBM / AXIAL FAN SETS | D9: =[1]QC!D9 -> MT22,CS11,zb15 | E9: =[1]QC!E9 -> 4778.2 | F9: =[1]QC!F9 -> 1.4 | G9: =[1]QC!G9 -> 9 | H9: =[1]QC!H9 -> 1x300 | I9: =[1]QC!I9 -> 230 | J9: =[1]QC!J9 -> 3 | K9: =[1]QC!K9 -> 1.5 | ... N9: =[1]QC!N9 -> 1 / RCX0834 | O9: =[1]QC!Z9 -> 1416.995 | P9: =[1]QC!AA9 -> 1713.298 | Q9: =[1]QC!AI9 -> ~ | R9: =[1]QC!AJ9 -> ~
A10: =[1]QC!A10 -> QC002 | B10: =[1]QC!B10 -> CL302C3 | D10: =[1]QC!D10 -> MT32-MT36,ZB19 | E10: =[1]QC!E10 -> 6826 | F10: =[1]QC!F10 -> 2 | G10: =[1]QC!G10 -> 9 | H10: =[1]QC!H10 -> 2x300 | I10: =[1]QC!I10 -> 230 | J10: =[1]QC!J10 -> 3 | K10: =[1]QC!K10 -> 2.4 | ... N10: =[1]QC!N10 -> 2 / RCX1034 | O10: =[1]QC!Z10 -> 1855.2405 | P10: =[1]QC!AA10 -> 2151.5435 | Q10: =[1]QC!AI10 -> ~ | R10: =[1]QC!AJ10 -> ~
A11: =[1]QC!A11 -> QC003 | B11: =[1]QC!B11 -> CL302C4 | D11: =[1]QC!D11 -> MT40-MT44,ZB21 | E11: =[1]QC!E11 -> 7849.9 | F11: =[1]QC!F11 -> 2.3 | G11: =[1]QC!G11 -> 9 | H11: =[1]QC!H11 -> 2x300 | I11: =[1]QC!I11 -> 230 | J11: =[1]QC!J11 -> 3 | K11: =[1]QC!K11 -> 2.4 | ... N11: =[1]QC!N11 -> 3 / RCX1534 | O11: =[1]QC!Z11 -> 1996.7548 | P11: =[1]QC!AA11 -> 2293.0578 | Q11: =[1]QC!AI11 -> ~ | R11: =[1]QC!AJ11 -> ~
A12: =[1]QC!A12 -> QC004 | B12: =[1]QC!B12 -> CL302C6 | D12: =[1]QC!D12 -> MT50-MT64,ZB29,ZB38 | E12: =[1]QC!E12 -> 10239 | F12: =[1]QC!F12 -> 3 | G12: =[1]QC!G12 -> 8 | H12: =[1]QC!H12 -> 2x300 | I12: =[1]QC!I12 -> 230 | J12: =[1]QC!J12 -> 5 | K12: =[1]QC!K12 -> 4 | ... N12: =[1]QC!N12 -> 3 / RCX1534 | O12: =[1]QC!Z12 -> 2536.8462 | P12: =[1]QC!AA12 -> 2850.4703 | Q12: =[1]QC!AI12 -> ~ | R12: =[1]QC!AJ12 -> ~
A13: =[1]QC!A13 -> QC005 | B13: =[1]QC!B13 -> CL303C4 | D13: =[1]QC!D13 -> MT50-MT64,ZB29,ZB38 | E13: =[1]QC!E13 -> 12628.1 | F13: =[1]QC!F13 -> 3.7 | G13: =[1]QC!G13 -> 9 | H13: =[1]QC!H13 -> 3x300 | I13: =[1]QC!I13 -> 230 | J13: =[1]QC!J13 -> 3 | K13: =[1]QC!K13 -> 6 | ... N13: =[1]QC!N13 -> 4 / RCX2034 | O13: =[1]QC!Z13 -> 2671.2903 | P13: =[1]QC!AA13 -> 2984.9144 | Q13: =[1]QC!AI13 -> ~ | R13: =[1]QC!AJ13 -> ~
A14: =[1]QC!A14 -> QC006 | B14: =[1]QC!B14 -> CL303C6 | D14: =[1]QC!D14 -> 4DES5Y,MT100,ZB45 | E14: =[1]QC!E14 -> 15699.8 | F14: =[1]QC!F14 -> 4.6 | G14: =[1]QC!G14 -> 9 | H14: =[1]QC!H14 -> 3x300 | I14: =[1]QC!I14 -> 230 | J14: =[1]QC!J14 -> 5 | K14: =[1]QC!K14 -> 6 | ... N14: =[1]QC!N14 -> 6 | O14: =[1]QC!Z14 -> 3398.3364 | P14: =[1]QC!AA14 -> 3711.9605 | Q14: =[1]QC!AI14 -> ~ | R14: =[1]QC!AJ14 -> ~
A15: =[1]QC!A15 -> QC006.1 | B15: =[1]QC!B15 -> CL304C6 | D15: =[1]QC!D15 -> 4CES6YY,MT125,ZB48 | E15: =[1]QC!E15 -> 21501.9 | F15: =[1]QC!F15 -> 6.3 | G15: =[1]QC!G15 -> 9 | H15: =[1]QC!H15 -> 4x300 | I15: =[1]QC!I15 -> 230 | J15: =[1]QC!J15 -> 5 | K15: =[1]QC!K15 -> 6 | ... N15: =[1]QC!N15 -> TES5-1 / TGES5 | O15: =[1]QC!Z15 -> 4078.0651 | P15: =[1]QC!AA15 -> 4719.5426 | Q15: =[1]QC!AI15 -> ~ | R15: =[1]QC!AJ15 -> ~
A16: =[1]QC!A16 -> QC007 | B16: =[1]QC!B16 -> CL401C3 | D16: =[1]QC!D16 -> MT28,ZB15 | E16: =[1]QC!E16 -> 6826 | F16: =[1]QC!F16 -> 2 | G16: =[1]QC!G16 -> 12 | H16: =[1]QC!H16 -> 1x400 | I16: =[1]QC!I16 -> 230 | J16: =[1]QC!J16 -> 3 | K16: =[1]QC!K16 -> 1.5 | ... N16: =[1]QC!N16 -> 1 / RCX0834 | O16: =[1]QC!Z16 -> 1618.3874 | P16: =[1]QC!AA16 -> 1914.6904 | Q16: =[1]QC!AI16 -> 1946.2324 | R16: =[1]QC!AJ16 -> 2242.5354
A17: =[1]QC!A17 -> QC008 | B17: =[1]QC!B17 -> CL401C4 | D17: =[1]QC!D17 -> MT32,ZB19 | E17: =[1]QC!E17 -> 7849.9 | F17: =[1]QC!F17 -> 2.3 | G17: =[1]QC!G17 -> 12 | H17: =[1]QC!H17 -> 1x400 | I17: =[1]QC!I17 -> 230 | J17: =[1]QC!J17 -> 3 | K17: =[1]QC!K17 -> 1.5 | ... N17: =[1]QC!N17 -> 2 / RCX1034 | O17: =[1]QC!Z17 -> 1767.6915 | P17: =[1]QC!AA17 -> 2063.9945 | Q17: =[1]QC!AI17 -> 2095.5365 | R17: =[1]QC!AJ17 -> 2391.8395
A18: =[1]QC!A18 -> QC009 | B18: =[1]QC!B18 -> CL401C5 | D18: =[1]QC!D18 -> MT40,ZB21 | E18: =[1]QC!E18 -> 9897.7 | F18: =[1]QC!F18 -> 2.9 | G18: =[1]QC!G18 -> 12 | H18: =[1]QC!H18 -> 1x400 | I18: =[1]QC!I18 -> 230 | J18: =[1]QC!J18 -> 5 | K18: =[1]QC!K18 -> 2.5 | ... N18: =[1]QC!N18 -> 3 / RCX1534 | O18: =[1]QC!Z18 -> 1993.5951 | P18: =[1]QC!AA18 -> 2289.8981 | Q18: =[1]QC!AI18 -> 2321.4401 | R18: =[1]QC!AJ18 -> 2617.7431
A19: =[1]QC!A19 -> QC010 | B19: =[1]QC!B19 -> CL401C6 | D19: =[1]QC!D19 -> MT50,ZB26 | E19: =[1]QC!E19 -> 10580.3 | F19: =[1]QC!F19 -> 3.1 | G19: =[1]QC!G19 -> 12 | H19: =[1]QC!H19 -> 1x400 | I19: =[1]QC!I19 -> 230 | J19: =[1]QC!J19 -> 5 | K19: =[1]QC!K19 -> 2.5 | ... N19: =[1]QC!N19 -> 3 / RCX2034 | O19: =[1]QC!Z19 -> 2188.3396 | P19: =[1]QC!AA19 -> 2484.6426 | Q19: =[1]QC!AI19 -> 2516.1846 | R19: =[1]QC!AJ19 -> 2812.4876
A20: =[1]QC!A20 -> QC010.1 | B20: =[1]QC!B20 -> CL402C3 | D20: =[1]QC!D20 -> MT64,ZB29 | E20: =[1]QC!E20 -> 12628.1 | F20: =[1]QC!F20 -> 3.7 | G20: =[1]QC!G20 -> 14 | H20: =[1]QC!H20 -> 2x400 | I20: =[1]QC!I20 -> 415 | J20: =[1]QC!J20 -> 3 | K20: =[1]QC!K20 -> 3 | ... N20: =[1]QC!N20 -> 3 / RCX2034 | O20: =[1]QC!Z20 -> 2521.5795 | P20: =[1]QC!AA20 -> 2835.2036 | Q20: =[1]QC!AI20 -> 3177.2695 | R20: =[1]QC!AJ20 -> 3490.8936
A21: =[1]QC!A21 -> QC011 | B21: =[1]QC!B21 -> CL402C4 | D21: =[1]QC!D21 -> MT80,CS33,ZB38 | E21: =[1]QC!E21 -> 16041.1 | F21: =[1]QC!F21 -> 4.7 | G21: =[1]QC!G21 -> 14 | H21: =[1]QC!H21 -> 2x400 | I21: =[1]QC!I21 -> 415 | J21: =[1]QC!J21 -> 3 | K21: =[1]QC!K21 -> 3 | ... N21: =[1]QC!N21 -> 3 / RCX2034 | O21: =[1]QC!Z21 -> 2803.3099 | P21: =[1]QC!AA21 -> 3116.9339 | Q21: =[1]QC!AI21 -> 3458.9999 | R21: =[1]QC!AJ21 -> 3772.6239
... A27: =[1]QC!A27 -> QC016 | B27: =[1]QC!B27 -> CL404C6 | D27: =[1]QC!D27 -> 4NES14Y,ZFI39 | E27: =[1]QC!E27 -> 41297.3 | F27: =[1]QC!F27 -> 12.1 | G27: =[1]QC!G27 -> 16 | H27: =[1]QC!H27 -> 4x400 | I27: =[1]QC!I27 -> 415 | J27: =[1]QC!J27 -> 5 | K27: =[1]QC!K27 -> 9 | ... N27: =[1]QC!N27 -> TES5-1 /TGES5 | O27: =[1]QC!Z27 -> 6253.3377 | P27: =[1]QC!AA27 -> 6929.8602 | Q27: =[1]QC!AI27 -> 7564.7176 | R27: =[1]QC!AJ27 -> 8241.2402
A28: =[1]QC!A29 -> QC018 | B28: =[1]QC!B29 -> NT501C6 | D28: =[1]QC!D29 -> 4CES6Y,MT125,ZFI26 | E28: =[1]QC!E29 -> 26962.7 | F28: =[1]QC!F29 -> 7.9 | G28: =[1]QC!G29 -> 26 | H28: =[1]QC!H29 -> 1X500 | I28: =[1]QC!I29 -> 415 | J28: =[1]QC!J29 -> 6 | K28: =[1]QC!K29 -> 9 | ... N28: =[1]QC!N29 -> 6 /5 zfi | O28: =[1]QC!Z29 -> 4610.6885 | P28: =[1]QC!AA29 -> 5201.2552 | Q28: =[1]QC!AI29 -> 4841.0996 | R28: =[1]QC!AJ29 -> 5431.6662
A29: =[1]QC!A30 -> QC019 | B29: =[1]QC!B30 -> NT501C8 | D29: =[1]QC!D30 -> 4TES9Y,ZFI31,ZFI36 | E29: =[1]QC!E30 -> 30034.4 | F29: =[1]QC!F30 -> 8.8 | G29: =[1]QC!G30 -> 26 | H29: =[1]QC!H30 -> 1X500 | I29: =[1]QC!I30 -> 415 | J29: =[1]QC!J30 -> 6 | K29: =[1]QC!K30 -> 9 | ... N29: =[1]QC!N30 -> TES2-6 /TGES5 | O29: =[1]QC!Z30 -> 5303.9377 | P29: =[1]QC!AA30 -> 5926.768 | Q29: =[1]QC!AI30 -> 5534.3488 | R29: =[1]QC!AJ30 -> 6157.179
A30: =[1]QC!A31 -> QC020 | B30: =[1]QC!B31 -> NT502C4 | D30: =[1]QC!D31 -> 4PES12Y,ZFI39 | E30: =[1]QC!E31 -> 42662.5 | F30: =[1]QC!F31 -> 12.5 | G30: =[1]QC!G31 -> 26 | H30: =[1]QC!H31 -> 2X500 | I30: =[1]QC!I31 -> 415 | J30: =[1]QC!J31 -> 6 | K30: =[1]QC!K31 -> 9 | ... N30: =[1]QC!N31 -> TES5-1 ZFI /TGES5 | O30: =[1]QC!Z31 -> 6312.274 | P30: =[1]QC!AA31 -> 6954.1519 | Q30: =[1]QC!AI31 -> 6773.0961 | R30: =[1]QC!AJ31 -> 7414.9739
A31: =[1]QC!A32 -> QC021 | B31: =[1]QC!B32 -> NT502C5 | D31: =[1]QC!D32 -> 4NES14Y,ZFI50 | E31: =[1]QC!E32 -> 48464.6 | F31: =[1]QC!F32 -> 14.2 | G31: =[1]QC!G32 -> 26 | H31: =[1]QC!H32 -> 2x500 | I31: =[1]QC!I32 -> 415 | J31: =[1]QC!J32 -> 6 | K31: =[1]QC!K32 -> 9 | ... N31: =[1]QC!N32 -> TES5-1 ZFI /TGES7.5 | O31: =[1]QC!Z32 -> 7280.4323 | P31: =[1]QC!AA32 -> 7922.3102 | Q31: =[1]QC!AI32 -> 7741.2544 | R31: =[1]QC!AJ32 -> 8383.1323
A32: =[1]QC!A33 -> QC022 | B32: =[1]QC!B33 -> NT502C6 | D32: =[1]QC!D33 -> 4HE18Y,ZFI59,ZFI68 | E32: =[1]QC!E33 -> 54608 | F32: =[1]QC!F33 -> 16 | G32: =[1]QC!G33 -> 26 | H32: =[1]QC!H33 -> 2x500 | I32: =[1]QC!I33 -> 415 | J32: =[1]QC!J33 -> 6 | K32: =[1]QC!K33 -> 9 | ... N32: =[1]QC!N33 -> TES5-2 ZFI /SCX0857/TGES7.5 | O32: =[1]QC!Z33 -> 7860.1321 | P32: =[1]QC!AA33 -> 8502.01 | Q32: =[1]QC!AI33 -> 8320.9542 | R32: =[1]QC!AJ33 -> 8962.832
A33: =[1]QC!A34 -> QC023 | B33: =[1]QC!B34 -> NT502C8 | D33: =[1]QC!D34 -> 4GE23Y,ZFI81 | E33: =[1]QC!E34 -> 61434 | F33: =[1]QC!F34 -> 18 | G33: =[1]QC!G34 -> 26 | H33: =[1]QC!H34 -> 2x500 | I33: =[1]QC!I34 -> 415 | J33: =[1]QC!J34 -> 6 | K33: =[1]QC!K34 -> 9 | ... N33: =[1]QC!N34 -> TES5-3 /SCX0957/TGES9,TES5-2 ZFI | O33: =[1]QC!Z34 -> 9527.4394 | P33: =[1]QC!AA34 -> 10216.943 | Q33: =[1]QC!AI34 -> 9916.6225 | R33: =[1]QC!AJ34 -> 10606.126
A34: =[1]QC!A35 -> QC023.1 | B34: =[1]QC!B35 -> NT503C5 | D34: =[1]QC!D35 -> 4FE25Y / 4GE23Y,ZFI81 | E34: =[1]QC!E35 -> 72000 | F34: =[1]QC!F35 -> 21.09581 | G34: =[1]QC!G35 -> 26 | H34: =[1]QC!H35 -> 3X500 | I34: =[1]QC!I35 -> 415 | J34: =[1]QC!J35 -> 6 | K34: =[1]QC!K35 -> 14.4 | ... N34: =[1]QC!N35 -> TES5-4 /SCX0957/TGES11,TES5-3 ZFI | O34: =[1]QC!Z35 -> 10226.128 | P34: =[1]QC!AA35 -> 10915.631 | Q34: =[1]QC!AI35 -> 10912.58 | R34: =[1]QC!AJ35 -> 11602.083
A35: =[1]QC!A36 -> QC024 | B35: =[1]QC!B36 -> NT503C6 | D35: =[1]QC!D36 -> S6H-20.2Y / 6HE28Y,ZFI81 | E35: =[1]QC!E36 -> 81912 | F35: =[1]QC!F36 -> 24 | G35: =[1]QC!G36 -> 26 | H35: =[1]QC!H36 -> 3x500 | I35: =[1]QC!I36 -> 415 | J35: =[1]QC!J36 -> 6 | K35: =[1]QC!K36 -> 14.4 | ... N35: =[1]QC!N36 -> TES5-4/ TGES13 | O35: =[1]QC!Z36 -> 11554.058 | P35: =[1]QC!AA36 -> 12435.572 | Q35: =[1]QC!AI36 -> 12245.291 | R35: =[1]QC!AJ36 -> 13126.805
A36: =[1]QC!A37 -> QC025 | B36: =[1]QC!B37 -> NT503C8 | D36: =[1]QC!D37 -> 6GE34Y,ZFI96 | E36: =[1]QC!E37 -> 93857.5 | F36: =[1]QC!F37 -> 27.5 | G36: =[1]QC!G37 -> 26 | H36: =[1]QC!H37 -> 3x500 | I36: =[1]QC!I37 -> 415 | J36: =[1]QC!J37 -> 6 | K36: =[1]QC!K37 -> 14.4 | ... N36: =[1]QC!N37 -> TES12-5 ZFI/ TGES13 | O36: =[1]QC!Z37 -> 13992.383 | P36: =[1]QC!AA37 -> 14973.013 | Q36: =[1]QC!AI37 -> 14683.616 | R36: =[1]QC!AJ37 -> 15664.246
A37: =[1]QC!A38 -> QC025.1 | B37: =[1]QC!B38 -> NT504C6 | D37: =[1]QC!D38 -> 6GE34Y,ZFI122 | E37: =[1]QC!E38 -> 115000 | F37: =[1]QC!F38 -> 33.694697 | G37: =[1]QC!G38 -> 30 | H37: =[1]QC!H38 -> 4x500 | I37: =[1]QC!I38 -> 415 | J37: =[1]QC!J38 -> 6 | K37: =[1]QC!K38 -> 16.2 | ... N37: =[1]QC!N38 -> TES12-5 ZFI/ TGES13 | O37: =[1]QC!Z38 -> 16320.283 | P37: =[1]QC!AA38 -> 17300.914 | Q37: =[1]QC!AI38 -> 17241.927 | R37: =[1]QC!AJ38 -> 18222.558
A38: =[1]QC!A39 -> QC026 | B38: =[1]QC!B39 -> NT504C8 | D38: =[1]QC!D39 -> 6FE44Y/S6F-30.2,ZFI140 | E38: =[1]QC!E39 -> 122868 | F38: =[1]QC!F39 -> 36 | G38: =[1]QC!G39 -> 30 | H38: =[1]QC!H39 -> 4x500 | I38: =[1]QC!I39 -> 415 | J38: =[1]QC!J39 -> 6 | K38: =[1]QC!K39 -> 16.2 | ... N38: =[1]QC!N39 -> TES12-6 ZFI/ TGES18 | O38: =[1]QC!Z39 -> 17474.902 | P38: =[1]QC!AA39 -> 18455.532 | Q38: =[1]QC!AI39 -> 18042.75 | R38: =[1]QC!AJ39 -> 19023.38
A39: =[1]QC!A40 -> QC001 | B39: =[1]QC!B40 -> CL301C4H | C39: CHILLER +15'C ~ 0'C ( 6mm Fin Spacing) Unit blower with EBM / AXIAL FAN SETS W/O HEATER | D39: =[1]QC!D40 -> MT18,KCJ484 | E39: =[1]QC!E40 -> 10900 | F39: =[1]QC!F40 -> 3.1936713 | G39: =[1]QC!G40 -> 9 | H39: =[1]QC!H40 -> 1x300 | I39: =[1]QC!I40 -> 230 | K39: =[1]QC!K40 -> ~ | L39: =[1]QC!L40 -> ~ | M39: =[1]QC!M40 -> 1 / RCX1234 | N39: =[1]QC!N40 -> 1 / RCX0834 | O39: =[1]QC!Z40 -> 1311.833 | P39: =[1]QC!AA40 -> 1548.0255 | Q39: =[1]QC!AI40 -> ~ | R39: =[1]QC!AJ40 -> ~
A40: =[1]QC!A41 -> QC002 | B40: =[1]QC!B41 -> CL302C3H | D40: =[1]QC!D41 -> MT22,CS11,zb15 | E40: =[1]QC!E41 -> 14600 | F40: =[1]QC!F41 -> 4.2777615 | G40: =[1]QC!G41 -> 9 | H40: =[1]QC!H41 -> 2x300 | I40: =[1]QC!I41 -> 230 | K40: =[1]QC!K41 -> ~ | L40: =[1]QC!L41 -> ~ | M40: =[1]QC!M41 -> 1 / RCX1234 | N40: =[1]QC!N41 -> 2 / RCX1034 | O40: =[1]QC!Z41 -> 1711.1296 | P40: =[1]QC!AA41 -> 1947.3221 | Q40: =[1]QC!AI41 -> ~ | R40: =[1]QC!AJ41 -> ~
A41: =[1]QC!A42 -> QC003 | B41: =[1]QC!B42 -> CL302C4H | D41: =[1]QC!D42 -> MT32,ZB19,CS13 | E41: =[1]QC!E42 -> 18300 | F41: =[1]QC!F42 -> 5.3618517 | G41: =[1]QC!G42 -> 9 | H41: =[1]QC!H42 -> 2x300 | I41: =[1]QC!I42 -> 230 | K41: =[1]QC!K42 -> ~ | L41: =[1]QC!L42 -> ~ | M41: =[1]QC!M42 -> 2 / RCX1634 | N41: =[1]QC!N42 -> 3 / RCX1534 | O41: =[1]QC!Z42 -> 1852.6439 | P41: =[1]QC!AA42 -> 2088.8364 | Q41: =[1]QC!AI42 -> ~ | R41: =[1]QC!AJ42 -> ~
A42: =[1]QC!A43 -> QC004 | B42: =[1]QC!B43 -> CL302C6H | D42: =[1]QC!D43 -> MT40,ZB21,CS20 | E42: =[1]QC!E43 -> 25800 | F42: =[1]QC!F43 -> 7.559332 | G42: =[1]QC!G43 -> 8 | H42: =[1]QC!H43 -> 2x300 | I42: =[1]QC!I43 -> 230 | K42: =[1]QC!K43 -> ~ | L42: =[1]QC!L43 -> ~ | M42: =[1]QC!M43 -> 2 / RCX1634 | N42: =[1]QC!N43 -> 3 / RCX1534 | O42: =[1]QC!Z43 -> 2296.6613 | P42: =[1]QC!AA43 -> 2532.8539 | Q42: =[1]QC!AI43 -> ~ | R42: =[1]QC!AJ43 -> ~
A43: =[1]QC!A44 -> QC005 | B43: =[1]QC!B44 -> CL303C4H | D43: =[1]QC!D44 -> MT50,ZB29,CS27 | E43: =[1]QC!E44 -> 30400 | F43: =[1]QC!F44 -> 8.9071198 | G43: =[1]QC!G44 -> 9 | H43: =[1]QC!H44 -> 3x300 | I43: =[1]QC!I44 -> 230 | K43: =[1]QC!K44 -> ~ | L43: =[1]QC!L44 -> ~ | M43: =[1]QC!M44 -> 3 / RCX2434 | N43: =[1]QC!N44 -> 4 / RCX2034 | O43: =[1]QC!Z44 -> 2476.5458 | P43: =[1]QC!AA44 -> 2712.7383 | Q43: =[1]QC!AI44 -> ~ | R43: =[1]QC!AJ44 -> ~
A44: =[1]QC!A45 -> QC006 | B44: =[1]QC!B45 -> CL303C6H | D44: =[1]QC!D45 -> MT64,ZB38,CS33 | E44: =[1]QC!E45 -> 44800 | F44: =[1]QC!F45 -> 13.126282 | G44: =[1]QC!G45 -> 9 | H44: =[1]QC!H45 -> 3x300 | I44: =[1]QC!I45 -> 230 | K44: =[1]QC!K45 -> ~ | L44: =[1]QC!L45 -> ~ | M44: =[1]QC!M45 -> 4 / RCX3134 | N44: =[1]QC!N45 -> 5 / RCX3034 | O44: =[1]QC!Z45 -> 3073.7623 | P44: =[1]QC!AA45 -> 3309.9548 | Q44: =[1]QC!AI45 -> ~ | R44: =[1]QC!AJ45 -> ~
A45: =[1]QC!A46 -> QC006.1 | B45: =[1]QC!B46 -> CL304C6H | D45: =[1]QC!D46 -> MT80,ZB45,CR72 | E45: =[1]QC!E46 -> 63600 | F45: =[1]QC!F46 -> 18.634632 | G45: =[1]QC!G46 -> 9 | H45: =[1]QC!H46 -> 4x300 | I45: =[1]QC!I46 -> 230 | K45: =[1]QC!K46 -> ~ | L45: =[1]QC!L46 -> ~ | M45: =[1]QC!M46 -> 5 / RCX4734 | N45: =[1]QC!N46 -> 6 / SCX0445 | O45: =[1]QC!Z46 -> 3708.0506 | P45: =[1]QC!AA46 -> 3944.2431 | Q45: =[1]QC!AI46 -> ~ | R45: =[1]QC!AJ46 -> ~
A46: =[1]QC!A47 -> QC007 | B46: =[1]QC!B47 -> CL401C3H | D46: =[1]QC!D47 -> MT22,CS11,zb15 | E46: =[1]QC!E47 -> 10900 | F46: =[1]QC!F47 -> 3.1936713 | G46: =[1]QC!G47 -> 12 | H46: =[1]QC!H47 -> 1x400 | I46: =[1]QC!I47 -> 230 | K46: =[1]QC!K47 -> ~ | L46: =[1]QC!L47 -> ~ | M46: =[1]QC!M47 -> 1 / RCX1234 | N46: =[1]QC!N47 -> 1 / RCX0834 | O46: =[1]QC!Z47 -> 1513.2254 | P46: =[1]QC!AA47 -> 1749.4179 | Q46: =[1]QC!AI47 -> 1841.0704 | R46: =[1]QC!AJ47 -> 2077.2629
A47: =[1]QC!A48 -> QC008 | B47: =[1]QC!B48 -> CL401C4H | D47: =[1]QC!D48 -> MT32,ZB19,CS13 | E47: =[1]QC!E48 -> 14600 | F47: =[1]QC!F48 -> 4.2777615 | G47: =[1]QC!G48 -> 12 | H47: =[1]QC!H48 -> 1x400 | I47: =[1]QC!I48 -> 230 | K47: =[1]QC!K48 -> ~ | L47: =[1]QC!L48 -> ~ | M47: =[1]QC!M48 -> 1 / RCX1234 | N47: =[1]QC!N48 -> 2 / RCX1034 | O47: =[1]QC!Z48 -> 1662.5295 | P47: =[1]QC!AA48 -> 1898.722 | Q47: =[1]QC!AI48 -> 1990.3745 | R47: =[1]QC!AJ48 -> 2226.567
A48: =[1]QC!A49 -> QC009 | B48: =[1]QC!B49 -> CL401C5H | D48: =[1]QC!D49 -> MT36,ZB21,CS17 | E48: =[1]QC!E49 -> 18300 | F48: =[1]QC!F49 -> 5.3618517 | G48: =[1]QC!G49 -> 12 | H48: =[1]QC!H49 -> 1x400 | I48: =[1]QC!I49 -> 230 | K48: =[1]QC!K49 -> ~ | L48: =[1]QC!L49 -> ~ | M48: =[1]QC!M49 -> 2 / RCX1634 | N48: =[1]QC!N49 -> 3 / RCX1534 | O48: =[1]QC!Z49 -> 1818.3251 | P48: =[1]QC!AA49 -> 2054.5176 | Q48: =[1]QC!AI49 -> 2146.1701 | R48: =[1]QC!AJ49 -> 2382.3626
A49: =[1]QC!A50 -> QC010 | B49: =[1]QC!B50 -> CL401C6H | D49: =[1]QC!D50 -> MT40,ZB21,CS20,CS24 | E49: =[1]QC!E50 -> 25800 | F49: =[1]QC!F50 -> 7.559332 | G49: =[1]QC!G50 -> 12 | H49: =[1]QC!H50 -> 1x400 | I49: =[1]QC!I50 -> 230 | K49: =[1]QC!K50 -> ~ | L49: =[1]QC!L50 -> ~ | M49: =[1]QC!M50 -> 3 / RCX2434 | N49: =[1]QC!N50 -> 3 / RCX1534 | O49: =[1]QC!Z50 -> 2013.0696 | P49: =[1]QC!AA50 -> 2249.2621 | Q49: =[1]QC!AI50 -> 2340.9146 | R49: =[1]QC!AJ50 -> 2577.1071
...

Sheet Heat plate
A1: WELLER AIR-COND PARTS ENTERPRISE SDN BHD (613386-K)
A3: =QC!A3 -> DATE :5.12.25
A8: ='[1]Heat plate'!A8 -> ITEM CODE | B8: ='[1]Heat plate'!B8 -> MODEL | C8: ='[1]Heat plate'!C8 -> DESCRIPTION | D8: ='[1]Heat plate'!D8 -> Power(HP) | E8: ='[1]Heat plate'!E8 -> L*W*T (mm) | F8: ='[1]Heat plate'!F8 -> Water flow rate M3/H | G8: ='[1]Heat plate'!G8 -> CONNECTION | H8: ='[1]Heat plate'!H8 -> Power of pump(kw) | I8: ='[1]Heat plate'!N8 -> RM | J8: COMPRESSOR MODEL | K8: BRAND | L8: HP | M8: C/W Condenser sets | N8: ='[1]Heat plate'!$T$8 -> Water chiller with heat plate only(RM)
A9: ='[1]Heat plate'!A9 -> HEAT001 | B9: ='[1]Heat plate'!B9 -> EATB15-12 | C9: HEAT PLATE EXCHANGER FOR WATER CHILLER 0.75HP TILL 300HP | D9: ='[1]Heat plate'!D9 -> 0.3 | E9: ='[1]Heat plate'!E9 -> 220*76*35 | F9: ='[1]Heat plate'!F9 -> 0.22 | G9: ='[1]Heat plate'!G9 -> 4-φ 1/2",1/2" (2hp ~5hp) | H9: ='[1]Heat plate'!H9 -> 0 | I9: ='[1]Heat plate'!N9 -> 435.66278
A10: ='[1]Heat plate'!A10 -> HEAT002 | B10: ='[1]Heat plate'!B10 -> EATB15-16 | D10: ='[1]Heat plate'!D10 -> 0.4 | E10: ='[1]Heat plate'!E10 -> 220*76*44 | F10: ='[1]Heat plate'!F10 -> 0.22 | G10: ='[1]Heat plate'!G10 -> 4-φ 5/8",1/2" (4hp ~ 7hp) | H10: ='[1]Heat plate'!H10 -> 0 | I10: ='[1]Heat plate'!N10 -> 482.80826
A11: ='[1]Heat plate'!A11 -> HEAT003 | B11: ='[1]Heat plate'!B11 -> EATB15-20 | D11: ='[1]Heat plate'!D11 -> 0.5 | E11: ='[1]Heat plate'!E11 -> 220*76*51 | F11: ='[1]Heat plate'!F11 -> 0.22 | G11: ='[1]Heat plate'!G11 -> 4-φ 5/8",5/8" (8hp ~ 12hp) | H11: ='[1]Heat plate'!H11 -> zfi20~zfi39 | I11: ='[1]Heat plate'!N11 -> 529.76132
A12: ='[1]Heat plate'!A12 -> HEAT004 | B12: ='[1]Heat plate'!B12 -> EATB25-12 | D12: ='[1]Heat plate'!D12 -> 0.75 | E12: ='[1]Heat plate'!E12 -> 297*124*34 | F12: ='[1]Heat plate'!F12 -> 0.33 | G12: ='[1]Heat plate'!G12 -> Freon 5/8,7/8 (30hp sub cooler) | H12: ='[1]Heat plate'!H12 -> zfi50-zfi81 | I12: ='[1]Heat plate'!N12 -> 882.10167
A13: ='[1]Heat plate'!A13 -> HEAT004.01 | B13: ='[1]Heat plate'!B13 -> EATB25-D-44 | D13: ='[1]Heat plate'!D13 -> 0 | E13: ='[1]Heat plate'!E13 -> 297*124*116 | F13: ='[1]Heat plate'!F13 -> sub cooler | G13: ='[1]Heat plate'!G13 -> 40hp screw,ZFI96-144 (3/4",3/4") | H13: ='[1]Heat plate'!H13 -> scx4734 / scx0445 zfi96-140 | I13: ='[1]Heat plate'!N13 -> 1576.9271
A14: ='[1]Heat plate'!A14 -> HEAT004.02 | B14: ='[1]Heat plate'!B14 -> EATB52-D-16 | D14: ='[1]Heat plate'!D14 -> 0 | E14: ='[1]Heat plate'!E14 -> 527*112*50 | F14: ='[1]Heat plate'!F14 -> sub cooler | G14: ='[1]Heat plate'!G14 -> 30-40HP (3/4",1 1/8") | H14: ='[1]Heat plate'!H14 -> scx4734 / scx0445 | I14: ='[1]Heat plate'!N14 -> 1106.6882
A15: ='[1]Heat plate'!A15 -> HEAT004.03 | B15: ='[1]Heat plate'!B15 -> EATB52-D-30 | D15: ='[1]Heat plate'!D15 -> 0 | E15: ='[1]Heat plate'!E15 -> 527*112*83 | F15: ='[1]Heat plate'!F15 -> sub cooler | G15: ='[1]Heat plate'!G15 -> 50-60HP (7/8",1 1/8") | H15: ='[1]Heat plate'!H15 -> scx0645 / scx0545 | I15: ='[1]Heat plate'!N15 -> 1639.6972
A16: ='[1]Heat plate'!A16 -> HEAT004.04 | B16: ='[1]Heat plate'!B16 -> EATB52-D-40 | D16: ='[1]Heat plate'!D16 -> 0 | E16: ='[1]Heat plate'!E16 -> 527*112*106 | F16: ='[1]Heat plate'!F16 -> sub cooler | G16: ='[1]Heat plate'!G16 -> 70-80HP (7/8",1 1/8") | H16: ='[1]Heat plate'!H16 -> scx0845 / scx 0857 | I16: ='[1]Heat plate'!N16 -> 2020.1549
A17: ='[1]Heat plate'!A23 -> HEAT005 | B17: ='[1]Heat plate'!B23 -> EATB25-24 | D17: ='[1]Heat plate'!D23 -> 2 | E17: ='[1]Heat plate'!E23 -> 297*124*62 | F17: ='[1]Heat plate'!F23 -> 0.86 | G17: ='[1]Heat plate'!G23 -> Freon 5/8,7/8 water 1" | H17: ='[1]Heat plate'!H23 -> 0.37 | I17: ='[1]Heat plate'!N23 -> 638.25556
A18: ='[1]Heat plate'!A24 -> HEAT006 | B18: ='[1]Heat plate'!B24 -> EATB25-32 | D18: ='[1]Heat plate'!D24 -> 3 | E18: ='[1]Heat plate'!E24 -> 297*124*81 | F18: ='[1]Heat plate'!F24 -> 1.28 | G18: ='[1]Heat plate'!G24 -> Freon 5/8,7/8 water 1" | H18: ='[1]Heat plate'!H24 -> 0.37 | I18: ='[1]Heat plate'!N24 -> 768.77778 | J18: JT95GABY1L | K18: Daikin Scroll Comp 3ph | L18: 3 | M18: ='[1]Heat plate'!#REF! -> #REF! | N18: ='[1]Heat plate'!T24 -> 11913.077
A19: ='[1]Heat plate'!A25 -> HEAT007 | B19: ='[1]Heat plate'!B25 -> EATB25-42 | D19: ='[1]Heat plate'!D25 -> 4 | E19: ='[1]Heat plate'!E25 -> 297*124*104 | F19: ='[1]Heat plate'!F25 -> 1.71 | G19: ='[1]Heat plate'!G25 -> Freon 5/8,7/8 water 1" | H19: ='[1]Heat plate'!H25 -> 0.37 | I19: ='[1]Heat plate'!N25 -> 936.7 | J19: JT125GABY1L | L19: 4 | M19: ='[1]Heat plate'!#REF! -> #REF! | N19: ='[1]Heat plate'!T25 -> 0
A20: ='[1]Heat plate'!A26 -> HEAT008 | B20: ='[1]Heat plate'!B26 -> EATB25-48 | D20: ='[1]Heat plate'!D26 -> 5 | E20: ='[1]Heat plate'!E26 -> 297*124*119 | F20: ='[1]Heat plate'!F26 -> 2.14 | G20: ='[1]Heat plate'!G26 -> Freon 7/8,1 1/8 water 1 1/4" | H20: ='[1]Heat plate'!H26 -> 0.37 | I20: ='[1]Heat plate'!N26 -> 998.46667 | J20: JT160GABY1L | L20: 5 | M20: ='[1]Heat plate'!#REF! -> #REF! | N20: ='[1]Heat plate'!T26 -> 0
A21: ='[1]Heat plate'!A27 -> HEAT009 | B21: ='[1]Heat plate'!B27 -> EATB61-26 | D21: ='[1]Heat plate'!D27 -> 6 | E21: ='[1]Heat plate'!E27 -> 539*125*68 | F21: ='[1]Heat plate'!F27 -> 2.58 | G21: ='[1]Heat plate'!G27 -> Freon 7/8,1 1/8 water 1 1/4" | H21: ='[1]Heat plate'!H27 -> 0.75 | I21: ='[1]Heat plate'!N27 -> 1155.15 | J21: C-SB453H8A | K21: Sanyo Scroll | L21: 6 | M21: ='[1]Heat plate'!#REF! -> #REF! | N21: ='[1]Heat plate'!T27 -> 8140.618
A22: ='[1]Heat plate'!A28 -> HEAT010 | B22: ='[1]Heat plate'!B28 -> EATB61-30 | D22: ='[1]Heat plate'!D28 -> 7 | E22: ='[1]Heat plate'!E28 -> 539*125*77 | F22: ='[1]Heat plate'!F28 -> 3 | G22: ='[1]Heat plate'!G28 -> Freon 7/8,1 1/8 water 1 1/4" | H22: ='[1]Heat plate'!H28 -> 0.75 | I22: ='[1]Heat plate'!N28 -> 1269.9 | J22: HLM081T4LC6 | K22: Danfoss Scroll | L22: 7 | M22: ='[1]Heat plate'!#REF! -> #REF! | N22: ='[1]Heat plate'!T28 -> 0
A23: ='[1]Heat plate'!A29 -> HEAT010.1 | B23: ='[1]Heat plate'!B29 -> EATB61-32 | D23: ='[1]Heat plate'!D29 -> 8 | E23: ='[1]Heat plate'!E29 -> 539*125*82 | F23: ='[1]Heat plate'!F29 -> 3.43 | G23: ='[1]Heat plate'!G29 -> Freon 7/8,1 1/8 water 1 1/4" | H23: ='[1]Heat plate'!H29 -> 0.75 | I23: ='[1]Heat plate'!N29 -> 1327.1333 | J23: ZB58KQE-TFD | K23: Copeland scroll | L23: 8 | M23: ='[1]Heat plate'!#REF! -> #REF! | N23: ='[1]Heat plate'!T29 -> 0
A24: ='[1]Heat plate'!A30 -> HEAT011 | B24: ='[1]Heat plate'!B30 -> EATB61-40 | D24: ='[1]Heat plate'!D30 -> 10 | E24: ='[1]Heat plate'!E30 -> 539*125*100 | F24: ='[1]Heat plate'!F30 -> 4.28 | G24: ='[1]Heat plate'!G30 -> Freon 7/8,1 1/8 water 1 1/4" | H24: ='[1]Heat plate'!H30 -> 0.75 | I24: ='[1]Heat plate'!N30 -> 1556.4444 | J24: SM124A4ALB | K24: Danfoss Scroll | L24: 10 | M24: ='[1]Heat plate'!#REF! -> #REF! | N24: ='[1]Heat plate'!T30 -> 0
A25: ='[1]Heat plate'!A31 -> HEAT012 | B25: ='[1]Heat plate'!B31 -> EATB61-50 | D25: ='[1]Heat plate'!D31 -> 12 | E25: ='[1]Heat plate'!E31 -> 539*125*124 | F25: ='[1]Heat plate'!F31 -> 5.14 | G25: ='[1]Heat plate'!G31 -> Freon 7/8,1 1/8 water 1 1/4" | H25: ='[1]Heat plate'!H31 -> 0.75 | I25: ='[1]Heat plate'!N31 -> 1843.0833 | J25: SM147A4ALB | L25: 12 | M25: ='[1]Heat plate'!#REF! -> #REF! | N25: ='[1]Heat plate'!T31 -> 5914.7365
A26: ='[1]Heat plate'!A32 -> HEAT013 | B26: ='[1]Heat plate'!B32 -> EATB85-44 | D26: ='[1]Heat plate'!D32 -> 15 | E26: ='[1]Heat plate'!E32 -> 564*188*110 | F26: ='[1]Heat plate'!F32 -> 6.42 | G26: ='[1]Heat plate'!G32 -> Freon 7/8,1 3/8 water 2" | H26: ='[1]Heat plate'!H32 -> 1.5 | I26: ='[1]Heat plate'!N32 -> 2563.6944 | J26: SM185S4CC | L26: 15 | M26: ='[1]Heat plate'!#REF! -> #REF! | N26: ='[1]Heat plate'!T32 -> 0
A27: ='[1]Heat plate'!A33 -> HEAT014 | B27: ='[1]Heat plate'!B33 -> EATB85-58 | D27: ='[1]Heat plate'!D33 -> 20 | E27: ='[1]Heat plate'!E33 -> 564*188*142 | F27: ='[1]Heat plate'!F33 -> 8.56 | G27: ='[1]Heat plate'!G33 -> Freon 7/8,1 3/8 water 2" | H27: ='[1]Heat plate'!H33 -> 1.5 | I27: ='[1]Heat plate'!N33 -> 3214.2278 | J27: SY240A4ABB | L27: 20 | M27: ='[1]Heat plate'!#REF! -> #REF! | N27: ='[1]Heat plate'!T33 -> 0
A28: ='[1]Heat plate'!A34 -> HEAT015 | B28: ='[1]Heat plate'!B34 -> EATB85-70 | D28: ='[1]Heat plate'!D34 -> 25 | E28: ='[1]Heat plate'!E34 -> 564*188*170 | F28: ='[1]Heat plate'!F34 -> 10.7 | G28: ='[1]Heat plate'!G34 -> Freon 7/8,1 3/8 water 2" | H28: ='[1]Heat plate'!H34 -> 2.2 | I28: ='[1]Heat plate'!N34 -> 3772.1111 | J28: 06EA265 | K28: CARRIER RECOND COMP | L28: 25 | M28: ='[1]Heat plate'!#REF! -> #REF! | N28: ='[1]Heat plate'!T34 -> 0
